BEGIN:VCALENDAR
VERSION:2.0
PRODID:-//Early Music Department - ECPv6.15.17.1//NONSGML v1.0//EN
CALSCALE:GREGORIAN
METHOD:PUBLISH
X-WR-CALNAME:Early Music Department
X-ORIGINAL-URL:https://mdw.ac.at/altemusik
X-WR-CALDESC:Veranstaltungen für Early Music Department
REFRESH-INTERVAL;VALUE=DURATION:PT1H
X-Robots-Tag:noindex
X-PUBLISHED-TTL:PT1H
BEGIN:VTIMEZONE
TZID:Europe/Vienna
BEGIN:DAYLIGHT
TZOFFSETFROM:+0100
TZOFFSETTO:+0200
TZNAME:CEST
DTSTART:20180325T010000
END:DAYLIGHT
BEGIN:STANDARD
TZOFFSETFROM:+0200
TZOFFSETTO:+0100
TZNAME:CET
DTSTART:20181028T010000
END:STANDARD
BEGIN:DAYLIGHT
TZOFFSETFROM:+0100
TZOFFSETTO:+0200
TZNAME:CEST
DTSTART:20190331T010000
END:DAYLIGHT
BEGIN:STANDARD
TZOFFSETFROM:+0200
TZOFFSETTO:+0100
TZNAME:CET
DTSTART:20191027T010000
END:STANDARD
BEGIN:DAYLIGHT
TZOFFSETFROM:+0100
TZOFFSETTO:+0200
TZNAME:CEST
DTSTART:20200329T010000
END:DAYLIGHT
BEGIN:STANDARD
TZOFFSETFROM:+0200
TZOFFSETTO:+0100
TZNAME:CET
DTSTART:20201025T010000
END:STANDARD
BEGIN:DAYLIGHT
TZOFFSETFROM:+0100
TZOFFSETTO:+0200
TZNAME:CEST
DTSTART:20210328T010000
END:DAYLIGHT
BEGIN:STANDARD
TZOFFSETFROM:+0200
TZOFFSETTO:+0100
TZNAME:CET
DTSTART:20211031T010000
END:STANDARD
END:VTIMEZONE
BEGIN:VEVENT
DTSTART;TZID=Europe/Vienna:20200114T180000
DTEND;TZID=Europe/Vienna:20200114T200000
DTSTAMP:20260424T072928
CREATED:20190719T093044Z
LAST-MODIFIED:20200109T165615Z
UID:3050-1579024800-1579032000@mdw.ac.at
SUMMARY:STUDIENKONZERT | Cembalo
DESCRIPTION:
URL:https://mdw.ac.at/altemusik/event/studienkonzert-cembalo-4/
LOCATION:Franz Liszt-Saal\, Lothringerstraße 18\, Wien\, 1030\, Austria
CATEGORIES:Öffentlich,Studienkonzert
ATTACH;FMTTYPE=image/jpeg:https://mdw.ac.at/altemusik/blog2/wp-content/uploads/2019/07/couchet-1-e1563102254559.jpg
GEO:48.2004678;16.3769716
X-APPLE-STRUCTURED-LOCATION;VALUE=URI;X-ADDRESS=Franz Liszt-Saal Lothringerstraße 18 Wien 1030 Austria;X-APPLE-RADIUS=500;X-TITLE=Lothringerstraße 18:geo:16.3769716,48.2004678
END:VEVENT
BEGIN:VEVENT
DTSTART;TZID=Europe/Vienna:20200110T180000
DTEND;TZID=Europe/Vienna:20200110T203000
DTSTAMP:20260424T072928
CREATED:20190708T095105Z
LAST-MODIFIED:20200109T165425Z
UID:200-1578679200-1578688200@mdw.ac.at
SUMMARY:STUDIENKONZERT | Alte Musik
DESCRIPTION:
URL:https://mdw.ac.at/altemusik/event/studienkonzert-alte-musik-2/
LOCATION:Festsaal Seilerstätte\, Seilerstätte 26\, Wien\, 1010\, Austria
CATEGORIES:Öffentlich,Studienkonzert
ATTACH;FMTTYPE=image/jpeg:https://mdw.ac.at/altemusik/blog2/wp-content/uploads/2019/07/regnier-4.jpg
GEO:48.2042331;16.3737212
X-APPLE-STRUCTURED-LOCATION;VALUE=URI;X-ADDRESS=Festsaal Seilerstätte Seilerstätte 26 Wien 1010 Austria;X-APPLE-RADIUS=500;X-TITLE=Seilerstätte 26:geo:16.3737212,48.2042331
END:VEVENT
BEGIN:VEVENT
DTSTART;TZID=Europe/Vienna:20200109T180000
DTEND;TZID=Europe/Vienna:20200109T200000
DTSTAMP:20260424T072928
CREATED:20190719T092816Z
LAST-MODIFIED:20200109T165646Z
UID:3044-1578592800-1578600000@mdw.ac.at
SUMMARY:STUDIENKONZERT | Cembalo
DESCRIPTION:
URL:https://mdw.ac.at/altemusik/event/studienkonzert-cembalo-3/
LOCATION:Franz Liszt-Saal\, Lothringerstraße 18\, Wien\, 1030\, Austria
CATEGORIES:Cembalo,Öffentlich,Studienkonzert
ATTACH;FMTTYPE=image/jpeg:https://mdw.ac.at/altemusik/blog2/wp-content/uploads/2019/07/couchet-1-e1563102254559.jpg
GEO:48.2004678;16.3769716
X-APPLE-STRUCTURED-LOCATION;VALUE=URI;X-ADDRESS=Franz Liszt-Saal Lothringerstraße 18 Wien 1030 Austria;X-APPLE-RADIUS=500;X-TITLE=Lothringerstraße 18:geo:16.3769716,48.2004678
END:VEVENT
BEGIN:VEVENT
DTSTART;TZID=Europe/Vienna:20191216T180000
DTEND;TZID=Europe/Vienna:20191216T200000
DTSTAMP:20260424T072928
CREATED:20190719T092700Z
LAST-MODIFIED:20191216T112909Z
UID:3041-1576519200-1576526400@mdw.ac.at
SUMMARY:Studienkonzert | Cembalo
DESCRIPTION:Studierende von Erich Traxler\, Augusta Campagne und Dimitri Bondarenko\nGirolamo Frescobaldi (1583-1643)\naus Secondo Libro di Toccate (1627): Toccata Prima\nJosef Gasser\, Cembalo \nGiovanni Girolamo Kapsberger (1580-1651)\naus Primo libro di Arie e passeggiate: „Io amo io ardo“\nMascha Pysmenna\, Sopran Josef Gasser\, Cembalo \nJohann Caspar Kerll (1627-1693)\naus Toccate\, Canzoni\, et altre Sonate\, per sonare sopra il Cembalo o Organo (München 1676):\nToccata III in a\nEkaterina Likhina\, Cembalo \nDario Castello (um 1590-um 1658)\naus Sonate concertate in stil moderno\, libro secondo (1629): Sonata Prima\nSohyun Cho\, Blockflöte Hyewon Woo\, Cembalo \nLuzzasco Luzzaschi (1545-1607)\naus Madrigali per cantare e sonare a uno\, e doi e tre Soprani (Rom 1601):\n„Aura soave“\nŠtefan Tokár\, Blockflöte Ekaterina Likhina\, Cembalo \nJohann Sebastian Bach (1685-1750)\naus Wohltemperiertes Clavier I:\nPräludium und Fuge in D-Dur BWV 850\nJuliana Zhao\, Cembalo \nDiogenio Bigaglia (ca. 1676-1745)\naus XII Sonate a Violino Solo […] Opera Prima (Amsterdam\, ca. 1722):\nSonata IV in g Adagio – Allegro assai – Siciliana – Presto\nStefanie Laimer\, Blockflöte Lenka Petrovic\, Cembalo \nJohann Sebastian Bach (1685-1750)\nToccata D-Dur BWV 912\nRui Cai\, Cembalo \nPause \nGeorg Friedrich Händel (1685-1759)\naus Acht Cembalo Suiten (London 1720)\nSuite Nr. 5 E-Dur\, HWV 430 Präludium – Allemande – Courante – Air mit 5 Variationen\nMario Eritreo\, Cembalo \nCarl Philipp Emanuel Bach (1714-1788)\nSonate in g Wq65/17 (Berlin 1746): Allegro – Adagio – Allegro assai\nMarco Primultini\, Cembalo \nJoseph Haydn (1732-1809)\nFantasia per il Clavicembalo o‘ Forte Piano op. 58\nJosef Gasser\, Cembalo \nWir bedanken uns bei unseren Gästen Mascha Pysmenna\, Sohyun Cho und Štefan Tokár\, sowie bei Stefanie Laimer für die Mitwirkung.
URL:https://mdw.ac.at/altemusik/event/studienkonzert-cembalo-2/
LOCATION:Franz Liszt-Saal\, Lothringerstraße 18\, Wien\, 1030\, Austria
CATEGORIES:Öffentlich
ATTACH;FMTTYPE=image/jpeg:https://mdw.ac.at/altemusik/blog2/wp-content/uploads/2019/07/couchet-e1563097272480.jpg
GEO:48.2004678;16.3769716
X-APPLE-STRUCTURED-LOCATION;VALUE=URI;X-ADDRESS=Franz Liszt-Saal Lothringerstraße 18 Wien 1030 Austria;X-APPLE-RADIUS=500;X-TITLE=Lothringerstraße 18:geo:16.3769716,48.2004678
END:VEVENT
BEGIN:VEVENT
DTSTART;TZID=Europe/Vienna:20191209T180000
DTEND;TZID=Europe/Vienna:20191209T203000
DTSTAMP:20260424T072928
CREATED:20190719T092534Z
LAST-MODIFIED:20191205T135147Z
UID:3038-1575914400-1575923400@mdw.ac.at
SUMMARY:Studienkonzert | Blockflöte
DESCRIPTION:Studierende von Carsten Eckert\nIL DOLCIMELO\nCharles-Marie Widor (1844-1937)\naus der 5. Orgelsinfonie in f-Moll\, op. 42 Nr. 1\, Paris 1879:  \n_4. Toccata. Allegro \nStefan Tokar\, Blockflöte; Márton Borsányi\, Cembalo \n  \nGirolamo Frescobaldi (1583-1643)\naus „Il primo libro delle canzoni ad una\, due\, tre\, e quattro voci. Accomodate\, per sonare ogni sorte de stromenti“ Roma\, 1628:  \nCanzona terza „La Bernadetta“ per canto e basso \nJessica Tognetti\, Blockflöte; Márton Borsányi\, Cembalo \n  \nAurelio Virgiliano (ca. 1540-ca. 1600)\nAus „Il dolcimelo dove si contengono variati\, passaggi\, e diminutioni cosi per voce\, come per tutte sorte d’instrumenti musicali; con loro accordi\, e modi de sonare“\, ca. 1600: \nRicercata seconda per Flauto et ogni altró instrumento \nJulia Herzog\, Blockflöte \n  \nPierre Sandrin (ca. 1490-1561)\nChanson „Doulce Mémoire“  \nDiminutionen von Diego Ortiz  \nElisa Ramberger\, Blockflöte; Reinhard Führer\, Truhenorgel \n  \nPierre Danican-Philidor (1681-1731)\naus „Deuxième œuvre contenant trois\, deux\, une suite à deux flûtes traversières seules et trois\, deux\, une autre suite dessus et basse pour les hautbois\, flûtes\, violons\, etc.“ Paris\, 1717: \nNeuviéme Suitte en sol mineur\n_Lentement\n_Courante. Affecteusement\n_Rigaudon en Rondeau\n_Gigue\n_Fugue \nVictor Petrov\, Blockflöte; Reinhard Führer\, Cembalo \n  \nJohann Sebastian Bach (1685-1750)\nSonate g-Moll (original e-Moll) für Blockflöte und B. c.\, BWV 1034\n_Adagio ma non tanto\n_Allegro\n_Andante\n_Allegro \nSoheyun Cho\, Blockflöte; Reinhard Führer\, Cembalo \n  \nJacques Martin Hotteterre (1673-1763)\naus „Premier Livre de Pieces pour la flûte-traversier\, et autres Instruments“ Paris\, 1715: \nQuatrieme Suite en sol mineur \n_Prelude. Lentement\n_Allemande „La Fontainebleau“. Gravement\n_Air „Le fleuri“. Gayment\n_Gavotte„La Mitilde“. Tendrement\n_Branle de village „L’Auteüil“\n_Menuet „Le Beaulien“ _2e Menuet \nSusanne Knoch\, Blockflöte; Márton Borsányi\, Cembalo \n  \nWilliam Babell (1688-1723)\naus „XII Solos for a Violin or Hautboy with a Bass…“ London\, ca. 1725: Sonata I g minor for quart-flute and basso continuo\n_Adagio\n_Vivace\n_Adagio\n_Allegro  \n(Diminutionen von Magdalena Spielmann)  \nMagdalena Spielmann\, Blockflöte; Reinhard Führer\, Cembalo \n  \nJames Paisible (1656-1721)\naus „Charles Babel Collection“ ca. 1700: Sonata in g minore for two flutes  \n_Adagio\n_Vivace\n_Grave\n_Allegro \nMagdalena Spielmann\, Blockflöte; Lorina Vallaster\, Blockflöte \n  \nGeorg Philipp Telemann (1681-1767)\naus „Essercizii musici overo dodeci soli e dodeci trii a diversi stromenti“\, Hamburg\, 1739: \nSolo d-Moll für Blockflöte und Basso continuo\, TWV 41:d4\n_Affetuoso\n_Presto\n_Grave\n_Allegro \nYasaman Masshouri\, Blockflöte; Márton Borsányi\, Cembalo \n\nFrancesco Maria Veracini (1690-1768)\naus „Sonate a Violino solo e Basso… opera prima“ Dresden\, 1721: Sonata sesta en mi minore \n_Fantasia. Largo – Allegro assai – Largo\n_Alemanda. Larghetto\n_Pastorale. Adagio\n_Giga. Allegro \nLuca Anna Várhelyi\, Blockflöte; Márton Borsányi\, Cembalo \n  \nGiovanni Girolamo Kapsberger (ca. 1580-1651)\naus „Libro primo d’intavolatura di chitarone“ Venetia\, 1604:  \nToccata L’Arpeggiata \nVictor Petrov\, Blockflöte
URL:https://mdw.ac.at/altemusik/event/studienkonzert-blockflote/
LOCATION:Fanny Hensel-Saal\, Anton-von-Webern-Platz 1\, Wien\, 1030\, Austria
CATEGORIES:Öffentlich
ATTACH;FMTTYPE=image/jpeg:https://mdw.ac.at/altemusik/blog2/wp-content/uploads/2019/07/811px-Frans_Hals_-_Singing_Boy_with_Flute_-_Google_Art_Project.jpg
GEO:48.2024634;16.3846447
X-APPLE-STRUCTURED-LOCATION;VALUE=URI;X-ADDRESS=Fanny Hensel-Saal Anton-von-Webern-Platz 1 Wien 1030 Austria;X-APPLE-RADIUS=500;X-TITLE=Anton-von-Webern-Platz 1:geo:16.3846447,48.2024634
END:VEVENT
BEGIN:VEVENT
DTSTART;TZID=Europe/Vienna:20191206T183000
DTEND;TZID=Europe/Vienna:20191206T210000
DTSTAMP:20260424T072928
CREATED:20191024T131446Z
LAST-MODIFIED:20191025T080116Z
UID:5383-1575657000-1575666000@mdw.ac.at
SUMMARY:Collegium Musicum | Ingomar & Jocelyne Rainer | KONZERT
DESCRIPTION:Das Collegium Musicum spielt am 6.12. unter der Leitung von Ingomar und Jocelyne Rainer Musik zum Advent von Schmelzer\, Biber\, Monteverdi\, Eszterhazy und Corrette in der Curhauskapelle bei St. Stephan.
URL:https://mdw.ac.at/altemusik/event/collegium-musicum-ingomar-jocelyne-rainer-konzert/
LOCATION:Curhauskapelle bei St Stephan\, Stephansplatz 3\, Wien\, 1010\, Austria
CATEGORIES:Öffentlich
ATTACH;FMTTYPE=image/jpeg:https://mdw.ac.at/altemusik/blog2/wp-content/uploads/2019/10/45AA6892-B0C0-46B4-BE60-95A52A673095.jpeg
GEO:48.2079738;16.3729
X-APPLE-STRUCTURED-LOCATION;VALUE=URI;X-ADDRESS=Curhauskapelle bei St Stephan Stephansplatz 3 Wien 1010 Austria;X-APPLE-RADIUS=500;X-TITLE=Stephansplatz 3:geo:16.3729,48.2079738
END:VEVENT
BEGIN:VEVENT
DTSTART;TZID=Europe/Vienna:20191206T183000
DTEND;TZID=Europe/Vienna:20191206T203000
DTSTAMP:20260424T072928
CREATED:20190719T092329Z
LAST-MODIFIED:20191129T083546Z
UID:3034-1575657000-1575664200@mdw.ac.at
SUMMARY:Studienkonzert | Traversflöte
DESCRIPTION:Studierende von Gertraud Wimmer\n  \nJoseph Bodin de Boismortier (1689-1755)\n  \nSonate no.3 aus “Sonates en trio pour trois flûtes traversières sans basse “ op.7 (Paris\, 1725) Gravement – Allemande – Lentement – Gavotte en Rondeau – Gayment \nNao Kitabatake\, Yifeng Zhu\, Nicole Henter\, Traversi \n  \nPremière Sonate aus “VI Sonates pour clavecin et une flûtes-traversière “op.91 (Paris\, 1741) Sicilienne-Gayement-Gracieusement-Gayement \nJasmin Vorhauser\, Traverso\nSofya Shapovalova\, Cembalo \n  \nPremière Sonate aus „Sonates a deux flûtes traversieres sans basse “op.7 (Paris\, 1724) Allemande (Gravement) – Gayment – Gavotte – Lentement – Legerement \nEvamaria Felder\, Daniel Ploderer\, Traversi \n  \nSonata no.5 aus “Sonates en trio pour trois flûtes traversières sans basse “op.7 (Paris\, 1725) Rondement – Gayement – Air (gracieusement) – Gayement \nJingwen Nie\, Traverso\nSofyia Shapovalova\, Cembalo \n  \nConcerto no.2 in a minor aus” 6 Concertos Pour 5 Flûtes-traversiéres ou autres instrumens\, sans baße. On peut aussy les joüer avec une Basse “op.15 (Paris\,1727) Allegro-Largo-Allegro \nDaniel Ploderer \, Ching-Yao Wang\, Jingwen Nie \,Jasmin Vorhauser\, Gertraud Wimmer  \n  \n:o: Pause :o: \n  \nSonata no.3 aus “Sonates en trio pour deux haubois\, flûtes-traversières ou violons avec la basse” op.12 (Paris\, 1730) Grave – Allemanda (Allegro) – Affettuoso – Giga  \nDaniel Ploderer\, Jingwen Nie\, Traversi\nSofya Shapovalova\, Cembalo \n  \nSuite no.1 aus „Six Suites de Pièces pour une flute traversière seule avec la basse” op. 35 (Paris\, 1731) Prelude – Allemande – Les Charites Rondeau – L’Emerveillée Gaiment – Gavotte – Menuet  \nDaniel Ploderer\, Traverso \n  \n“L’Automne”: Cantate de basse taille avec simphonie (Paris\, 1738) \n– Prélude\, Récitatif „Où suis je? de quel bruit retentisent les Airs?“\n– Air (Gayment) „Chantons\, dansons\, et qu’on nous verse a boire“\n– Récitatif „Mais profitant des beaux jours de l’Automne“\n– Air (Grasieucement) “ Coule\, coule dans nos veines“\n– Récitatif „Quel est donc de mes Sens l’aveuglement extreme?“\n– Air (Doucement) „Envain la plus fiere beauté“\n– Air (Gayment) „C’en est fait\, a Bachus\, je cede la victoire“ \nSreten Manojlovic\, Bariton\nChing-Yao Wang\, Traversflöte\nSobin Jo\, Cembalo
URL:https://mdw.ac.at/altemusik/event/studienkonzert-traversflote/
LOCATION:Fanny Hensel-Saal\, Anton-von-Webern-Platz 1\, Wien\, 1030\, Austria
CATEGORIES:Öffentlich
ATTACH;FMTTYPE=image/jpeg:https://mdw.ac.at/altemusik/blog2/wp-content/uploads/2019/07/Quantz_by_Gerhard.jpg
GEO:48.2024634;16.3846447
X-APPLE-STRUCTURED-LOCATION;VALUE=URI;X-ADDRESS=Fanny Hensel-Saal Anton-von-Webern-Platz 1 Wien 1030 Austria;X-APPLE-RADIUS=500;X-TITLE=Anton-von-Webern-Platz 1:geo:16.3846447,48.2024634
END:VEVENT
BEGIN:VEVENT
DTSTART;TZID=Europe/Vienna:20191203T183000
DTEND;TZID=Europe/Vienna:20191203T210000
DTSTAMP:20260424T072928
CREATED:20190708T175943Z
LAST-MODIFIED:20191202T123410Z
UID:604-1575397800-1575406800@mdw.ac.at
SUMMARY:Studienkonzert | Blockflöte (Inst. 18)
DESCRIPTION:Studierende von Rahel Stoellger (Inst. 18)\n  \nAngelo Berardi (1636 – 1694) \nCanzona sesta \nSara Glanzer \n  \nGiovanni Battista Fontana (1571 – 1630) \nSonata sesta \nPatricia Nägele \n  \nJohann Sebastian Bach (1685 – 1750) \nOrgeltriosonate BWV 525  \nAllegro – Adagio – Allegro \nChristina Jennewein \n  \nGiovanni Battista Fontana \nSonata seconda \nBarbara Faulend-Klauser \n  \n  \nPaolo Benedetto Bellinzani (1690 – 1757) \nSonata ottava \nAdagio – Allegro – Adagio – Allegro \nLaura Ragger \n  \nArcangelo Corelli (1653 – 1713) \nLa Follia \nVerena Grundner \n  \nFrancesco Mancini (1672 – 1737) \nSonate in e-moll \nAndante – Allegro – Largo – Allegro \nLea Neumeyer \n  \nJacques-Martin Hotteterre (1674 – 1763) \nSuite in B-Dur \nAllemande (le cascade de St. Cloud) – Sarabande (la Guimon) – Courante (L’indifferente) – Rondeau (le plaintif) – Minuet (Le mignon) – Gigue (l’italienne) \nMarlene Olbricht\, Marco Primultini \n  \nGeorg Philipp Telemann (1681 – 1767) \nFantasie Nr. 9 in G-Dur \nAffettuoso – Allegro – Grave – Vivace \nAntonia Weber \n  \nGeorg Philipp Telemann \nSonatine in c-moll \nLargo – Allegro – Dolce – Vivace \nBarbara Faulend-Klauser \n  \nam Cembalo: Eugène Michelangeli und Sonja Leipold
URL:https://mdw.ac.at/altemusik/event/studienkonzert-blockflote-2/
LOCATION:Alter Konzert Saal am Rennweg\, Rennweg 8\, Wien\, 1030\, Austria
CATEGORIES:Öffentlich
ATTACH;FMTTYPE=image/jpeg:https://mdw.ac.at/altemusik/blog2/wp-content/uploads/2019/07/811px-Frans_Hals_-_Singing_Boy_with_Flute_-_Google_Art_Project.jpg
GEO:48.196667;16.380861
X-APPLE-STRUCTURED-LOCATION;VALUE=URI;X-ADDRESS=Alter Konzert Saal am Rennweg Rennweg 8 Wien 1030 Austria;X-APPLE-RADIUS=500;X-TITLE=Rennweg 8:geo:16.380861,48.196667
END:VEVENT
BEGIN:VEVENT
DTSTART;TZID=Europe/Vienna:20191126T183000
DTEND;TZID=Europe/Vienna:20191126T193000
DTSTAMP:20260424T072928
CREATED:20190708T175825Z
LAST-MODIFIED:20191126T075101Z
UID:602-1574793000-1574796600@mdw.ac.at
SUMMARY:Studienkonzert | Alte Musik
DESCRIPTION:Studierende von Gertraud Wimmer\, Michael Schade\, Johannes Weiss\, Wolfgang Glüxam\, Hiro Kurosaki\, Patrick Ayrton…\n  \n 
URL:https://mdw.ac.at/altemusik/event/studienkonzert/
LOCATION:Neuer Konzert Saal am Rennweg\, Rennweg 8\, Wien\, 1030\, Austria
CATEGORIES:Öffentlich
ATTACH;FMTTYPE=image/jpeg:https://mdw.ac.at/altemusik/blog2/wp-content/uploads/2019/07/regnier-5.jpg
GEO:48.196667;16.380861
X-APPLE-STRUCTURED-LOCATION;VALUE=URI;X-ADDRESS=Neuer Konzert Saal am Rennweg Rennweg 8 Wien 1030 Austria;X-APPLE-RADIUS=500;X-TITLE=Rennweg 8:geo:16.380861,48.196667
END:VEVENT
BEGIN:VEVENT
DTSTART;TZID=Europe/Vienna:20191125T180000
DTEND;TZID=Europe/Vienna:20191125T200000
DTSTAMP:20260424T072928
CREATED:20190908T153819Z
LAST-MODIFIED:20191124T124959Z
UID:4651-1574704800-1574712000@mdw.ac.at
SUMMARY:Studienkonzert | Cembalo
DESCRIPTION:Studierende von\nWolfgang Glüxam\, Maja Mijatovic\, Johannes Bogner und Patrick Ayrton\n\n\n\n\n  \nJ. S. Bach (1685-1750) \naus Französische Suite Nr. 5 in G-Dur BWV 816\nAllemande – Courante – Sarabande – Gavotte – Bourée – Loure \nCaroline Atschreiter \n\n  \n\nJ. S. Bach (1685-1750) \naus Wohltemperierten Klavier\, Band 1 \nPräludium und Fuge in Fis-Dur \nJuan Manuel Uribe \n  \nL. Couperin (1626-1661) \nPrélude in g \nOktay Karimishad \n  \nJ.J. Froberger (1616-1667) \n\n\nPartita No.6 in G\, FbWV 606 „Auff die Mayerin“ (1649) \n\n\n\n\nPrima Partita – Seconda Partita – Terza Partita – Quarta Partita – Quinta Partita – Sesta Partita. Cromatica –\nCourante sopra Mayerin – Double – Sarabande sopra Mayerin \nSergio Gasparella \n  \n\n\n\n\nC. Ph. E. Bach (1714-1788) \n12 Variationen über die Folie d’Espagne\, H.263 \nSobin Jo \n  \n*********** \n  \nJ. S. Bach (1685-1750) \naus Englische Suite Nr. 4 in F-Dur BWV 809 (Weimar 1715-20) \nPrélude – Allemande – Courante – Sarabande – Menuett I- II – Gigue \nSonya Shapovalova \n  \nChristian Diendorfer (*1957) \nPsi Song (2010) \n\n\nStefanie Laimer \n  \nW. A. Mozart (1756-1791) \n\n\nSonate in F- Dur\, KV 332\nAdagio-Allegro assai\nHyewon Woo
URL:https://mdw.ac.at/altemusik/event/studienkonzert-cembalo-5/
LOCATION:Alter Konzert Saal am Rennweg\, Rennweg 8\, Wien\, 1030\, Austria
CATEGORIES:Öffentlich
ATTACH;FMTTYPE=image/jpeg:https://mdw.ac.at/altemusik/blog2/wp-content/uploads/2019/09/couchet.jpg
GEO:48.196667;16.380861
X-APPLE-STRUCTURED-LOCATION;VALUE=URI;X-ADDRESS=Alter Konzert Saal am Rennweg Rennweg 8 Wien 1030 Austria;X-APPLE-RADIUS=500;X-TITLE=Rennweg 8:geo:16.380861,48.196667
END:VEVENT
BEGIN:VEVENT
DTSTART;TZID=Europe/Vienna:20191113T180000
DTEND;TZID=Europe/Vienna:20191113T200000
DTSTAMP:20260424T072928
CREATED:20190708T175656Z
LAST-MODIFIED:20191110T221238Z
UID:599-1573668000-1573675200@mdw.ac.at
SUMMARY:Studienkonzert | Cembalo & Kammermusik
DESCRIPTION:Studierende von Erich Traxler\, Augusta Campagne\, Maja Mijatovic und Patrick Ayrton\nW. F. Bach (1710 – 1784)\nConcerto F- Dur\, BR-WFB A 12 (oder F.10)\nSobin Jo\, Hyewon Woo \, Cembalo \n\nAntonio de Cabezón (1510-1566)\n\nDiferencias sobre El Canto llano del Caballero \nMami Tsukio\, Cembalo \nGirolamo Frescobaldi (1583-1643)\naus den Aggiunta aus Toccate e partite d’intavolatura di cimbalo libro primo (Rom 1637): Balletto – Corrente del Balletto – Passacagli – Balletto Secondo – Corrente del Balletto – Balletto – Corrente del Balletto – Passacagli (Altro Tuono)\nMartin Gedeon\, Cembalo \nGiovanni Bonaventura Viviani (1656-1693)\naus den Capricci armonici da Chiesa e da Camera à Violino solo cioè Sinfonie\, Toccate\, Sonate […] et Sonate per Tromba (Venedig 1678):\nToccata Prima: Affettuoso – Veloce – Adagio – Presto – Fuga\nChristine Verdon\, Barockgeige\nMartin Gedeon\, Cembalo \nSamuel Scheidt (1587-1654)\nAlamanda Bruynsmedelijn SSWV 558\nStefanie Laimer\, Cembalo \nG. G. Kapsberger (1580-1651)\naus Libro Primo „Aria passeggiate a una voce con l’intavolatura del chitarone“ (Rom\, 1612): “O cor sempre dolente”\nSebastian Seifert\, Countertenor\nMarco Primultini\, Cembalo \nJ. S. Bach (1685-1750)\nFranzösische Suite no 2 in c BWV 813\nAllemande – Courante – Sarabande – Air\nPiibe Maria Talen\, Cembalo \nJoseph Haydn (1732-1809)\nSonate in D-dur\, Hob XVI/ 37\nAllegro con brio – Presto ma non troppo\nJoseph Zaarour\, Cembalo \nWir bedanken uns bei unseren Gästen Sebastian Seifert und Christine Verdon für die Mitwirkung.
URL:https://mdw.ac.at/altemusik/event/studienkonzert-cembalo/
LOCATION:Franz Liszt-Saal\, Lothringerstraße 18\, Wien\, 1030\, Austria
CATEGORIES:Öffentlich
ATTACH;FMTTYPE=image/jpeg:https://mdw.ac.at/altemusik/blog2/wp-content/uploads/2019/07/couchet-1-e1563102254559.jpg
GEO:48.2004678;16.3769716
X-APPLE-STRUCTURED-LOCATION;VALUE=URI;X-ADDRESS=Franz Liszt-Saal Lothringerstraße 18 Wien 1030 Austria;X-APPLE-RADIUS=500;X-TITLE=Lothringerstraße 18:geo:16.3769716,48.2004678
END:VEVENT
BEGIN:VEVENT
DTSTART;TZID=Europe/Vienna:20191106T193000
DTEND;TZID=Europe/Vienna:20191106T213000
DTSTAMP:20260424T072928
CREATED:20190815T102133Z
LAST-MODIFIED:20191101T174330Z
UID:3825-1573068600-1573075800@mdw.ac.at
SUMMARY:Cantare nel Gravicembalo | KONZERT | Kursteilnehmer_innen
DESCRIPTION:
URL:https://mdw.ac.at/altemusik/event/cantare-nel-gravicembalo-konzert-kursteilnehmer_innen/
LOCATION:Kirche St. Ursula\, Johannesgasse 8\, WIen\, 1010\, Austria
CATEGORIES:Öffentlich
ATTACH;FMTTYPE=image/jpeg:https://mdw.ac.at/altemusik/blog2/wp-content/uploads/2019/08/cantare.jpeg
GEO:48.2042331;16.3737212
X-APPLE-STRUCTURED-LOCATION;VALUE=URI;X-ADDRESS=Kirche St. Ursula Johannesgasse 8 WIen 1010 Austria;X-APPLE-RADIUS=500;X-TITLE=Johannesgasse 8:geo:16.3737212,48.2042331
END:VEVENT
BEGIN:VEVENT
DTSTART;TZID=Europe/Vienna:20191106T193000
DTEND;TZID=Europe/Vienna:20191106T213000
DTSTAMP:20260424T072928
CREATED:20190815T101907Z
LAST-MODIFIED:20191101T174057Z
UID:3821-1573068600-1573075800@mdw.ac.at
SUMMARY:Cantare nel Gravicembalo | KONZERT | Sven Schwannberger
DESCRIPTION:„A mio modo“: Sängerpersönlichkeiten des 17. Jahrhunderts auf der Spur\nSven Schwannberger (Basel/Wien)
URL:https://mdw.ac.at/altemusik/event/cantare-nel-gravicembalo-konzert-sven-schwannberger/
LOCATION:Pfarre St. Michael\, Kapitelsaal\, Habsburgergasse 12\, Wien\, 1010\, Austria
CATEGORIES:Öffentlich
ATTACH;FMTTYPE=image/jpeg:https://mdw.ac.at/altemusik/blog2/wp-content/uploads/2019/08/cantare.jpeg
GEO:48.208059;16.3679982
X-APPLE-STRUCTURED-LOCATION;VALUE=URI;X-ADDRESS=Pfarre St. Michael Kapitelsaal Habsburgergasse 12 Wien 1010 Austria;X-APPLE-RADIUS=500;X-TITLE=Habsburgergasse 12:geo:16.3679982,48.208059
END:VEVENT
BEGIN:VEVENT
DTSTART;TZID=Europe/Vienna:20191105T193000
DTEND;TZID=Europe/Vienna:20191105T213000
DTSTAMP:20260424T072928
CREATED:20190815T101732Z
LAST-MODIFIED:20191105T181904Z
UID:3817-1572982200-1572989400@mdw.ac.at
SUMMARY:Cantare nel Gravicembalo | KONZERT | Elam Rotem /Jacob Lawrence
DESCRIPTION:„Misericordiae Domini“ – Werke von F. Anerio\, Carlo G.\, Cl. Monteverdi\, O. Durante\, E. de’ Cavalieri u.a.\nElam Rotem (Basel) /Jacob Lawrence (Basel)
URL:https://mdw.ac.at/altemusik/event/cantare-nel-gravicembalo-konzert-elam-rotem-jacob-lawrence/
LOCATION:Kirche St. Ursula\, Johannesgasse 8\, WIen\, 1010\, Austria
CATEGORIES:Öffentlich
ATTACH;FMTTYPE=image/jpeg:https://mdw.ac.at/altemusik/blog2/wp-content/uploads/2019/08/cantare.jpeg
GEO:48.2042331;16.3737212
X-APPLE-STRUCTURED-LOCATION;VALUE=URI;X-ADDRESS=Kirche St. Ursula Johannesgasse 8 WIen 1010 Austria;X-APPLE-RADIUS=500;X-TITLE=Johannesgasse 8:geo:16.3737212,48.2042331
END:VEVENT
BEGIN:VEVENT
DTSTART;VALUE=DATE:20191104
DTEND;VALUE=DATE:20191109
DTSTAMP:20260424T072928
CREATED:20190708T175140Z
LAST-MODIFIED:20191101T173624Z
UID:593-1572825600-1573257599@mdw.ac.at
SUMMARY:Cantare nel Gravicembalo | Workshops\, Konzerte & Vorträge
DESCRIPTION:Die Veranstaltung fokussiert einen zentralen Aspekt der Entwicklung in der italienischen Musik um 1600\, der gleichermaßen die Geschichte des Komponierens\, Notierens und der Aufführungspraxis betrifft: die Integration und wichtige Rolle von Akkordinstrumenten in\nder (im weitesten Sinn) musikalischen Produktion. Dabei bildet das Phänomen des Ge- neral- bzw. sog. bezifferten Basses nur eine Spielart eines wesentlich breiter gefächerten Spektrums\, das zudem vielfältige historische Vorstadien aufweist und auf der anderen Seite über das rein Aufführungspraktische hinaus auf das Komponieren und die (theoretische) Konzeption des mehrstimmigen Satzes einwirkt sowie auf bestimmte musikkulturelle Vor- aussetzungen verweist. \nUm eine ebenso vielschichtige wie intensive Auseinandersetzung mit dem Thema zu erreichen\, stehen im Laufe der Woche verschiedene Veranstaltungsformate nebeneinander: Workshops samt Einführungsvorträgen\, Konzerte bzw. lecture recitals\, zwei Kurzsymposien sowie ein abschließender Roundtable. \nProgramm\nMontag\, 4. November\n17 Uhr\, Festsaal Seilerstätte\nEröffnung / Opening: \n\n\nGrußworte des Rektorats der Universität für Musik und darstellende Kunst Wien\nEinführung in die Veranstaltung / General introduction\nAugusta Campagne/Markus Grassl \nHow new was the „New Music“? Rhetoric\, style\, performance\nKeynote: Tim Carter (Chapel Hill) \nMusik von G. Caccini\, G.P. Cima\, J. Peri\, P. Quagliati und A. Stabile\nAusführende: Studierende und Vortragende der Workshops \n\n\n19–21 Uhr\, Festsaal Seilerstätte\nGesangs-Workshop\nMaria Cristina Kiehr (Basel) \nDienstag\, 5. November\n9–12 Uhr\, Festsaal Seilerstätte\n\n\n\nSYMPOSION: HISTORISCHE VORAUSSETZUNGEN UND KULTURELLER KONTEXT / HISTORICAL AND CULTURAL CONTEXT\nModeration: Markus Grassl \nInstrumental performance and artisanship in the age of basso continuo\nRebecca Cypess (New Brunswick) \nNicola Vicentino’s archicembali and the keyboarding of the ars perfecta\nLeon Chisholm (Berlin) \nHistorische Voraussetzungen der Entstehung des Generalbasses\nReinhard Kapp (Wien) \nDas performative Potential der musikalischen Schrift um 1600\nSarah Lutz (Innsbruck) \n\n\n\n\n\n\n\n\n\n\n13.30–16 Uhr\, Festsaal Seilerstätte\n\n\n\nBasso continuo in the early 17th century: How relevant are the earliest treatises?\nThérèse de Goede (Amsterdam) \nWorkshop: Instrumentale Ensemble-Canzonen\nThérèse de Goede \n\n\n\n16.30–19 Uhr\, Collon-Saal Seilerstätte\n\n\n\nGesangs-Workshop\nMaria Cristina Kiehr \nWorkshop: Instrumentale Ensemble-Canzonen\nThérèse de Goede \n\n\n\n19.30 Uhr\, Festsaal Seilerstätte\nKonzert \n„Misericordiae Domini“ – Werke von F. Anerio\, Carlo G.\, Cl. Monteverdi\, O. Durante\, E. de’ Cavalieri u.a.\nElam Rotem (Basel) /Jacob Lawrence (Basel) \nMittwoch\, 6. November\n9–12 Uhr\, Kirche St. Ursula\nVortrag und Workshop: The „Carlo G.“ manuscript\nElam Rotem (Basel) \n13–16 Uhr\, Kirche St. Ursula\n„A thousand kinds of inventions“ – considerations on the continuo playing and improvization described by Maugars (1639)\nGiulia Nuti (Fiesole) \nWorkshop: Stile recitativo in vocal sacred music in Rome in the first half of the seventeenth century\nGiulia Nuti \n16.30–18.30 Uhr\, Kirche St. Ursula\nGesangs-Workshop\nMaria Cristina Kiehr \n19.30 Uhr\, Kirche St. Michael\, Kapitel Saal\nKonzert \n„A mio modo“: Sängerpersönlichkeiten des 17. Jahrhunderts auf der Spur\nSven Schwannberger (Basel/Wien) \n\n\n\n\n\n\nDonnerstag\, 7. November\n9–12 Uhr\, Festsaal Seilerstätte\n\n\n\nSYMPOSION: ASPEKTE DER AUFFÜHRUNGSPRAXIS / ISSUES OF PERFORMANCE PRACTICE\nModeration: Maria Helfgott \nKontrapunkt und Generalbassausführung\nLuciano Contini (Wien) \nDissonanzen in der italienischen Gitarrenmusik des frühen 17. Jahrhunderts\nPierre Pitzl (Wien) \nNATURA & ARS: Problemstellungen und Chancen der Rekonstruktion von Stimmgebrauch des 17. Jahrhunderts\nSven Schwannberger \n„Clavicymbel\, so eine Quart tieffer alß Chor-Thon“ – 12 und 6 Fuß-Cembaloinstrumente in der ersten Hälfte des 17. Jahrhunderts\nEugène Michelangeli (Wien) \n\n\n\n13–16 Uhr\, Festsaal Seilerstätte\nVortrag und Workshop: „Stile recitativo“ in weltlicher römischer Vokalmusik im frühen 17. Jahrhundert\nAnne Marie Dragosits (Wien/Linz) \n19.30 Uhr\, Kirche St. Ursula\nKonzert der Kursteilnehmer_innen \nFreitag\, 8. November\n10–12 Uhr\, Festsaal Seilerstätte\nRoundtable: Cl. Monteverdis Lamento d‘Arianna\nPanel: Tim Carter\, Anne Marie Dragosits\, Thérèse de Goede\, Maria Cristina Kiehr\, Giulia Nuti\, Elam Rotem
URL:https://mdw.ac.at/altemusik/event/cantare-nel-gravicembalo/
LOCATION:Seilerstätte 26\, Seilerstätte 26\, Wien\, 1010\, Austria
CATEGORIES:Öffentlich
ATTACH;FMTTYPE=image/jpeg:https://mdw.ac.at/altemusik/blog2/wp-content/uploads/2019/07/cantare.jpeg
GEO:48.2042331;16.3737212
X-APPLE-STRUCTURED-LOCATION;VALUE=URI;X-ADDRESS=Seilerstätte 26 Seilerstätte 26 Wien 1010 Austria;X-APPLE-RADIUS=500;X-TITLE=Seilerstätte 26:geo:16.3737212,48.2042331
END:VEVENT
END:VCALENDAR