BEGIN:VCALENDAR
VERSION:2.0
PRODID:-//Early Music Department - ECPv6.15.17.1//NONSGML v1.0//EN
CALSCALE:GREGORIAN
METHOD:PUBLISH
X-ORIGINAL-URL:https://mdw.ac.at/altemusik
X-WR-CALDESC:Veranstaltungen für Early Music Department
REFRESH-INTERVAL;VALUE=DURATION:PT1H
X-Robots-Tag:noindex
X-PUBLISHED-TTL:PT1H
BEGIN:VTIMEZONE
TZID:Europe/Vienna
BEGIN:DAYLIGHT
TZOFFSETFROM:+0100
TZOFFSETTO:+0200
TZNAME:CEST
DTSTART:20230326T010000
END:DAYLIGHT
BEGIN:STANDARD
TZOFFSETFROM:+0200
TZOFFSETTO:+0100
TZNAME:CET
DTSTART:20231029T010000
END:STANDARD
BEGIN:DAYLIGHT
TZOFFSETFROM:+0100
TZOFFSETTO:+0200
TZNAME:CEST
DTSTART:20240331T010000
END:DAYLIGHT
BEGIN:STANDARD
TZOFFSETFROM:+0200
TZOFFSETTO:+0100
TZNAME:CET
DTSTART:20241027T010000
END:STANDARD
BEGIN:DAYLIGHT
TZOFFSETFROM:+0100
TZOFFSETTO:+0200
TZNAME:CEST
DTSTART:20250330T010000
END:DAYLIGHT
BEGIN:STANDARD
TZOFFSETFROM:+0200
TZOFFSETTO:+0100
TZNAME:CET
DTSTART:20251026T010000
END:STANDARD
END:VTIMEZONE
BEGIN:VEVENT
DTSTART;TZID=Europe/Vienna:20240420T110000
DTEND;TZID=Europe/Vienna:20240420T123000
DTSTAMP:20260425T172620
CREATED:20240221T102539Z
LAST-MODIFIED:20240418T175619Z
UID:14878-1713610800-1713616200@mdw.ac.at
SUMMARY:BAROQUE ON STAGE! | Studienkonzert Alte Musik
DESCRIPTION:Es spielen Studierende des Instituts für Alte Musik und Gäste. \nEintritt frei. \n  \nProgramm: \n  \nJohann Sebastian BACH (1685 Eisenach – 1750 Leipzig)  \nNach der Orgeltriosonate V (BWV 529) in C-Dur\, eingerichtet für Flauto traverso und obligates Cembalo in F-Dur von Waltraut und Gerhard Kirchner: \nAllegro – Largo – Allegro \n  \nBernhard Plaschitz\, Blockflöte\nReinhard Führer\, Cembalo \n  \n  \nJohann Sebastian BACH (1685 Eisenach – 1750 Leipzig) \nArie „Ei\, wie schmeckt der Coffee süsse“\naus der Kaffeekantate BWV 211 (Leipzig ca.1734/35) \n  \nKyo Na Park\, Sopran\nAgnes Anna Toth\, Traverso\nJuliana Zhao\, Cembalo \n  \n  \nJean BARRIÈRE (1707 Bordeaux – 1747 Paris) \nSonata VI c-moll\naus: Livre II de sonates pour violoncelle et le basse continue (Paris 1735) \nAdagio – Allegro – Larghetto – Giga \n  \nLorenz Haller\, Violoncello solo\nMatthäus Pescoller\, Violoncello continuo\nReinhard Führer\, Cembalo \n  \n  \nJohann Sebastian BACH (1685 Eisenach – 1750 Leipzig) \nRezitativ & Arie „Schafe können sicher weiden“\naus: Was mir behagt\, ist nur die muntre Jagd BWV 208 (Weimar 1713)  \n  \nMegumi Sakai\, Sopran\nBernhard Plaschitz & Verena Grundner\, Blockflöte\nStefan Gottfried\, Cembalo
URL:https://mdw.ac.at/altemusik/event/baroque-on-stage-studienkonzert-alte-musik-36/
LOCATION:Fanny Hensel-Saal\, Anton-von-Webern-Platz 1\, Wien\, 1030\, Austria
CATEGORIES:Alte Musik,Öffentlich,Studienkonzert
ATTACH;FMTTYPE=image/jpeg:https://mdw.ac.at/altemusik/blog2/wp-content/uploads/2023/03/05_Wiener_Matinee_©Wikimedia_free.jpg
GEO:48.2024634;16.3846447
X-APPLE-STRUCTURED-LOCATION;VALUE=URI;X-ADDRESS=Fanny Hensel-Saal Anton-von-Webern-Platz 1 Wien 1030 Austria;X-APPLE-RADIUS=500;X-TITLE=Anton-von-Webern-Platz 1:geo:16.3846447,48.2024634
END:VEVENT
BEGIN:VEVENT
DTSTART;TZID=Europe/Vienna:20240420T150000
DTEND;TZID=Europe/Vienna:20240420T163000
DTSTAMP:20260425T172620
CREATED:20240221T102650Z
LAST-MODIFIED:20240418T180245Z
UID:14881-1713625200-1713630600@mdw.ac.at
SUMMARY:BAROQUE ON STAGE! | Studienkonzert Alte Musik
DESCRIPTION:Es spielen Studierende vom Institut für Alte Musik und Gäste.\nEintritt frei! \nProgramm: \n  \nGeorg Philipp TELEMANN (1681 Magdeburg – 1767 Hamburg) \nSonate II F-Dur\naus: Quatrième Livre de Quatuors TWV 43:F1 (1752) \nAdagio – Allegro – Adagio – Allegro \n  \nDaniel Ploderer\, Traverso\nYuliya Kazimirovich\, Violine\nHiroyo Watanabe\, Viola\nStefan Teufert\, Violoncello\nPiibe Talen\, Cembalo \n  \nJean-Philippe RAMEAU (1683 Dijon – 1764 Paris) \nSuite a-moll\naus: Premier Livre de Pièces de Clavecin (Paris 1706) \nPrélude – Allemande l – Courante – Gigue – Sarabande l – Vénitienne – Gavotte – Menuet \n  \nChun-Shih Lin\, Cembalo \n  \n  \nJean-Philippe RAMEAU \nCantata „L´Impatience“\, RCT26\, \nText: Anonym \nMegumi Sakai\, Sopran\nStefan Teufert\, Violoncello\nRui Cai\, Cembalo \n  \n  \nAntoine Forqueray (1672 Paris – 1745 Mantes-la-Jolie bei Paris)\nJean-Baptiste-Antoine Forqueray (1699 Paris – 1782 Paris) \nLa Sylva – La Mandoline\naus: Pièces de viole composées par Mr. Forqueray le père. Mises en pièces de clavecin par Mr. Forqueray le fils (Paris 1747) \n  \nChia-Yu Lin\, Cembalo \n  \n  \nAntonio CALDARA (1670 Venedig – 1736 Wien) \nNr.1 Nr.14 Nr.20 (Adagio) Nr.24\naus den 44 Lezioni per il Violoncello con il suo Basso (ca.1700) \n  \nStefan Teufert\, Violoncello\nRose Chaffey\, Violoncello \n  \n  \nGeorg Philipp TELEMANN (1681 Magdeburg – 1767 Hamburg) \nQuartett d-moll TWV 43:d1\naus: Musique de table II (Hamburg 1733) \nAndante – Allegro – Largo –  Allegro \n  \nBritta Kähny\, Flauto dolce \nJulia Klampfer\, Flauto Traverso\nRéka Bégány\, Flauto Traverso\nStefan Teufert\, Violoncello\nRui Cai\, Cembalo
URL:https://mdw.ac.at/altemusik/event/baroque-on-stage-studienkonzert-alte-musik-37/
LOCATION:Fanny Hensel-Saal\, Anton-von-Webern-Platz 1\, Wien\, 1030\, Austria
CATEGORIES:Alte Musik,Öffentlich,Studienkonzert
ATTACH;FMTTYPE=image/jpeg:https://mdw.ac.at/altemusik/blog2/wp-content/uploads/2023/03/05_Wiener_Matinee_©Wikimedia_free.jpg
GEO:48.2024634;16.3846447
X-APPLE-STRUCTURED-LOCATION;VALUE=URI;X-ADDRESS=Fanny Hensel-Saal Anton-von-Webern-Platz 1 Wien 1030 Austria;X-APPLE-RADIUS=500;X-TITLE=Anton-von-Webern-Platz 1:geo:16.3846447,48.2024634
END:VEVENT
END:VCALENDAR