BEGIN:VCALENDAR
VERSION:2.0
PRODID:-//Early Music Department - ECPv6.15.17.1//NONSGML v1.0//EN
CALSCALE:GREGORIAN
METHOD:PUBLISH
X-ORIGINAL-URL:https://mdw.ac.at/altemusik
X-WR-CALDESC:Veranstaltungen für Early Music Department
REFRESH-INTERVAL;VALUE=DURATION:PT1H
X-Robots-Tag:noindex
X-PUBLISHED-TTL:PT1H
BEGIN:VTIMEZONE
TZID:Europe/Vienna
BEGIN:DAYLIGHT
TZOFFSETFROM:+0100
TZOFFSETTO:+0200
TZNAME:CEST
DTSTART:20230326T010000
END:DAYLIGHT
BEGIN:STANDARD
TZOFFSETFROM:+0200
TZOFFSETTO:+0100
TZNAME:CET
DTSTART:20231029T010000
END:STANDARD
BEGIN:DAYLIGHT
TZOFFSETFROM:+0100
TZOFFSETTO:+0200
TZNAME:CEST
DTSTART:20240331T010000
END:DAYLIGHT
BEGIN:STANDARD
TZOFFSETFROM:+0200
TZOFFSETTO:+0100
TZNAME:CET
DTSTART:20241027T010000
END:STANDARD
BEGIN:DAYLIGHT
TZOFFSETFROM:+0100
TZOFFSETTO:+0200
TZNAME:CEST
DTSTART:20250330T010000
END:DAYLIGHT
BEGIN:STANDARD
TZOFFSETFROM:+0200
TZOFFSETTO:+0100
TZNAME:CET
DTSTART:20251026T010000
END:STANDARD
END:VTIMEZONE
BEGIN:VEVENT
DTSTART;TZID=Europe/Vienna:20240628T150000
DTEND;TZID=Europe/Vienna:20240628T163000
DTSTAMP:20260425T144913
CREATED:20240221T104329Z
LAST-MODIFIED:20240627T220342Z
UID:14897-1719586800-1719592200@mdw.ac.at
SUMMARY:BAROQUE ON STAGE! | Studienkonzert Alte Musik
DESCRIPTION:Es spielen Studierende vom Institut für Alte Musik und Gäste.\nEintritt frei! \n  \nBiagio Marini (1594-1663)  \nCanzona „La Hiacinta“ aus „Affetti Musicali“ op.1 (Venedig 1617) \n  \nDario Castello (1602-1631)  \nSonata sesta aus „Sonate concertate in stil moderno“ (Venedig 1658) \n  \nDesiree Wöhrer\, Blockflöte\nRui Cai\, Orgel\nMartin Ortner\, Posaune \n  \nMelchior Pichler (1695 in Wien-1780 ?) \nParthie á 4 Chalumeaux (1716)\, MS.1873 Stift Göttweig \nPrélude – Air – Allemande – Menuett – Trio – Cheur \n  \nRegine Müller\, Franziska Hoffmann\, Diskant-Chalumeau\nSimon Pibal\, Bass-Chalumeau\nErnst Schlader\, Basson du Chalumeau \n  \n  \nR. Maier (Niederschrift um 1900)  \nSpazierwalzer\, Karnburg u. Umgebung \naus: Kärntner Volkstänze. Aus den Volkstanzfesten von R. Maier.\nfür zwei historische Nasenflöten \n  \nSimon Pibal\, Ernst Schlader\, Nasenflöten \n  \nGottfried Finger (ca. 1660–1730) \nSonate in C-Dur für Trompete (interpretiert auf barocker Klarinette)\, Oboe und B.C. \n[ohne Satzbezeichnung] – Adagio [Oboe Solo] – [ohne Satzbezeichnung\, Trompete Solo] – Grave \nVerena Grundner\, Barockoboe\nSimon Pibal\, Barockklarinette\nMarius Malanetchi\, Violoncello\nReinhard Führer\, Cembalo  \n  \nJohann Gottlieb Graun (1703 – 1771) \nSonate für Violine und Basso continuo in G-Dur\, GraunWV Av:XVII:35 \nDominik Fischer\, Violine\nMárton Borsányi\, Cembalo \n  \n  \nJohann Valentin Rathgeber (1682–1750)  \nKonzert Nr. 19 aus „Chelys sonora“\, op. 6 (Augsburg 1728) \nAllegro – Adagio – Allegro \n  \nSimon Pibal\, Barockklarinette\nDominik Fischer\, Hiroyo Watanabe\, Violine\nMarius Malanetchi\, Violoncello\nReinhard Führer\, Orgel \n  \n  \nBernhard Henrik Crusell (1775 – 1838) \naus dem Klarinetten-Duo op.6 Nr.3 (veröffentlicht 1821 bei C.F. Peters\,Leipzig) mit später von einem anonymen Bearbeiter hinzugefügten Klavierstimme ad libitum für den 2.und 3.Satz: \nAndante – Allegro vivace  \n  \nRegine Müller\, klassische Klarinette mit 6 Klappen\nFranziska Hoffmann \,klassische Klarinette mit 12 Klappen\nTzu-Yu Yang\, Hammerklavier \n  \nJoseph Haydn (1732-1809) \n„Arianna a Naxos“\, Hob. XXVIb:2 (1789)  \nDer italienische Originaltext ist anonym überliefert. \n  \nSarah Mair\, Mezzosopran\nReinhard Führer\, Hammerklavier \n  \nJean-Henry d’Anglebert (1629 – 1691) \nSuite Nr. 3 d-Moll  \nPrelude – Allemande – Courante – Courante  \n  \nYuewen Yu\, Cembalo \n  \nFrancesco Maria Veracini (1690–1768) \naus einer Sammlung von Sonaten (A-Wgm: 17 Sonaten für Violine und Bass\, IX 8707) aus dem Archiv der Gesellschaft der Musikfreunde Wien: \nSonate für Sciallamoè Nr.II in B-Dur \nAdagio – Allegro – Larghetto – Allegro – Allegro \n  \nFranziska Hoffmann\, Chalumeau\nDesirée Wöhrer\, Viola da Gamba\nReinhard Führer\, Cembalo
URL:https://mdw.ac.at/altemusik/event/baroque-on-stage-studienkonzert-alte-musik-39/
LOCATION:Festsaal Seilerstätte\, Seilerstätte 26\, Wien\, 1010\, Austria
CATEGORIES:Alte Musik,Öffentlich,Studienkonzert
ATTACH;FMTTYPE=image/jpeg:https://mdw.ac.at/altemusik/blog2/wp-content/uploads/2023/03/05_Wiener_Matinee_©Wikimedia_free.jpg
GEO:48.2042331;16.3737212
X-APPLE-STRUCTURED-LOCATION;VALUE=URI;X-ADDRESS=Festsaal Seilerstätte Seilerstätte 26 Wien 1010 Austria;X-APPLE-RADIUS=500;X-TITLE=Seilerstätte 26:geo:16.3737212,48.2042331
END:VEVENT
BEGIN:VEVENT
DTSTART;TZID=Europe/Vienna:20240629T110000
DTEND;TZID=Europe/Vienna:20240629T123000
DTSTAMP:20260425T144913
CREATED:20240221T104633Z
LAST-MODIFIED:20240628T152337Z
UID:14903-1719658800-1719664200@mdw.ac.at
SUMMARY:BAROQUE ON STAGE! | Studienkonzert Alte Musik
DESCRIPTION:Es spielen Studierende vom Institut für Alte Musik und Gäste.\nEintritt frei! \n  \nCarl Philipp Emanuel Bach (1714-1788) \nSonata 1\, aus: „Exempel nebst achtzehn Probe Stücken in Sechs Sonaten“ \nAllegretto tranquillamente – Andante innocentemente – Tempo di minuette con tenerezza \n  \nTaeri Lee\, Clavichord \n  \n  \nJohann Sebastian Bach (1685-1750) \nSuite Nr.4 für Cello in Es-Dur (BWV 1010) \nPrelude – Allemande – Courante – Sarabande – Bourrée I – Bourrée II – Gigue \n  \nRose Chaffey\, Violoncello \n  \n  \nJoseph Bodin de Boismortier (1689-1755) \nSonate op.26 No.5 pour violoncelle et basse continue \nAllemande – Aria – Adagio – Gigue \n  \nJulika Hasler\, Violoncello\nPetra Zenker\, Cembalo \n  \n  \nLuigi Boccherini (1743-1805) \nSonata No.2 bis in Do minore\, G.2b: Adagio \n  \nJulika Hasler\, Violoncello\nRose Chaffey\, Violoncello continuo \n  \n  \nMonsieur de Saint Colombe (ca. 1640-1700) \naus dem Tournus Manuskript: \nPrelude – Chaconne in d \n  \nMarius Malanetchi\, Viola da Gamba \n  \nKarl Friedrich Abel (1723-1787) \naus dem Drexel Manuskript:  \n[Arpeggiata] – Adagio – [Allegro] \n  \nMarius Malanetchi\, Viola da Gamba \n  \n  \nJean-Baptiste Barrière (1707-1747) \nSonata für Violoncello und Basso continuo in h-Moll \nAdagio – Allegro – Adagio – Allegro \n  \nNikita Ruzhavinskii\, Violoncello\nDaria Savvateeva\, Cembalo  \n  \n  \nLudwig van Beethoven (1770–1827) \nSonate für Horn und Klavier\, op. 17 (1800) in einer Bearbeitung für Bassetthorn von Joseph Friedlowsky (1801) \nAllegro moderato – Poco adagio quasi Andante – Allegro ma non troppo \n  \nSimon Pibal\, Bassetthorn\nTzu-Yu Yang\, Hammerklavier
URL:https://mdw.ac.at/altemusik/event/baroque-on-stage-studienkonzert-alte-musik-40/
LOCATION:Festsaal Seilerstätte\, Seilerstätte 26\, Wien\, 1010\, Austria
CATEGORIES:Alte Musik,Öffentlich,Studienkonzert
ATTACH;FMTTYPE=image/jpeg:https://mdw.ac.at/altemusik/blog2/wp-content/uploads/2023/03/05_Wiener_Matinee_©Wikimedia_free.jpg
GEO:48.2042331;16.3737212
X-APPLE-STRUCTURED-LOCATION;VALUE=URI;X-ADDRESS=Festsaal Seilerstätte Seilerstätte 26 Wien 1010 Austria;X-APPLE-RADIUS=500;X-TITLE=Seilerstätte 26:geo:16.3737212,48.2042331
END:VEVENT
BEGIN:VEVENT
DTSTART;TZID=Europe/Vienna:20240629T150000
DTEND;TZID=Europe/Vienna:20240629T163000
DTSTAMP:20260425T144913
CREATED:20240221T104744Z
LAST-MODIFIED:20240628T151939Z
UID:14906-1719673200-1719678600@mdw.ac.at
SUMMARY:BAROQUE ON STAGE! | Studienkonzert Alte Musik
DESCRIPTION:Es spielen Studierende vom Institut für Alte Musik und Gäste.\nEintritt frei! \n  \nGeorg Philipp Telemann (1681 – 1767) \nKantate „Seele\, lerne dich erkennen“ TVWV 1:1258\, aus dem Harmonischen Gottesdienst \n  \nLea Bodner\, Sopran\nVerena Grundner\, Blockflöte\nMatthäus Pescoller\, Cello\nReinhard Führer\, Cembalo \n  \n  \nJohn Bull (1562 – 1628) \n„Walsingham“ \n  \nLasha Kvaratskhelia\, Cembalo \n  \n  \nFrancesco Veracini (1690-1768) \naus: „12 Sonate a Violino\, o Flauto Solo\, e Basso“: Sonata Prima in F-Dur \nLargo e nobile – Allegro – Largo – Allegro \n  \nBernhard Plaschitz\, Blockflöte\nReinhard Führer\, Cembalo \n  \n  \nAlessandro Poglietti (gest. Wien 1683) \naus: „Rossignolo“ (1677): \n* Aria Allemagna con alcuni Variationi sopra l’Età della Maestà Vostra\n* Aria bizzarra del Rossignolo\n* Imitatione del medesimo Uccello \n  \nGoetz Bienert\, Cembalo \n  \n  \n Antonio Vivaldi (1678-1741)               \nArie  „Un guardo oh Dio” (Ua. 1733) aus der Oper Montezuma  \n  \nLea Bodner\, Sopran\nPatricia Nägele\, Verena Grundner\, Blockflöten\nReinhard Führer\, Cembalo\nMatthäus Pescoller\, Cello \n  \n  \n         *  *  *  *  * \n  \n  \nJean-Xavier Lefèvre (1763 – 1829) \n  \nDuo Nr.1 aus: „Trois Duos pour clarinette et basson“\, oeuvre A\, ca.1800 \nAllegro – Rondeau: Allegretto \n  \nRegine Müller\, Klarinette\nStefan Teufert\, Cello \n  \n\nWolfgang Amadé Mozart (1756-1791)            \n \nArie „Et incarnatus est“ (Ua. 1783 ) aus der Messe in c-Moll \n  \nLea Bodner\, Sopran\nReinhard Führer\, Hammerklavier \n\n \n \nRobert Stark (1847 – 1922) \nSonate g-Moll aus op.49 für zwei Klarinetten und Bassetthorn\, gedruckt 1897 \nAllegro maestoso – Adagio – Allegro molto quasi Presto \n  \nErnst Schlader\, Regine Müller\, Klarinetten\nRupert Fankhauser\, Bassetthorn
URL:https://mdw.ac.at/altemusik/event/baroque-on-stage-studienkonzert-alte-musik-41/
LOCATION:Festsaal Seilerstätte\, Seilerstätte 26\, Wien\, 1010\, Austria
CATEGORIES:Alte Musik,Öffentlich,Studienkonzert
ATTACH;FMTTYPE=image/jpeg:https://mdw.ac.at/altemusik/blog2/wp-content/uploads/2021/09/Konzert_der_Damen__Flämischer_Meister_um_1530-1-scaled.jpg
GEO:48.2042331;16.3737212
X-APPLE-STRUCTURED-LOCATION;VALUE=URI;X-ADDRESS=Festsaal Seilerstätte Seilerstätte 26 Wien 1010 Austria;X-APPLE-RADIUS=500;X-TITLE=Seilerstätte 26:geo:16.3737212,48.2042331
END:VEVENT
END:VCALENDAR