BEGIN:VCALENDAR
VERSION:2.0
PRODID:-//Early Music Department - ECPv6.15.17.1//NONSGML v1.0//EN
CALSCALE:GREGORIAN
METHOD:PUBLISH
X-ORIGINAL-URL:https://mdw.ac.at/altemusik
X-WR-CALDESC:Veranstaltungen für Early Music Department
REFRESH-INTERVAL;VALUE=DURATION:PT1H
X-Robots-Tag:noindex
X-PUBLISHED-TTL:PT1H
BEGIN:VTIMEZONE
TZID:Europe/Vienna
BEGIN:DAYLIGHT
TZOFFSETFROM:+0100
TZOFFSETTO:+0200
TZNAME:CEST
DTSTART:20240331T010000
END:DAYLIGHT
BEGIN:STANDARD
TZOFFSETFROM:+0200
TZOFFSETTO:+0100
TZNAME:CET
DTSTART:20241027T010000
END:STANDARD
BEGIN:DAYLIGHT
TZOFFSETFROM:+0100
TZOFFSETTO:+0200
TZNAME:CEST
DTSTART:20250330T010000
END:DAYLIGHT
BEGIN:STANDARD
TZOFFSETFROM:+0200
TZOFFSETTO:+0100
TZNAME:CET
DTSTART:20251026T010000
END:STANDARD
BEGIN:DAYLIGHT
TZOFFSETFROM:+0100
TZOFFSETTO:+0200
TZNAME:CEST
DTSTART:20260329T010000
END:DAYLIGHT
BEGIN:STANDARD
TZOFFSETFROM:+0200
TZOFFSETTO:+0100
TZNAME:CET
DTSTART:20261025T010000
END:STANDARD
END:VTIMEZONE
BEGIN:VEVENT
DTSTART;TZID=Europe/Vienna:20250129T190000
DTEND;TZID=Europe/Vienna:20250129T203000
DTSTAMP:20260425T040124
CREATED:20240914T185517Z
LAST-MODIFIED:20250129T101456Z
UID:15869-1738177200-1738182600@mdw.ac.at
SUMMARY:BAROQUE ON STAGE! | Studienkonzert Alte Musik
DESCRIPTION:Es spielen Studierende des Instituts für Alte Musik und Gäste.\nEintritt frei! \n  \nFrançois Philidor (1689 – 1716) \nPièces pour la flûte traversiere\, (Paris\, 1716)\nAus der Suite en G: Prelude – Menuet \nBrina Unuk\, Traverso\nKamil Anioł\, Erzlaute \n  \nAntoine Francisque (ca. 1575 – 1605) \nLe Tresor d’Orphée (Paris\, 1600)\n6 Branles \nKamil Anioł\, Erzlaute \n  \nJacob Herman Kleyn (1688-1748) \nAus den „6 Sonaten für Cello Solo und Basso continuo Opus 4“ 1746 \nSonate 5 in a-Moll\nPoco Allegro – Adagio – Allegro  \nLisa Braun\, Violoncello\nSarah-Maria Pilwax\, Cembalo \n  \nJohann Sebastian Bach (1685-1750) \nAus der Suite Nr. VI in D-Dur\, BWV 1012\nPrélude  \nStefan Teufert\, Violoncello \n  \nSalvatore Lanzetti (1710-1780) \nSonate op. 1 Nr. 10 in fis-moll für Violoncello Solo und Basso Continuo\nAllegro – Adagio – Allegretto – Presto \nHannah Stoellger\, Violoncello\nSobin Jo\, Cembalo \n  \nJean-Marie Leclair (1697-1764) \nSonata in e-Moll op. 2\, Nr. 1\nAdagio – Allegro ma poco – Sarabanda\, Largo – Allegro \nKathrin Waldner\, Traversflöte\nRose Chaffey\, Violoncello\nSobin Jo\, Cembalo \n  \nJoseph Michael Haydn (1737-1806) \nConcertino per Clarinetto in La aus einer Salzburger Orchesterserenade in D-Dur (komponiert 1764)\nAndante \nRegine Müller\, klassische Klarinette in A\nTzu-Yu Yang\, Hammerklavier \n  \nLudwig van Beethoven (1770-1827) \nSonate in F für Horn und Klavier op.17 (komponiert 1800\,Erstdruck 1801)\nin einer historischen Fassung für Bassetthorn von Joseph Friedlowsky (1777 Prag – 1859 Wien)\, um 1825 \nAllegro moderato \n Tzu-Yu Yang\,Hammerklavier\nRegine Müller\,klassisches Bassetthorn in F \n  \nSigismund Ritter von Neukomm (1778-1885) \n„Fantasie“ für Klarinette und Klavier\nAdagio sostenuto – Andante – Rondo\, Allegro molto \nFranziska Hoffmann\, Klarinette\nTzu-Yu Yang\, Hammerklavier \n  \nWolfgang Amadé Mozart (1756-1791) \nAus dem Fagottkonzert in B-Dur K191\nAllegro  \nBálint Vertesi\, klassisches Fagott\nTzu-Yu Yang\, Hammerklavier
URL:https://mdw.ac.at/altemusik/event/studienkonzert-cembalo-26/
LOCATION:Festsaal Seilerstätte\, Seilerstätte 26\, Wien\, 1010\, Austria
CATEGORIES:Alte Musik,Öffentlich,Studienkonzert
ATTACH;FMTTYPE=image/jpeg:https://mdw.ac.at/altemusik/blog2/wp-content/uploads/2024/03/Santa-Caecilia-©Jacques-Blanchard-4-3.jpg
GEO:48.2042331;16.3737212
X-APPLE-STRUCTURED-LOCATION;VALUE=URI;X-ADDRESS=Festsaal Seilerstätte Seilerstätte 26 Wien 1010 Austria;X-APPLE-RADIUS=500;X-TITLE=Seilerstätte 26:geo:16.3737212,48.2042331
END:VEVENT
BEGIN:VEVENT
DTSTART;TZID=Europe/Vienna:20250131T150000
DTEND;TZID=Europe/Vienna:20250131T163000
DTSTAMP:20260425T040124
CREATED:20240914T185339Z
LAST-MODIFIED:20250130T104316Z
UID:15866-1738335600-1738341000@mdw.ac.at
SUMMARY:BAROQUE ON STAGE! | Studienkonzert Alte Musik
DESCRIPTION:Es spielen Studierende des Instituts für Alte Musik und Gäste.\nEintritt frei! \nProgramm: \nJohann Friedrich Fasch (1688 – 1758) \nConcerto in B-Dur\nfür Chalumeau und Orchester \nLargo – Un poco Allegro – Largo – Allegro \nentstanden zwischen 1727 und 1734 wahrscheinlich für den Fagott-und Chalumeau-Virtuosen J.C.Klotsch \nRegine Müller\, Sopran-Chalumeau \nMarco Vitale\, Cembalo \n  \nHeinrich Ignaz Franz Biber\n(1644 – 1704) \nSonata I für Violine und Basso Continuo\nin A-Dur\, C 138 \nDominik Fischer\, Violine \nRui Cai\, Orgel \n  \nJ.S Bach (1645 – 1750) \nConcerto nach italienischem Gusto \naus dem zweiten Teil der Clavierübung \nOhne Satzbezeichnung – Andante – Presto \nDohyeon Lee\, Cembalo \n  \nGeorg Philipp Telemann\n(1681 – 1767) \naus „Sonate Metodiche á Violino Solo ó Flauto traverso“: \nSonata in C-Dur\nAdagio – Vivace – Cortesemente – Vivace  \nBernhard Plaschitz\, Blockflöte \nReinhard Führer\, Cembalo \n  \n  \nLudwig van Beethoven (1770 – 1827) \n Sonate in d-Moll\, Op. 31 Nr. 2 \nLargo-Allegro – Adagio – Allegretto  \nClara Reinisch\, Hammerklavier \n  \nWilliam Byrd (1543 – 1623) \n \n„The Battell“\, aus „My Ladye Nevells Booke of Virginal Music“ \n  \n\nThe Souldier’s Sommons\nThe Marche of the Footemen\nThe Marche of the Horsemen\nThe Trumpetts\nThe Irish Marche\nThe Bagpipe and the Drone\nThe Flute and the Droome\nThe Marche to the Fight\nThe Retreat\n\n  \nBritta Kähny\, Cembalo \n  \nAntonio Vivaldi (1678 – 1741)\nKonzert für Violoncello Nr.27 in H-Moll RV 424 \nAllegro non molto – Largo – Allegro  \nJulika Hasler\, Violoncello \nJohannes Bogner\, Cembalo
URL:https://mdw.ac.at/altemusik/event/baroque-on-stage-studienkonzert-alte-musik-50/
LOCATION:Festsaal Seilerstätte\, Seilerstätte 26\, Wien\, 1010\, Austria
CATEGORIES:Alte Musik,Öffentlich,Studienkonzert
ATTACH;FMTTYPE=image/jpeg:https://mdw.ac.at/altemusik/blog2/wp-content/uploads/2024/03/Santa-Caecilia-©Jacques-Blanchard-4-3.jpg
GEO:48.2042331;16.3737212
X-APPLE-STRUCTURED-LOCATION;VALUE=URI;X-ADDRESS=Festsaal Seilerstätte Seilerstätte 26 Wien 1010 Austria;X-APPLE-RADIUS=500;X-TITLE=Seilerstätte 26:geo:16.3737212,48.2042331
END:VEVENT
END:VCALENDAR