BEGIN:VCALENDAR
VERSION:2.0
PRODID:-//Early Music Department - ECPv6.15.17.1//NONSGML v1.0//EN
CALSCALE:GREGORIAN
METHOD:PUBLISH
X-ORIGINAL-URL:https://mdw.ac.at/altemusik
X-WR-CALDESC:Veranstaltungen für Early Music Department
REFRESH-INTERVAL;VALUE=DURATION:PT1H
X-Robots-Tag:noindex
X-PUBLISHED-TTL:PT1H
BEGIN:VTIMEZONE
TZID:Europe/Vienna
BEGIN:DAYLIGHT
TZOFFSETFROM:+0100
TZOFFSETTO:+0200
TZNAME:CEST
DTSTART:20220327T010000
END:DAYLIGHT
BEGIN:STANDARD
TZOFFSETFROM:+0200
TZOFFSETTO:+0100
TZNAME:CET
DTSTART:20221030T010000
END:STANDARD
BEGIN:DAYLIGHT
TZOFFSETFROM:+0100
TZOFFSETTO:+0200
TZNAME:CEST
DTSTART:20230326T010000
END:DAYLIGHT
BEGIN:STANDARD
TZOFFSETFROM:+0200
TZOFFSETTO:+0100
TZNAME:CET
DTSTART:20231029T010000
END:STANDARD
BEGIN:DAYLIGHT
TZOFFSETFROM:+0100
TZOFFSETTO:+0200
TZNAME:CEST
DTSTART:20240331T010000
END:DAYLIGHT
BEGIN:STANDARD
TZOFFSETFROM:+0200
TZOFFSETTO:+0100
TZNAME:CET
DTSTART:20241027T010000
END:STANDARD
END:VTIMEZONE
BEGIN:VEVENT
DTSTART;TZID=Europe/Vienna:20231216T150000
DTEND;TZID=Europe/Vienna:20231216T163000
DTSTAMP:20260426T040351
CREATED:20230913T092511Z
LAST-MODIFIED:20231215T201239Z
UID:14044-1702738800-1702744200@mdw.ac.at
SUMMARY:BAROQUE ON STAGE! | Studienkonzert Alte Musik
DESCRIPTION:Programm: \n  \nPRIMA PARS \n  \nFrancesco da Milano (1497 – 1543)\nFantasia 15*\nAus: Intabolatura de Lauto\, Libro Primo\n(Venedig: Gardano\, 1546) \n  \nLudwig Senfl (ca. 1490 – 1543)\nWas wird es doch des Wunders noch** \n  \n? Antoine Busnois (1435 – 1492)\nFortuna Desperata** \n  \nLudwig Senfl (ca. 1490 – 1543)\nFortuna ad voces musicales** \nCesare Negri (ca. 1535 – ca. 1604)\nBarriera** \n  \n* So Hiraoka – Laute\n** Peter Chorkov\, Gellért Jassó\, Britta Kähny\,\nChun-Shih Lin – Blockflöten \n  \n  \nFrancesco da Milano (1497 – 1543)\nRecercar ottavo*\nAus: Intabolatura de Lautto\, Libro Settimo (Venedig: Schotto\, 1548) \n  \n? Josquin Desprez (1440/55 – 1521)\nMille Regretz**\nAus: Chansons Amoureux a Quatre Parties\, Unziesme Livre (Antwerpen: Susato\, 1549) \n  \nJohn Dowland (1563 – 1626)\nLa Mia Barbara (P95)*\nAus: Ernst Schele\, Tabulatur Buch (Ms.\, 1619) \n  \n* Kamil Aniol – Laute\n** Vokalensemble XXV\nVerena Grundner\, Sarah-Maria Pilwax\, Iason Marmaras\, Florian Obersteiner – Gesang \n  \n Giovanni Paolo Cima (1575 – 1630)\n10. Exaudi Domine vocem meam\n17. Beati qui habitant in domo tua\nAus: Concerti Ecclesiastici (Mailand\, 1610) \n  \nGirolamo Frescobaldi (ca. 1583 – 1643)\nCanzon Terza a due\, Canto e basso\nAus: Canzoni da sonare a una\, due\, tre et quattro (Venedig\, 1634) \n  \nPhilipp Stastny – Zink\nMartin Ortner – Posaune\nEugène Michelangeli – Orgel \n  \n—– Pause —– \n  \nSECUNDA PARS \n  \nJean-Baptiste Barriere (1707 – 1747)\nSonata II a Tre\nAus: Sonates pour le Violoncelle\, Livre IIIe (Paris\, ca. 1739)\nAdagio – Allegro – Aria. Largo – Giga \nAntoni Orlowski\, Julika Hasler – Violoncello\nRose Chaffey – Violoncello Continuo\nIason Marmaras – Cembalo \n  \nJoseph Bodin de Boismortier (1689 – 1755)\nSonate III\nAus: Sonates en trio pour trois flutes traversières sans basse\, Oeuvre septième (Paris\, 1725)\nAllemande. Gravement – Legerement – Lentement – Gavotte \n  \nTomás Duchoslav\, Chia-Yu Lin\, Chih-Chun Liu\, Blockflöten \n  \nJean-Baptiste Barriere (1707 – 1747)\nSonata I* [h-moll] (Auszug)\nAdagio – Allegro\nAus: Sonates pour le Violoncelle\, Livre I (Paris\, 1733) \n  \nSonata VI** [c-moll]\nAdagio – Allegro – Larghetto – Giga\nAus: Livre II de sonates pour violoncelle et le basse continue (Paris\, 1735) \n  \nLorenz Haller – Violoncello (*Continuo)\nRose Chaffey – Violoncello (**Continuo)\nIason Marmaras – Cembalo \n  \nGiuseppe Sammartini (1700 – 1775)\nSonata VI [d-moll]\nAdagio – Allegro – Largo – Allegro\nAus: XII Sonatas for two German Flutes or Violins with a Thorough Bass (London: Walsh\, 1736) \n  \nJulia Klampfer\, Réka Bégány – Traversflöten\nEnmu Xing – Violoncello\nTade Theuretzbacher – Cembalo \n  \nJohann Sebastian Bach (1685 – 1750)\nSuitte 3. (Auszug)\nSarabande – Bourée – Gigue\nAus: 6 Suites a Violoncello Solo senza Basso composées par Sr. G. S. Bach \nJadwiga Roguska – Violoncello \n  \nJohann Joseph Fux (1660 – 1741) \nAria “Vedi che il Redentor” \nAus dem Oratorium: Il Fonte della Salute aperto dalla Grazia nel Calvario (1716) \nAnna Hurch – Sopran\nSimon Pibal – Discant Chalumeau\nMartin Ortner – Posaune\nMaria Danneberg – Viola da Gamba \n  \n  \n 
URL:https://mdw.ac.at/altemusik/event/baroque-on-stage-studienkonzert-alte-musik-29/
LOCATION:Festsaal Seilerstätte\, Seilerstätte 26\, Wien\, 1010\, Austria
CATEGORIES:Alte Musik,Öffentlich,Studienkonzert
ATTACH;FMTTYPE=image/jpeg:https://mdw.ac.at/altemusik/blog2/wp-content/uploads/2022/02/canto-rinascimentale-barocco-accademico-i-livello.jpg
GEO:48.2042331;16.3737212
X-APPLE-STRUCTURED-LOCATION;VALUE=URI;X-ADDRESS=Festsaal Seilerstätte Seilerstätte 26 Wien 1010 Austria;X-APPLE-RADIUS=500;X-TITLE=Seilerstätte 26:geo:16.3737212,48.2042331
END:VEVENT
END:VCALENDAR