BEGIN:VCALENDAR
VERSION:2.0
PRODID:-//Early Music Department - ECPv6.15.17.1//NONSGML v1.0//EN
CALSCALE:GREGORIAN
METHOD:PUBLISH
X-ORIGINAL-URL:https://mdw.ac.at/altemusik
X-WR-CALDESC:Veranstaltungen für Early Music Department
REFRESH-INTERVAL;VALUE=DURATION:PT1H
X-Robots-Tag:noindex
X-PUBLISHED-TTL:PT1H
BEGIN:VTIMEZONE
TZID:Europe/Vienna
BEGIN:DAYLIGHT
TZOFFSETFROM:+0100
TZOFFSETTO:+0200
TZNAME:CEST
DTSTART:20230326T010000
END:DAYLIGHT
BEGIN:STANDARD
TZOFFSETFROM:+0200
TZOFFSETTO:+0100
TZNAME:CET
DTSTART:20231029T010000
END:STANDARD
BEGIN:DAYLIGHT
TZOFFSETFROM:+0100
TZOFFSETTO:+0200
TZNAME:CEST
DTSTART:20240331T010000
END:DAYLIGHT
BEGIN:STANDARD
TZOFFSETFROM:+0200
TZOFFSETTO:+0100
TZNAME:CET
DTSTART:20241027T010000
END:STANDARD
BEGIN:DAYLIGHT
TZOFFSETFROM:+0100
TZOFFSETTO:+0200
TZNAME:CEST
DTSTART:20250330T010000
END:DAYLIGHT
BEGIN:STANDARD
TZOFFSETFROM:+0200
TZOFFSETTO:+0100
TZNAME:CET
DTSTART:20251026T010000
END:STANDARD
END:VTIMEZONE
BEGIN:VEVENT
DTSTART;TZID=Europe/Vienna:20240524T190000
DTEND;TZID=Europe/Vienna:20240524T203000
DTSTAMP:20260425T184134
CREATED:20240221T102810Z
LAST-MODIFIED:20240524T103711Z
UID:14884-1716577200-1716582600@mdw.ac.at
SUMMARY:BAROQUE ON STAGE! | Studienkonzert Alte Musik
DESCRIPTION:Es spielen Studierende vom Institut für Alte Musik und Gäste.\nEintritt frei! \nProgramm \nJean-Baptiste Barrière (1707 – 1747) \nSonata VI in c-Moll\, aus: Livre II de sonates pour violoncelle et le basse continue (1735 Paris) \nAdagio – Allegro  \nLorenz Haller\, Violoncello\nMatthäus Pescoller\, Violoncello (BC)\nReinhard Führer\, Cembalo \n  \nDomenico Gabrielli (1651 – 1690) \nRicercar III in D-Dur\, aus: Ricercari\, canone e sonate per violoncello (Manuskript 1689) \nHannah Eberle\, Violoncello \n  \nGiuseppe Maria Jacchini (1663 – 1727)  \nSonata VII in B-Dur\, aus: Sonate à Violino e Violoncello\, et à Violoncello solo Per Camera\, op. 1 (Bologna\, zwischen 1692 und 1695) \nGrave – Prestissimo – Adagio – Aria.Presto \nHannah Eberle\, Violoncello\nJohannes Weiss\, Cembalo \n  \nGeorg Friedrich Händel (1685 – 1759) \nSonata in F-Dur für Oboe und Basso continuo\, HWV 363a (entstanden zwischen 1711 und 1716) \nAdagio – Allegro – Adagio – Bourée anglaise – Menuet  \nRegine Müller\, Sopran-Chalumeau\nJohannes Weiss\, Cembalo \n  \nDomenico Gabrielli (1651 – 1690) \nRicercar VII in d-Moll\, aus: Ricercari\, canone e sonate per violoncello (Manuskript 1689) \nLorenz Haller\, Violoncello \n  \nÉtienne Nicholas Méhul (1763 – 1817) \nSonata III pour le Clavecin ou Piano-forte avec accompagnement en do majeur\, Op.2 (Paris 1788) \nAllegro – Adagio – Rondo \nJoseph Zaarour\, Cembalo \n  \nFelix Mendelssohn-Bartholdy (1809 – 1847) \nSonata in f-Moll für Klavier und Violine “Adieu à Berlin”\, op. 4\, bearbeitet für Klavier und Flöte (Berlin 1823) \nAdagio.Allegro moderato – Poco adagio – Allegro agitato \nBenedikt Holter\, Hammerklavier\nChing-Yao Wang\, Klappenflöte \n  \nWolfgang Amadé Mozart (1756 – 1791) \nSonata in A-Dur für Klavier und Violine\, KV 526 (Wien 1787) \nMolto Allegro – Andante – Presto  \nBenedikt Holter\, Hammerklavier\nAnna Perl\, Violine
URL:https://mdw.ac.at/altemusik/event/baroque-on-stage-studienkonzert-alte-musik-38/
LOCATION:Festsaal Seilerstätte\, Seilerstätte 26\, Wien\, 1010\, Austria
CATEGORIES:Alte Musik,Öffentlich,Studienkonzert
ATTACH;FMTTYPE=image/jpeg:https://mdw.ac.at/altemusik/blog2/wp-content/uploads/2023/03/05_Wiener_Matinee_©Wikimedia_free.jpg
GEO:48.2042331;16.3737212
X-APPLE-STRUCTURED-LOCATION;VALUE=URI;X-ADDRESS=Festsaal Seilerstätte Seilerstätte 26 Wien 1010 Austria;X-APPLE-RADIUS=500;X-TITLE=Seilerstätte 26:geo:16.3737212,48.2042331
END:VEVENT
BEGIN:VEVENT
DTSTART;TZID=Europe/Vienna:20240525T150000
DTEND;TZID=Europe/Vienna:20240525T163000
DTSTAMP:20260425T184134
CREATED:20240313T152414Z
LAST-MODIFIED:20240524T103654Z
UID:14970-1716649200-1716654600@mdw.ac.at
SUMMARY:BAROQUE ON STAGE! | Studienkonzert Alte Musik
DESCRIPTION:Es spielen Studierende vom Institut für Alte Musik und Gäste.\nEintritt frei! \n  \nProgramm \nLouis-Antoine Dornel (1680 – 1757) \nPremière Suite in G-Dur\, aus: Sonates à violon seul et Suites pour la flûte traversière avec la basse (Paris 1711) \nPrélude – La Bellone.Allemande – La d’Herouville  \n  \nFrancesco Maria Veracini (1690 – 1768) \nSonata in F-Dur\, aus: 12 Sonate a violino o flauto solo e basso (Manuskript\, Venedig 1716) \nLargo e nobile – Allegro – Largo – Allegro \n  \nJasmin Vorhauser\, Blockflöte\nSobin Jo\, Cembalo \n  \nGeorg Philipp Telemann (1681 – 1767) \nQuartett in d-Moll\, TWV 43:d1\, aus: Musique de table II (Hamburg 1733) \nAndante – Vivace \n  \nSara Glanzer\, Blockflöte\nElisabeth Haberl\, Daniel Ploderer\, Traversflöten\nAntonia Kallenbach\, Viola da gamba\nSobin Jo\, Cembalo \n  \nJean-Marie Leclair (1697 – 1764) \nSonata Nr. VIII in D-Dur\, aus: Second livre de sonates pour le violon et [ou] pour la flûte traversière avec la basse continue (Paris 1728) \nAllegro – Sarabanda.Largo – Allegro assai \n  \nSara Glanzer\, Blockflöte\nAntonia Kallenbach\, Viola da gamba\nSobin Jo\, Cembalo \n  \nVincenzo Ruffo (um 1510 – 1587)  \n»Da bei rami scendea«\, aus: Capricci in musica a tre voci (Mailand 1564) \nNeu-Komposition über die Basslinie des gleichnamigen Madrigals von Jacques Arcadelt (c.1507 – 1568)\, publiziert 1555 in Venedig. \n  \nCipriano de Rore (1515/16 – 1565) \n»Io canterei d’amor sì novamente«\, aus: Il primo libro de madrigali a quatro voci (Ferrara 1550) \n  \nPeter Chorkov\, Tomás Duchoslav\, Chia-Yu Lin\, Chih-Chun Liu\, Blockflöten \n  \nJosquin de Prez (1450/55 – 1521)  \n»Si j´ay perdu mon ami« à 3\n»Entré je suis en grant pensée«\n»De tous bien playne«\n»Si j´ay perdu mon ami« à 4 \n  \nPeter Chorkov\, Gellért Jassó\, Britta Kähny\, Chun-Shih Lin\, Blockflöten \n  \nDario Castello (1602 – 1631)  \nSonata prima à Sopran Solo\, aus: Sonate concertate in stil moderno\, libro secondo (Venedig\, 1629) \n  \nRahel Neyer\, Violine\nDaria Savvateeva\, Cembalo \n  \nGiovanni Battista degli Antonii (1636 – 1698)  \nRicercar X in g-Moll\, aus: Ricercate sopra il violoncello ò clavicembalo (Bologna\, 1697) \n  \nJadwiga Roguska\, Violoncello \n  \nJoseph Bodin de Boismortier (1689 – 1755) \nSonata II in G-Dur\, aus: 6 Sonates pour les Violoncelles\, Bassons ou Violes avec la Basse\, op. 50 (Paris 1734) \nLargo – Allemande.Allegro – Largo – Gigue  \n  \nJadwiga Roguska\, Violoncello\nIason Marmaras\, Cembalo \n  \nFranz Anton Hoffmeister (1754 – 1812)  \nSonate in Es-Dur für Klarinette und Klavier\, basierend auf Duetto Nr. 4 aus: Sei Duetti Concertanti per il Forte Piano ô Clavicembalo et Violino (Wien 1786) \nAllegro – Rondo.Allegro \n  \nRegine Müller\, Klarinette in B\nTzu Yu Yang\, Hammerklavier \n  \nJohann Sebastian Bach (1685-1750) \nSuite III in C-Dur für Violoncello solo\, BWV 1009 (vermutlich vor 1720) \nPrélude – Allemande – Courante – Sarabande – Bourrée I & II – Gigue  \nAntoni Orlowski\, Violoncello \n  \nLudwig Alexander Balthasar Schindelmeisser (1811 – 1864) \nSinfonia Concertante Op. 2 für vier Klarinetten und Orchester \nAllegro moderato – Andante religioso – Rondo: Allegretto \n  \nFranziska Hoffmann\, Regine Müller\, Elisabeth Riener (Gast)\, Simon Pibal\, historische Klarinetten \nTzu-Yu Yang\, Hammerklavier \n 
URL:https://mdw.ac.at/altemusik/event/baroque-on-stage-studienkonzert-alte-musik-42/
LOCATION:Festsaal Seilerstätte\, Seilerstätte 26\, Wien\, 1010\, Austria
CATEGORIES:Alte Musik,Öffentlich,Studienkonzert
ATTACH;FMTTYPE=image/jpeg:https://mdw.ac.at/altemusik/blog2/wp-content/uploads/2022/06/05_Wiener_Matinee_©Wikimedia_free.jpg
GEO:48.2042331;16.3737212
X-APPLE-STRUCTURED-LOCATION;VALUE=URI;X-ADDRESS=Festsaal Seilerstätte Seilerstätte 26 Wien 1010 Austria;X-APPLE-RADIUS=500;X-TITLE=Seilerstätte 26:geo:16.3737212,48.2042331
END:VEVENT
END:VCALENDAR