BEGIN:VCALENDAR
VERSION:2.0
PRODID:-//Early Music Department - ECPv6.15.17.1//NONSGML v1.0//EN
CALSCALE:GREGORIAN
METHOD:PUBLISH
X-ORIGINAL-URL:https://mdw.ac.at/altemusik
X-WR-CALDESC:Veranstaltungen für Early Music Department
REFRESH-INTERVAL;VALUE=DURATION:PT1H
X-Robots-Tag:noindex
X-PUBLISHED-TTL:PT1H
BEGIN:VTIMEZONE
TZID:Europe/Vienna
BEGIN:DAYLIGHT
TZOFFSETFROM:+0100
TZOFFSETTO:+0200
TZNAME:CEST
DTSTART:20180325T010000
END:DAYLIGHT
BEGIN:STANDARD
TZOFFSETFROM:+0200
TZOFFSETTO:+0100
TZNAME:CET
DTSTART:20181028T010000
END:STANDARD
BEGIN:DAYLIGHT
TZOFFSETFROM:+0100
TZOFFSETTO:+0200
TZNAME:CEST
DTSTART:20190331T010000
END:DAYLIGHT
BEGIN:STANDARD
TZOFFSETFROM:+0200
TZOFFSETTO:+0100
TZNAME:CET
DTSTART:20191027T010000
END:STANDARD
BEGIN:DAYLIGHT
TZOFFSETFROM:+0100
TZOFFSETTO:+0200
TZNAME:CEST
DTSTART:20200329T010000
END:DAYLIGHT
BEGIN:STANDARD
TZOFFSETFROM:+0200
TZOFFSETTO:+0100
TZNAME:CET
DTSTART:20201025T010000
END:STANDARD
END:VTIMEZONE
BEGIN:VEVENT
DTSTART;TZID=Europe/Vienna:20191203T183000
DTEND;TZID=Europe/Vienna:20191203T210000
DTSTAMP:20260420T050936
CREATED:20190708T175943Z
LAST-MODIFIED:20191202T123410Z
UID:604-1575397800-1575406800@mdw.ac.at
SUMMARY:Studienkonzert | Blockflöte (Inst. 18)
DESCRIPTION:Studierende von Rahel Stoellger (Inst. 18)\n  \nAngelo Berardi (1636 – 1694) \nCanzona sesta \nSara Glanzer \n  \nGiovanni Battista Fontana (1571 – 1630) \nSonata sesta \nPatricia Nägele \n  \nJohann Sebastian Bach (1685 – 1750) \nOrgeltriosonate BWV 525  \nAllegro – Adagio – Allegro \nChristina Jennewein \n  \nGiovanni Battista Fontana \nSonata seconda \nBarbara Faulend-Klauser \n  \n  \nPaolo Benedetto Bellinzani (1690 – 1757) \nSonata ottava \nAdagio – Allegro – Adagio – Allegro \nLaura Ragger \n  \nArcangelo Corelli (1653 – 1713) \nLa Follia \nVerena Grundner \n  \nFrancesco Mancini (1672 – 1737) \nSonate in e-moll \nAndante – Allegro – Largo – Allegro \nLea Neumeyer \n  \nJacques-Martin Hotteterre (1674 – 1763) \nSuite in B-Dur \nAllemande (le cascade de St. Cloud) – Sarabande (la Guimon) – Courante (L’indifferente) – Rondeau (le plaintif) – Minuet (Le mignon) – Gigue (l’italienne) \nMarlene Olbricht\, Marco Primultini \n  \nGeorg Philipp Telemann (1681 – 1767) \nFantasie Nr. 9 in G-Dur \nAffettuoso – Allegro – Grave – Vivace \nAntonia Weber \n  \nGeorg Philipp Telemann \nSonatine in c-moll \nLargo – Allegro – Dolce – Vivace \nBarbara Faulend-Klauser \n  \nam Cembalo: Eugène Michelangeli und Sonja Leipold
URL:https://mdw.ac.at/altemusik/event/studienkonzert-blockflote-2/
LOCATION:Alter Konzert Saal am Rennweg\, Rennweg 8\, Wien\, 1030\, Austria
CATEGORIES:Öffentlich
ATTACH;FMTTYPE=image/jpeg:https://mdw.ac.at/altemusik/blog2/wp-content/uploads/2019/07/811px-Frans_Hals_-_Singing_Boy_with_Flute_-_Google_Art_Project.jpg
GEO:48.196667;16.380861
X-APPLE-STRUCTURED-LOCATION;VALUE=URI;X-ADDRESS=Alter Konzert Saal am Rennweg Rennweg 8 Wien 1030 Austria;X-APPLE-RADIUS=500;X-TITLE=Rennweg 8:geo:16.380861,48.196667
END:VEVENT
BEGIN:VEVENT
DTSTART;TZID=Europe/Vienna:20191206T183000
DTEND;TZID=Europe/Vienna:20191206T203000
DTSTAMP:20260420T050936
CREATED:20190719T092329Z
LAST-MODIFIED:20191129T083546Z
UID:3034-1575657000-1575664200@mdw.ac.at
SUMMARY:Studienkonzert | Traversflöte
DESCRIPTION:Studierende von Gertraud Wimmer\n  \nJoseph Bodin de Boismortier (1689-1755)\n  \nSonate no.3 aus “Sonates en trio pour trois flûtes traversières sans basse “ op.7 (Paris\, 1725) Gravement – Allemande – Lentement – Gavotte en Rondeau – Gayment \nNao Kitabatake\, Yifeng Zhu\, Nicole Henter\, Traversi \n  \nPremière Sonate aus “VI Sonates pour clavecin et une flûtes-traversière “op.91 (Paris\, 1741) Sicilienne-Gayement-Gracieusement-Gayement \nJasmin Vorhauser\, Traverso\nSofya Shapovalova\, Cembalo \n  \nPremière Sonate aus „Sonates a deux flûtes traversieres sans basse “op.7 (Paris\, 1724) Allemande (Gravement) – Gayment – Gavotte – Lentement – Legerement \nEvamaria Felder\, Daniel Ploderer\, Traversi \n  \nSonata no.5 aus “Sonates en trio pour trois flûtes traversières sans basse “op.7 (Paris\, 1725) Rondement – Gayement – Air (gracieusement) – Gayement \nJingwen Nie\, Traverso\nSofyia Shapovalova\, Cembalo \n  \nConcerto no.2 in a minor aus” 6 Concertos Pour 5 Flûtes-traversiéres ou autres instrumens\, sans baße. On peut aussy les joüer avec une Basse “op.15 (Paris\,1727) Allegro-Largo-Allegro \nDaniel Ploderer \, Ching-Yao Wang\, Jingwen Nie \,Jasmin Vorhauser\, Gertraud Wimmer  \n  \n:o: Pause :o: \n  \nSonata no.3 aus “Sonates en trio pour deux haubois\, flûtes-traversières ou violons avec la basse” op.12 (Paris\, 1730) Grave – Allemanda (Allegro) – Affettuoso – Giga  \nDaniel Ploderer\, Jingwen Nie\, Traversi\nSofya Shapovalova\, Cembalo \n  \nSuite no.1 aus „Six Suites de Pièces pour une flute traversière seule avec la basse” op. 35 (Paris\, 1731) Prelude – Allemande – Les Charites Rondeau – L’Emerveillée Gaiment – Gavotte – Menuet  \nDaniel Ploderer\, Traverso \n  \n“L’Automne”: Cantate de basse taille avec simphonie (Paris\, 1738) \n– Prélude\, Récitatif „Où suis je? de quel bruit retentisent les Airs?“\n– Air (Gayment) „Chantons\, dansons\, et qu’on nous verse a boire“\n– Récitatif „Mais profitant des beaux jours de l’Automne“\n– Air (Grasieucement) “ Coule\, coule dans nos veines“\n– Récitatif „Quel est donc de mes Sens l’aveuglement extreme?“\n– Air (Doucement) „Envain la plus fiere beauté“\n– Air (Gayment) „C’en est fait\, a Bachus\, je cede la victoire“ \nSreten Manojlovic\, Bariton\nChing-Yao Wang\, Traversflöte\nSobin Jo\, Cembalo
URL:https://mdw.ac.at/altemusik/event/studienkonzert-traversflote/
LOCATION:Fanny Hensel-Saal\, Anton-von-Webern-Platz 1\, Wien\, 1030\, Austria
CATEGORIES:Öffentlich
ATTACH;FMTTYPE=image/jpeg:https://mdw.ac.at/altemusik/blog2/wp-content/uploads/2019/07/Quantz_by_Gerhard.jpg
GEO:48.2024634;16.3846447
X-APPLE-STRUCTURED-LOCATION;VALUE=URI;X-ADDRESS=Fanny Hensel-Saal Anton-von-Webern-Platz 1 Wien 1030 Austria;X-APPLE-RADIUS=500;X-TITLE=Anton-von-Webern-Platz 1:geo:16.3846447,48.2024634
END:VEVENT
END:VCALENDAR