BEGIN:VCALENDAR
VERSION:2.0
PRODID:-//Early Music Department - ECPv6.15.17.1//NONSGML v1.0//EN
CALSCALE:GREGORIAN
METHOD:PUBLISH
X-WR-CALNAME:Early Music Department
X-ORIGINAL-URL:https://mdw.ac.at/altemusik
X-WR-CALDESC:Veranstaltungen für Early Music Department
REFRESH-INTERVAL;VALUE=DURATION:PT1H
X-Robots-Tag:noindex
X-PUBLISHED-TTL:PT1H
BEGIN:VTIMEZONE
TZID:Europe/Vienna
BEGIN:DAYLIGHT
TZOFFSETFROM:+0100
TZOFFSETTO:+0200
TZNAME:CEST
DTSTART:20190331T010000
END:DAYLIGHT
BEGIN:STANDARD
TZOFFSETFROM:+0200
TZOFFSETTO:+0100
TZNAME:CET
DTSTART:20191027T010000
END:STANDARD
BEGIN:DAYLIGHT
TZOFFSETFROM:+0100
TZOFFSETTO:+0200
TZNAME:CEST
DTSTART:20200329T010000
END:DAYLIGHT
BEGIN:STANDARD
TZOFFSETFROM:+0200
TZOFFSETTO:+0100
TZNAME:CET
DTSTART:20201025T010000
END:STANDARD
BEGIN:DAYLIGHT
TZOFFSETFROM:+0100
TZOFFSETTO:+0200
TZNAME:CEST
DTSTART:20210328T010000
END:DAYLIGHT
BEGIN:STANDARD
TZOFFSETFROM:+0200
TZOFFSETTO:+0100
TZNAME:CET
DTSTART:20211031T010000
END:STANDARD
END:VTIMEZONE
BEGIN:VEVENT
DTSTART;TZID=Europe/Vienna:20200526T183000
DTEND;TZID=Europe/Vienna:20200526T203000
DTSTAMP:20260419T191444
CREATED:20200119T163924Z
LAST-MODIFIED:20200422T113505Z
UID:6076-1590517800-1590525000@mdw.ac.at
SUMMARY:ABGESAGT! | STUDIENKONZERT | Blockflöte (Inst. 18)
DESCRIPTION:
URL:https://mdw.ac.at/altemusik/event/studienkonzert-blockflote-inst-18-2/
LOCATION:Alter Konzert Saal am Rennweg\, Rennweg 8\, Wien\, 1030\, Austria
CATEGORIES:Öffentlich
ATTACH;FMTTYPE=image/jpeg:https://mdw.ac.at/altemusik/blog2/wp-content/uploads/2019/09/811px-Frans_Hals_-_Singing_Boy_with_Flute_-_Google_Art_Project.jpg
GEO:48.196667;16.380861
X-APPLE-STRUCTURED-LOCATION;VALUE=URI;X-ADDRESS=Alter Konzert Saal am Rennweg Rennweg 8 Wien 1030 Austria;X-APPLE-RADIUS=500;X-TITLE=Rennweg 8:geo:16.380861,48.196667
END:VEVENT
BEGIN:VEVENT
DTSTART;TZID=Europe/Vienna:20200527T120000
DTEND;TZID=Europe/Vienna:20200527T200000
DTSTAMP:20260419T191444
CREATED:20200109T121605Z
LAST-MODIFIED:20200422T113459Z
UID:5792-1590580800-1590609600@mdw.ac.at
SUMMARY:ABGESAGT! | WORKSHOP | Barockoboe | Emma Black
DESCRIPTION:
URL:https://mdw.ac.at/altemusik/event/workshop-barockoboe-emma-black-2/
LOCATION:Studio Alte Musik\, Seilerstätte 8\, Wien\, 1010\, Austria
CATEGORIES:Barockoboe,Black,Workshop
ATTACH;FMTTYPE=image/jpeg:https://mdw.ac.at/altemusik/blog2/wp-content/uploads/2019/11/3CF8EDBE-B452-4E8B-B07C-B82BEABC03CF.jpeg
GEO:48.2059174;16.3760123
X-APPLE-STRUCTURED-LOCATION;VALUE=URI;X-ADDRESS=Studio Alte Musik Seilerstätte 8 Wien 1010 Austria;X-APPLE-RADIUS=500;X-TITLE=Seilerstätte 8:geo:16.3760123,48.2059174
END:VEVENT
BEGIN:VEVENT
DTSTART;TZID=Europe/Vienna:20200529T100000
DTEND;TZID=Europe/Vienna:20200529T170000
DTSTAMP:20260419T191444
CREATED:20200109T181236Z
LAST-MODIFIED:20200422T113452Z
UID:5927-1590746400-1590771600@mdw.ac.at
SUMMARY:ABGESAGT! | WORKSHOP | Barockvioline | Hiro Kurosaki
DESCRIPTION:Wolfgang Amadeus Mozart: Violinkonzerte\n10:00-12:00 Violinkonzert in G-Dur KV 216\n13:00-15:00 Violinkonzert in D-Dur KV 218\n15:30-17:30 Violinkonzert in A-Dur KV 219\n\n\nZur ANMELDUNG
URL:https://mdw.ac.at/altemusik/event/workshop-barockvioline-hiro-kurosaki/
LOCATION:Studio Alte Musik\, Seilerstätte 8\, Wien\, 1010\, Austria
CATEGORIES:Violine,Workshop
ATTACH;FMTTYPE=image/jpeg:https://mdw.ac.at/altemusik/blog2/wp-content/uploads/2020/01/DSC_0096-Photo-Hiro-bei-Josextu-2019.jpg
GEO:48.2059174;16.3760123
X-APPLE-STRUCTURED-LOCATION;VALUE=URI;X-ADDRESS=Studio Alte Musik Seilerstätte 8 Wien 1010 Austria;X-APPLE-RADIUS=500;X-TITLE=Seilerstätte 8:geo:16.3760123,48.2059174
END:VEVENT
BEGIN:VEVENT
DTSTART;TZID=Europe/Vienna:20200529T190000
DTEND;TZID=Europe/Vienna:20200529T210000
DTSTAMP:20260419T191445
CREATED:20200119T162923Z
LAST-MODIFIED:20200422T113446Z
UID:6067-1590778800-1590786000@mdw.ac.at
SUMMARY:ABGESAGT! | STUDIENKONZERT | Alte Musik
DESCRIPTION:
URL:https://mdw.ac.at/altemusik/event/studienkonzert-alte-musik-17/
LOCATION:Franz Liszt-Saal\, Lothringerstraße 18\, Wien\, 1030\, Austria
CATEGORIES:Öffentlich,Studienkonzert
ATTACH;FMTTYPE=image/jpeg:https://mdw.ac.at/altemusik/blog2/wp-content/uploads/2019/08/baschenis-1.jpg
GEO:48.2004678;16.3769716
X-APPLE-STRUCTURED-LOCATION;VALUE=URI;X-ADDRESS=Franz Liszt-Saal Lothringerstraße 18 Wien 1030 Austria;X-APPLE-RADIUS=500;X-TITLE=Lothringerstraße 18:geo:16.3769716,48.2004678
END:VEVENT
END:VCALENDAR