BEGIN:VCALENDAR
VERSION:2.0
PRODID:-//Early Music Department - ECPv6.15.17.1//NONSGML v1.0//EN
CALSCALE:GREGORIAN
METHOD:PUBLISH
X-WR-CALNAME:Early Music Department
X-ORIGINAL-URL:https://mdw.ac.at/altemusik
X-WR-CALDESC:Veranstaltungen für Early Music Department
REFRESH-INTERVAL;VALUE=DURATION:PT1H
X-Robots-Tag:noindex
X-PUBLISHED-TTL:PT1H
BEGIN:VTIMEZONE
TZID:Europe/Vienna
BEGIN:DAYLIGHT
TZOFFSETFROM:+0100
TZOFFSETTO:+0200
TZNAME:CEST
DTSTART:20190331T010000
END:DAYLIGHT
BEGIN:STANDARD
TZOFFSETFROM:+0200
TZOFFSETTO:+0100
TZNAME:CET
DTSTART:20191027T010000
END:STANDARD
BEGIN:DAYLIGHT
TZOFFSETFROM:+0100
TZOFFSETTO:+0200
TZNAME:CEST
DTSTART:20200329T010000
END:DAYLIGHT
BEGIN:STANDARD
TZOFFSETFROM:+0200
TZOFFSETTO:+0100
TZNAME:CET
DTSTART:20201025T010000
END:STANDARD
BEGIN:DAYLIGHT
TZOFFSETFROM:+0100
TZOFFSETTO:+0200
TZNAME:CEST
DTSTART:20210328T010000
END:DAYLIGHT
BEGIN:STANDARD
TZOFFSETFROM:+0200
TZOFFSETTO:+0100
TZNAME:CET
DTSTART:20211031T010000
END:STANDARD
END:VTIMEZONE
BEGIN:VEVENT
DTSTART;TZID=Europe/Vienna:20200615T150000
DTEND;TZID=Europe/Vienna:20200615T170000
DTSTAMP:20260420T070140
CREATED:20200119T161706Z
LAST-MODIFIED:20200422T113425Z
UID:6054-1592233200-1592240400@mdw.ac.at
SUMMARY:ABGESAGT! | STUDIENKONZERT | Alte Musik
DESCRIPTION:
URL:https://mdw.ac.at/altemusik/event/studienkonzert-alte-musik-14/
LOCATION:Fanny Hensel-Saal\, Anton-von-Webern-Platz 1\, Wien\, 1030\, Austria
CATEGORIES:Öffentlich,Studienkonzert
ATTACH;FMTTYPE=image/jpeg:https://mdw.ac.at/altemusik/blog2/wp-content/uploads/2019/08/baschenis-1.jpg
GEO:48.2024634;16.3846447
X-APPLE-STRUCTURED-LOCATION;VALUE=URI;X-ADDRESS=Fanny Hensel-Saal Anton-von-Webern-Platz 1 Wien 1030 Austria;X-APPLE-RADIUS=500;X-TITLE=Anton-von-Webern-Platz 1:geo:16.3846447,48.2024634
END:VEVENT
BEGIN:VEVENT
DTSTART;TZID=Europe/Vienna:20200615T190000
DTEND;TZID=Europe/Vienna:20200615T210000
DTSTAMP:20260420T070140
CREATED:20200119T161815Z
LAST-MODIFIED:20200422T113419Z
UID:6057-1592247600-1592254800@mdw.ac.at
SUMMARY:ABGESAGT! | STUDIENKONZERT | Alte Musik
DESCRIPTION:pure Purcell
URL:https://mdw.ac.at/altemusik/event/studienkonzert-alte-musik-15/
LOCATION:Fanny Hensel-Saal\, Anton-von-Webern-Platz 1\, Wien\, 1030\, Austria
CATEGORIES:Öffentlich,Studienkonzert
ATTACH;FMTTYPE=image/jpeg:https://mdw.ac.at/altemusik/blog2/wp-content/uploads/2019/08/baschenis-1.jpg
GEO:48.2024634;16.3846447
X-APPLE-STRUCTURED-LOCATION;VALUE=URI;X-ADDRESS=Fanny Hensel-Saal Anton-von-Webern-Platz 1 Wien 1030 Austria;X-APPLE-RADIUS=500;X-TITLE=Anton-von-Webern-Platz 1:geo:16.3846447,48.2024634
END:VEVENT
BEGIN:VEVENT
DTSTART;TZID=Europe/Vienna:20200616T183000
DTEND;TZID=Europe/Vienna:20200616T203000
DTSTAMP:20260420T070140
CREATED:20200119T164244Z
LAST-MODIFIED:20200422T113413Z
UID:6079-1592332200-1592339400@mdw.ac.at
SUMMARY:ABGESAGT! | STUDIENKONZERT | Blockflöte (Inst. 18)
DESCRIPTION:
URL:https://mdw.ac.at/altemusik/event/studienkonzert-blockflote-inst-18-3/
LOCATION:Alter Konzert Saal am Rennweg\, Rennweg 8\, Wien\, 1030\, Austria
CATEGORIES:Blockflöte,Öffentlich,Studienkonzert
ATTACH;FMTTYPE=image/jpeg:https://mdw.ac.at/altemusik/blog2/wp-content/uploads/2019/09/811px-Frans_Hals_-_Singing_Boy_with_Flute_-_Google_Art_Project.jpg
GEO:48.196667;16.380861
X-APPLE-STRUCTURED-LOCATION;VALUE=URI;X-ADDRESS=Alter Konzert Saal am Rennweg Rennweg 8 Wien 1030 Austria;X-APPLE-RADIUS=500;X-TITLE=Rennweg 8:geo:16.380861,48.196667
END:VEVENT
BEGIN:VEVENT
DTSTART;TZID=Europe/Vienna:20200618T090000
DTEND;TZID=Europe/Vienna:20200618T140000
DTSTAMP:20260420T070140
CREATED:20200612T095626Z
LAST-MODIFIED:20200612T100224Z
UID:7219-1592470800-1592488800@mdw.ac.at
SUMMARY:OPEN AIR | Historischer Tanz
DESCRIPTION:Die Lehrveranstaltung Historischer Tanz wird von Hannelore Unfried auf der Freiluftbühne  angeboten.
URL:https://mdw.ac.at/altemusik/event/open-air-historischer-tanz/2020-06-18/
LOCATION:Freiluftbühne am Campus\, Anton-von-Webern-Platz 1\, Wien\, 1030\, Austria
CATEGORIES:Öffentlich,Unfried
ATTACH;FMTTYPE=image/jpeg:https://mdw.ac.at/altemusik/blog2/wp-content/uploads/2020/06/Monsieur_Ballon_danseur_de_lOpéra_..._btv1b8407394b_1-e1591955173810.jpeg
GEO:48.2024634;16.3846447
X-APPLE-STRUCTURED-LOCATION;VALUE=URI;X-ADDRESS=Freiluftbühne am Campus Anton-von-Webern-Platz 1 Wien 1030 Austria;X-APPLE-RADIUS=500;X-TITLE=Anton-von-Webern-Platz 1:geo:16.3846447,48.2024634
END:VEVENT
BEGIN:VEVENT
DTSTART;TZID=Europe/Vienna:20200618T190000
DTEND;TZID=Europe/Vienna:20200618T210000
DTSTAMP:20260420T070140
CREATED:20200303T161620Z
LAST-MODIFIED:20200422T113404Z
UID:6522-1592506800-1592514000@mdw.ac.at
SUMMARY:ABGESAGT! | STUDIENKONZERT | Alte Musik
DESCRIPTION:Studierende von Prof. Michael Schade
URL:https://mdw.ac.at/altemusik/event/studienkonzert-alte-musik-19/
LOCATION:Neuer Konzert Saal am Rennweg\, Rennweg 8\, Wien\, 1030\, Austria
CATEGORIES:Alte Musik,Öffentlich,Studienkonzert
ATTACH;FMTTYPE=image/jpeg:https://mdw.ac.at/altemusik/blog2/wp-content/uploads/2020/03/Moritz_von_Schwind_Schubertiade.jpg
GEO:48.196667;16.380861
X-APPLE-STRUCTURED-LOCATION;VALUE=URI;X-ADDRESS=Neuer Konzert Saal am Rennweg Rennweg 8 Wien 1030 Austria;X-APPLE-RADIUS=500;X-TITLE=Rennweg 8:geo:16.380861,48.196667
END:VEVENT
END:VCALENDAR