BEGIN:VCALENDAR
VERSION:2.0
PRODID:-//Early Music Department - ECPv6.15.17.1//NONSGML v1.0//EN
CALSCALE:GREGORIAN
METHOD:PUBLISH
X-ORIGINAL-URL:https://mdw.ac.at/altemusik
X-WR-CALDESC:Veranstaltungen für Early Music Department
REFRESH-INTERVAL;VALUE=DURATION:PT1H
X-Robots-Tag:noindex
X-PUBLISHED-TTL:PT1H
BEGIN:VTIMEZONE
TZID:Europe/Vienna
BEGIN:DAYLIGHT
TZOFFSETFROM:+0100
TZOFFSETTO:+0200
TZNAME:CEST
DTSTART:20190331T010000
END:DAYLIGHT
BEGIN:STANDARD
TZOFFSETFROM:+0200
TZOFFSETTO:+0100
TZNAME:CET
DTSTART:20191027T010000
END:STANDARD
BEGIN:DAYLIGHT
TZOFFSETFROM:+0100
TZOFFSETTO:+0200
TZNAME:CEST
DTSTART:20200329T010000
END:DAYLIGHT
BEGIN:STANDARD
TZOFFSETFROM:+0200
TZOFFSETTO:+0100
TZNAME:CET
DTSTART:20201025T010000
END:STANDARD
BEGIN:DAYLIGHT
TZOFFSETFROM:+0100
TZOFFSETTO:+0200
TZNAME:CEST
DTSTART:20210328T010000
END:DAYLIGHT
BEGIN:STANDARD
TZOFFSETFROM:+0200
TZOFFSETTO:+0100
TZNAME:CET
DTSTART:20211031T010000
END:STANDARD
END:VTIMEZONE
BEGIN:VEVENT
DTSTART;TZID=Europe/Vienna:20200629T170000
DTEND;TZID=Europe/Vienna:20200629T190000
DTSTAMP:20260419T221012
CREATED:20191114T143512Z
LAST-MODIFIED:20200422T113353Z
UID:5473-1593450000-1593457200@mdw.ac.at
SUMMARY:ABGESAGT! | Öffentliche Diplomprüfung | Cembalo
DESCRIPTION:
URL:https://mdw.ac.at/altemusik/event/offentliche-diplomprufung-cembalo-3/
LOCATION:Franz Liszt-Saal\, Lothringerstraße 18\, Wien\, 1030\, Austria
GEO:48.2004678;16.3769716
X-APPLE-STRUCTURED-LOCATION;VALUE=URI;X-ADDRESS=Franz Liszt-Saal Lothringerstraße 18 Wien 1030 Austria;X-APPLE-RADIUS=500;X-TITLE=Lothringerstraße 18:geo:16.3769716,48.2004678
END:VEVENT
END:VCALENDAR