BEGIN:VCALENDAR
VERSION:2.0
PRODID:-//Early Music Department - ECPv6.15.17.1//NONSGML v1.0//EN
CALSCALE:GREGORIAN
METHOD:PUBLISH
X-ORIGINAL-URL:https://mdw.ac.at/altemusik
X-WR-CALDESC:Veranstaltungen für Early Music Department
REFRESH-INTERVAL;VALUE=DURATION:PT1H
X-Robots-Tag:noindex
X-PUBLISHED-TTL:PT1H
BEGIN:VTIMEZONE
TZID:Europe/Vienna
BEGIN:DAYLIGHT
TZOFFSETFROM:+0100
TZOFFSETTO:+0200
TZNAME:CEST
DTSTART:20250330T010000
END:DAYLIGHT
BEGIN:STANDARD
TZOFFSETFROM:+0200
TZOFFSETTO:+0100
TZNAME:CET
DTSTART:20251026T010000
END:STANDARD
BEGIN:DAYLIGHT
TZOFFSETFROM:+0100
TZOFFSETTO:+0200
TZNAME:CEST
DTSTART:20260329T010000
END:DAYLIGHT
BEGIN:STANDARD
TZOFFSETFROM:+0200
TZOFFSETTO:+0100
TZNAME:CET
DTSTART:20261025T010000
END:STANDARD
BEGIN:DAYLIGHT
TZOFFSETFROM:+0100
TZOFFSETTO:+0200
TZNAME:CEST
DTSTART:20270328T010000
END:DAYLIGHT
BEGIN:STANDARD
TZOFFSETFROM:+0200
TZOFFSETTO:+0100
TZNAME:CET
DTSTART:20271031T010000
END:STANDARD
END:VTIMEZONE
BEGIN:VEVENT
DTSTART;TZID=Europe/Vienna:20260612T190000
DTEND;TZID=Europe/Vienna:20260612T203000
DTSTAMP:20260423T154845
CREATED:20260305T112512Z
LAST-MODIFIED:20260305T112512Z
UID:18807-1781290800-1781296200@mdw.ac.at
SUMMARY:STUDIENKONZERT | Gesang
DESCRIPTION:Es spielen Studieren der Gesangs- und Lauteninstrumentenklassen und Gäaste. \n  \nFreier Eintritt.
URL:https://mdw.ac.at/altemusik/event/studienkonzert-gesang-6/
LOCATION:Alter Konzert Saal am Rennweg\, Rennweg 8\, Wien\, 1030\, Austria
CATEGORIES:Gesang,Lauteninstrumente,Öffentlich,Studienkonzert
ATTACH;FMTTYPE=image/jpeg:https://mdw.ac.at/altemusik/blog2/wp-content/uploads/2025/10/Philippe_Mercier_-_The_Sense_of_Hearing_-_Google_Art_Project-43-845x321-1.jpg
GEO:48.196667;16.380861
X-APPLE-STRUCTURED-LOCATION;VALUE=URI;X-ADDRESS=Alter Konzert Saal am Rennweg Rennweg 8 Wien 1030 Austria;X-APPLE-RADIUS=500;X-TITLE=Rennweg 8:geo:16.380861,48.196667
END:VEVENT
END:VCALENDAR