BEGIN:VCALENDAR
VERSION:2.0
PRODID:-//Early Music Department - ECPv6.15.17.1//NONSGML v1.0//EN
CALSCALE:GREGORIAN
METHOD:PUBLISH
X-WR-CALNAME:Early Music Department
X-ORIGINAL-URL:https://mdw.ac.at/altemusik
X-WR-CALDESC:Veranstaltungen für Early Music Department
REFRESH-INTERVAL;VALUE=DURATION:PT1H
X-Robots-Tag:noindex
X-PUBLISHED-TTL:PT1H
BEGIN:VTIMEZONE
TZID:Europe/Vienna
BEGIN:DAYLIGHT
TZOFFSETFROM:+0100
TZOFFSETTO:+0200
TZNAME:CEST
DTSTART:20180325T010000
END:DAYLIGHT
BEGIN:STANDARD
TZOFFSETFROM:+0200
TZOFFSETTO:+0100
TZNAME:CET
DTSTART:20181028T010000
END:STANDARD
BEGIN:DAYLIGHT
TZOFFSETFROM:+0100
TZOFFSETTO:+0200
TZNAME:CEST
DTSTART:20190331T010000
END:DAYLIGHT
BEGIN:STANDARD
TZOFFSETFROM:+0200
TZOFFSETTO:+0100
TZNAME:CET
DTSTART:20191027T010000
END:STANDARD
BEGIN:DAYLIGHT
TZOFFSETFROM:+0100
TZOFFSETTO:+0200
TZNAME:CEST
DTSTART:20200329T010000
END:DAYLIGHT
BEGIN:STANDARD
TZOFFSETFROM:+0200
TZOFFSETTO:+0100
TZNAME:CET
DTSTART:20201025T010000
END:STANDARD
BEGIN:DAYLIGHT
TZOFFSETFROM:+0100
TZOFFSETTO:+0200
TZNAME:CEST
DTSTART:20210328T010000
END:DAYLIGHT
BEGIN:STANDARD
TZOFFSETFROM:+0200
TZOFFSETTO:+0100
TZNAME:CET
DTSTART:20211031T010000
END:STANDARD
BEGIN:DAYLIGHT
TZOFFSETFROM:+0100
TZOFFSETTO:+0200
TZNAME:CEST
DTSTART:20220327T010000
END:DAYLIGHT
BEGIN:STANDARD
TZOFFSETFROM:+0200
TZOFFSETTO:+0100
TZNAME:CET
DTSTART:20221030T010000
END:STANDARD
BEGIN:DAYLIGHT
TZOFFSETFROM:+0100
TZOFFSETTO:+0200
TZNAME:CEST
DTSTART:20230326T010000
END:DAYLIGHT
BEGIN:STANDARD
TZOFFSETFROM:+0200
TZOFFSETTO:+0100
TZNAME:CET
DTSTART:20231029T010000
END:STANDARD
END:VTIMEZONE
BEGIN:VEVENT
DTSTART;TZID=Europe/Vienna:20220515T110000
DTEND;TZID=Europe/Vienna:20220515T123000
DTSTAMP:20260423T195531
CREATED:20220219T221001Z
LAST-MODIFIED:20220505T082915Z
UID:11101-1652612400-1652617800@mdw.ac.at
SUMMARY:MAIMUSIK 2022 | Italy goes Vienna
DESCRIPTION:Vokale und Instrumentale Kammermusik von Antonio\, Giovanni Bononcini und Antonio Caldara\, drei »Wiener Italienern«.\n  \nSpätestens seit dem Abtreten der niederländischen Meister um 1600 als prägende Kapellmeister des Habsburger-Hofs betreten mehr und mehr die Musikerinnen und Musiker italienischer Herkunft die Wiener Bühne. Fast 200 Jahre lang geben sich italienische Sänger-Stars\, Kapellmeister\, Instrumentalisten\, Librettisten und Komponisten die Klinke zur Hofburg in die Hand. Sogar Antonio Vivaldi zieht in seinen letzten Lebensjahren nach Wien\, um hier noch einmal neu anzufangen\, was sein früher Tod dann vereitelt. Die reichen Sammlungen des Nationalbibliothek geben ein klingendes Zeugnis von dieser sehr italienischen Epoche der österreichischen Musik. \n  \n  \nAntonio Caldara (1670 – 1736)\nTriosonate in e\, op. 1/5\nGrave – Vivace – Adagio – Vivace \nVerena Grundner – Blockflöte\nHiroyo Watanabe – Violine\nAgnes Randl – Violoncello\nMami Tsukio – Cembalo \n  \nAntonio Bononcini (1675 – 1726)\nSonata II in d\nAdagio – Allegro – Adagio – Allegro \nMarius Malanetchi – Violoncello\nEugène Michelangeli – Cembalo \n  \nGiovanni Bononcini (1670 – 1747)\nKantate Tutta fiamme\, e tutta ardore\nAria Tutta fiamme\, e tutta ardore – Rezitativ – Aria Un cor più tormentato \nMayu Kawada – Gesang\nSara Glanzer\, Jasmin Vorhauser – Blockflöte\nDesiree Wöhrer – Viola da Gamba\nSobin Jo – Cembalo \n  \nAntonio Caldara\nTriosonate in G\, op. 1/2\nGrave – Vivace – Adagio – Vivace \nVerena Grundner – Blockflöte\nHiroyo Watanabe – Violine\nAgnes Randl – Violoncello\nMami Tsukio – Cembalo \n  \nAntonio Bononcini\nSonata VI in D\nLargo – Allegro – Adagio – Allegro \nMarius Malanetchi – Violoncello\nEugène Michelangeli – Cembalo \n  \nGiovanni Bononcini\nKantate Quando vedo a mille rose\nAria Quando vedo a mille rose – Rezitativ – Aria A l’incostante amante \nAnna-Maria Nunzer – Gesang\nBarbara Faulend-Klauser\, Barbora Špelinová – Blockflöte\nMarius Malanetchi – Violoncello\nSobin Jo – Cembalo \n  \nKonzert ohne Pause. \nEintritt frei. \n  \nQuellen:\nA. Bononcini\, 12 Sonaten für Violoncello und Basso-Continuo: F-Psg Ms 1090\nG. Bononcini\,  Sechs Kantaten: A-Wn MS 17587\nA. Caldara\, Suonate a tre op. 1\, Venedig 1693
URL:https://mdw.ac.at/altemusik/event/maimusik-2022-italy-goes-vienna/
LOCATION:Alter Konzert Saal am Rennweg\, Rennweg 8\, Wien\, 1030\, Austria
CATEGORIES:MaiMusik,MaiMusik 2022,Öffentlich
ATTACH;FMTTYPE=image/jpeg:https://mdw.ac.at/altemusik/blog2/wp-content/uploads/2022/02/5_Italy_goes_Vienna.jpg
GEO:48.196667;16.380861
X-APPLE-STRUCTURED-LOCATION;VALUE=URI;X-ADDRESS=Alter Konzert Saal am Rennweg Rennweg 8 Wien 1030 Austria;X-APPLE-RADIUS=500;X-TITLE=Rennweg 8:geo:16.380861,48.196667
END:VEVENT
BEGIN:VEVENT
DTSTART;TZID=Europe/Vienna:20220514T160000
DTEND;TZID=Europe/Vienna:20220514T173000
DTSTAMP:20260423T195531
CREATED:20220219T221123Z
LAST-MODIFIED:20220505T082855Z
UID:11099-1652544000-1652549400@mdw.ac.at
SUMMARY:MAIMUSIK 2022 | Frauenpower
DESCRIPTION:Starke Komponistinnen des 18. Jahrhunderts auf dem Podium\n  \nDer von Männern dominierten europäischen Musikszene zum Trotz können sich einige Komponistinnen im 18. Jahrhundert Respekt und Anerkennung verschaffen. Mit Anna Bon\, Wilhelmine von Bayreuth\, Anna Amalie von Preußen und anderen stellt dieses Konzert interessante Musikerinnen dieser Epoche in den Mittelpunkt. Zumindest für einen Nachmittag soll komponierenden Frauen der Raum gegeben werden\, der ihnen zu ihrer Zeit nur selten eingeräumt wurde. \nKonzert ohne Pause. \nEintritt frei. \n  \nProgramm\nElisabeth Jacquet de la Guerre (1665 in Paris – 1729 ebenda) \nSonate en trio in D-Dur \nChing-Yao Wang\, Traverso\nReina Yoshioka\, Violine\nMarius Malanetchi\, Viola da Gamba\nJohannes Maria Bogner\, Cembalo \n  \nMarianne Martinez (1744 in Wien – 1812 in Wien „auf der Saillerstadt“) \nSonate in A-Dur\nAllegro – Rondo adagio – Tempo di minuetto \nJoseph Zaarour\, Cembalo \n  \nAnna Bonn di Venezia (1738 in Bologna – nach 1767) \nSonate in F-Dur\nLargo – Allegro – Allegro \nDaniel Ploderer\, Traverso\nJohannes Bogner\, Cembalo \n  \nAnna Amalia von Preussen (1723 in Berlin – 1787 ebenda) \nSonate in B-Dur\nAdagio – Allegretto – Allegro ma non troppo \nJasmin Vorhauser\, Blockflöte\nMarco Primultini\, Cembalo \n  \nMarianne Martines (1744 – 1812) \nSonate in E-Dur\nAllegro – Andante – Presto \nRui Cai\, Cembalo \n  \nElisabeth Jacquet de la Guerre (1665 – 1729) \n„Le Sommeil d’Ulisse„\, 3. Cantate aus Cantates Françoises (Paris 1715) \nSimphonie – Récitatif – Tempêste – Air – Récitatif – Sommeil \nAnna Ryabenkaya\, Sopran\nMichael Lind\, Traverso\nEmma Breit\, Violine\nSonya Shapovalova\, Cembalo\nDésirée Wöhrer\, Viola da Gamba
URL:https://mdw.ac.at/altemusik/event/maimusik-2022-frauenpower/
LOCATION:Alter Konzert Saal am Rennweg\, Rennweg 8\, Wien\, 1030\, Austria
CATEGORIES:MaiMusik,MaiMusik 2022,Öffentlich,Studienkonzert
ATTACH;FMTTYPE=image/jpeg:https://mdw.ac.at/altemusik/blog2/wp-content/uploads/2022/02/3_Frauenpower__Orazio-Gentileschi.jpg
GEO:48.196667;16.380861
X-APPLE-STRUCTURED-LOCATION;VALUE=URI;X-ADDRESS=Alter Konzert Saal am Rennweg Rennweg 8 Wien 1030 Austria;X-APPLE-RADIUS=500;X-TITLE=Rennweg 8:geo:16.380861,48.196667
END:VEVENT
BEGIN:VEVENT
DTSTART;TZID=Europe/Vienna:20220512T093000
DTEND;TZID=Europe/Vienna:20220512T103000
DTSTAMP:20260423T195531
CREATED:20220323T094110Z
LAST-MODIFIED:20220328T162319Z
UID:11385-1652347800-1652351400@mdw.ac.at
SUMMARY:VORTRAG | „Égal – inégal – ganz egal?“ | Claire GENEWEIN
DESCRIPTION:
URL:https://mdw.ac.at/altemusik/event/vortrag-egal-inegal-ganz-egal/
LOCATION:Alter Konzert Saal am Rennweg\, Rennweg 8\, Wien\, 1030\, Austria
CATEGORIES:Traverso
ATTACH;FMTTYPE=image/jpeg:https://mdw.ac.at/altemusik/blog2/wp-content/uploads/2022/03/claire-genewein.jpg
GEO:48.196667;16.380861
X-APPLE-STRUCTURED-LOCATION;VALUE=URI;X-ADDRESS=Alter Konzert Saal am Rennweg Rennweg 8 Wien 1030 Austria;X-APPLE-RADIUS=500;X-TITLE=Rennweg 8:geo:16.380861,48.196667
END:VEVENT
BEGIN:VEVENT
DTSTART;TZID=Europe/Vienna:20220326T150000
DTEND;TZID=Europe/Vienna:20220326T163000
DTSTAMP:20260423T195531
CREATED:20220217T150217Z
LAST-MODIFIED:20220322T120503Z
UID:11082-1648306800-1648312200@mdw.ac.at
SUMMARY:STUDIENKONZERT | Traversflöte
DESCRIPTION:Johann Sebastian Bach und das flauto traverso\n  \nEs spielen Studierende von Gertraud Wimmer und Gäste. \n  \nJohann Sebastian Bach (* 21. März / 31. März 1685 in Eisenach\, Sachsen-Eisenach; † 28. Juli 1750 in Leipzig\, Kurfürstentum Sachsen) \n  \nTriosonate für zwei Flöten und Basso Continuo in G-Dur\, BWV1039 \nAdagio – Allegro ma non presto -Adagio e piano – Presto \nLaura Moosbrugger\, Traverso\nAnna Karanitsch\, Traverso\nSonya Shapovalova\, Cembalo \n  \nSonate für Flöte und obligates Cembalo in g-Moll\, BWV1020 \nAllegro – Adagio – Allegro \nAnna Winter\, Traverso\nArthur Jeszenszky\, Cembalo \n  \nSonate für Flöte und Basso Continuo in E-Dur\, BWV1035 \nAdagio ma non tanto – Allegro – Siciliano – Allegro assai \nMichael Lind\, Traverso\nSonya Shapovalova\, Cembalo \n  \nPartita für Flöte solo in a-Moll\, BWV1013 \nAllemande – Corrente – Sarabande – Bourrée anglaise \nChing-Yao Wang\, Traverso \n  \nSonate für Flöte und obligates Cembalo in h-Moll\, BWV 1030 \nAndante –  Largo e dolce \nDaniel Ploderer\, Traverso\nPiibe Talen\, Cembalo \n  \nSonate für Flöte und Basso Continuo in e-Moll\, BWV 1034 \nAdagio ma non tanto – Allegro – Andante – Allegro \nChing-Yao Wang\, Traverso\nSonya Shapovalova\, Cembalo
URL:https://mdw.ac.at/altemusik/event/studienkonzert-traversflote-4/
LOCATION:Alter Konzert Saal am Rennweg\, Rennweg 8\, Wien\, 1030\, Austria
CATEGORIES:Öffentlich,Studienkonzert,Traversflöte
ATTACH;FMTTYPE=image/jpeg:https://mdw.ac.at/altemusik/blog2/wp-content/uploads/2021/10/Flute_of_Quantz_Painting_by_Gerhard_cropped-1.jpg
GEO:48.196667;16.380861
X-APPLE-STRUCTURED-LOCATION;VALUE=URI;X-ADDRESS=Alter Konzert Saal am Rennweg Rennweg 8 Wien 1030 Austria;X-APPLE-RADIUS=500;X-TITLE=Rennweg 8:geo:16.380861,48.196667
END:VEVENT
BEGIN:VEVENT
DTSTART;TZID=Europe/Vienna:20220321T190000
DTEND;TZID=Europe/Vienna:20220321T203000
DTSTAMP:20260423T195531
CREATED:20220215T154041Z
LAST-MODIFIED:20220323T115553Z
UID:11021-1647889200-1647894600@mdw.ac.at
SUMMARY:KONZERT | EARLY MUSIC DAY 2022
DESCRIPTION:Zum Early Music Day 2022 trägt das Institut für Alte Musik der mdw mit Werken von Johann Sebastian Bach\, seinem ältesten Sohn Wilhelm Friedemann und dem befreundeten Georg Philipp Telemann\, der der Patenonkel von Bachs zweitem überlebendem Sohn Carl Philipp Emanuel wurde\, bei. \nJohann Sebastian Bach hinterließ einen reichhaltigen Schatz an Präludien und Fugen in den zwei Bänden des Wohltemperierten Claviers. Das Autograph des ersten Teils\, aus dem die Werke des heutigen Abends erklingen\, ist auf der Titelseite mit 1722 datiert. Es handelt sich um eine Reinschrift einer schon länger vorbereiteten Sammlung\, die nicht nur zum Unterricht der eigenen Schüler\, sondern auch zur Bewerbung um die Stelle des Kantors an der Leipziger Thomasschule\, die nach dem Tod Kuhnaus im Juni 1722 vakant wurde\, dienlich gewesen sein konnte. „Zum Nutzen und Gebrauch der lehrbegierigen musicalischen Jugend\, als auch derer in diesem Studio schon habil seyenden besonderem Zeitvertreib auffgesetzet“ stellt Johann Sebastian Bach ein stilistisch vielseitiges Anschauungsmaterial von Präludien und Fugen in vollendeter Ausführung zur Verfügung. Diese beiden Gattungen dienten\, neben dem Erwerb der Fingerfertigkeit\, auch dem Studium der Improvisation auf dem Tasteninstrument. Der Unterricht in Improvisation startete mit einfachen Präludien\, ausgehend von einfachen Kadenzen\, die mit dem Erlernen weiterer Harmonien ständig erweitert wurden. Im mitteldeutschen Raum waren es meist durchgehende Akkordbrechungen\, die auf der Grundlage des harmonischen Gerüsts ein Präludium entstehen ließen. (PZ) \n  \nDas Konzert findet für Konzertgäste in Wien statt und wird zusätzlich live gestreamt. Der Link hierfür findet sich gleich unterhalb des Programms. \n  \nJohann Sebastian Bach (1685 – 1750) \nAus der Französischen Suite in E-Dur\, BWV 817\nAllemande – Courante – Sarabande – Gigue \nDohyeon Lee – Cembalo \n  \nWilhelm Friedemann Bach (1710 – 1784) \nSonate für 2 Traversflöten in Es-Dur\, FK 55\nAllegro – Adagio mà non molto – Presto \nChing-Yao Wang & Daniel Ploderer – ­Traversflöten \n  \nJohann Sebastian Bach \nPræludium in es-Moll\, BWV 853 \nMirjam Tally (*1976) \n“Swimming Bach“ für Cembalo und Soundtrack (2001) \nPiibe Talen – Cembalo \n  \nGeorg Philipp Telemann (1681 – 1767) \nTrio Twv 42:C2\nDolce – Allegro – Grave – Vivace \nSimon Pibal\, Franziska Hoffmann – Chalumeau\nDesiree Wöhrer – Viola da Gamba\nPiibe Talen – Cembalo \n  \nJohann Sebastian Bach \naus der Französischen Suite in c-Moll\, BWV 813\nAllemande – Courante – Sarabande – Air \nArthur Jeszenszky – Cembalo \n  \nJohann Sebastian Bach \nPræludium und Fuga in D-Dur\, BWV 850 \nJoseph Zaarour – Cembalo \n  \nGeorg Philipp Telemann \nKantate „Vor des lichten Tages Schein“\, TWV 1:1483 \nAnna-Maria Nunzer – Gesang\nBarbara Faulend-Klauser – Blockflöte\nAgnes Randl – Violoncello\nDohyeon Lee – Cembalo
URL:https://mdw.ac.at/altemusik/event/konzert-early-music-day-2022/
LOCATION:Alter Konzert Saal am Rennweg\, Rennweg 8\, Wien\, 1030\, Austria
CATEGORIES:Emd,Öffentlich
ATTACH;FMTTYPE=image/png:https://mdw.ac.at/altemusik/blog2/wp-content/uploads/2022/02/Logo-EN-small.png
GEO:48.196667;16.380861
X-APPLE-STRUCTURED-LOCATION;VALUE=URI;X-ADDRESS=Alter Konzert Saal am Rennweg Rennweg 8 Wien 1030 Austria;X-APPLE-RADIUS=500;X-TITLE=Rennweg 8:geo:16.380861,48.196667
END:VEVENT
BEGIN:VEVENT
DTSTART;TZID=Europe/Vienna:20211111T190000
DTEND;TZID=Europe/Vienna:20211111T203000
DTSTAMP:20260423T195531
CREATED:20211026T112248Z
LAST-MODIFIED:20211026T171318Z
UID:10348-1636657200-1636662600@mdw.ac.at
SUMMARY:Abschlusskonzert
DESCRIPTION:Abschlusskonzert der Gesangs- und Cembaloworkshops (08.-11.11.)\nmit Vokal- und Cembalomusik am Wiener Hof unter Kaiser Leopold I.\n\n\nStudierende der mdw (Gesang & Cembalo)
URL:https://mdw.ac.at/altemusik/event/abschlusskonzert/
LOCATION:Alter Konzert Saal am Rennweg\, Rennweg 8\, Wien\, 1030\, Austria
CATEGORIES:Leopold I.,Öffentlich,Symposien,Workshop
ATTACH;FMTTYPE=image/jpeg:https://mdw.ac.at/altemusik/blog2/wp-content/uploads/2021/02/Jan_Thomas_-_Leopold_I_as_Acis_in_the_play_La_Galatea-1-scaled-e1612452869431.jpg
GEO:48.196667;16.380861
X-APPLE-STRUCTURED-LOCATION;VALUE=URI;X-ADDRESS=Alter Konzert Saal am Rennweg Rennweg 8 Wien 1030 Austria;X-APPLE-RADIUS=500;X-TITLE=Rennweg 8:geo:16.380861,48.196667
END:VEVENT
BEGIN:VEVENT
DTSTART;TZID=Europe/Vienna:20200616T183000
DTEND;TZID=Europe/Vienna:20200616T203000
DTSTAMP:20260423T195531
CREATED:20200119T164244Z
LAST-MODIFIED:20200422T113413Z
UID:6079-1592332200-1592339400@mdw.ac.at
SUMMARY:ABGESAGT! | STUDIENKONZERT | Blockflöte (Inst. 18)
DESCRIPTION:
URL:https://mdw.ac.at/altemusik/event/studienkonzert-blockflote-inst-18-3/
LOCATION:Alter Konzert Saal am Rennweg\, Rennweg 8\, Wien\, 1030\, Austria
CATEGORIES:Blockflöte,Öffentlich,Studienkonzert
ATTACH;FMTTYPE=image/jpeg:https://mdw.ac.at/altemusik/blog2/wp-content/uploads/2019/09/811px-Frans_Hals_-_Singing_Boy_with_Flute_-_Google_Art_Project.jpg
GEO:48.196667;16.380861
X-APPLE-STRUCTURED-LOCATION;VALUE=URI;X-ADDRESS=Alter Konzert Saal am Rennweg Rennweg 8 Wien 1030 Austria;X-APPLE-RADIUS=500;X-TITLE=Rennweg 8:geo:16.380861,48.196667
END:VEVENT
BEGIN:VEVENT
DTSTART;TZID=Europe/Vienna:20200526T183000
DTEND;TZID=Europe/Vienna:20200526T203000
DTSTAMP:20260423T195531
CREATED:20200119T163924Z
LAST-MODIFIED:20200422T113505Z
UID:6076-1590517800-1590525000@mdw.ac.at
SUMMARY:ABGESAGT! | STUDIENKONZERT | Blockflöte (Inst. 18)
DESCRIPTION:
URL:https://mdw.ac.at/altemusik/event/studienkonzert-blockflote-inst-18-2/
LOCATION:Alter Konzert Saal am Rennweg\, Rennweg 8\, Wien\, 1030\, Austria
CATEGORIES:Öffentlich
ATTACH;FMTTYPE=image/jpeg:https://mdw.ac.at/altemusik/blog2/wp-content/uploads/2019/09/811px-Frans_Hals_-_Singing_Boy_with_Flute_-_Google_Art_Project.jpg
GEO:48.196667;16.380861
X-APPLE-STRUCTURED-LOCATION;VALUE=URI;X-ADDRESS=Alter Konzert Saal am Rennweg Rennweg 8 Wien 1030 Austria;X-APPLE-RADIUS=500;X-TITLE=Rennweg 8:geo:16.380861,48.196667
END:VEVENT
BEGIN:VEVENT
DTSTART;TZID=Europe/Vienna:20200118T150000
DTEND;TZID=Europe/Vienna:20200118T170000
DTSTAMP:20260423T195531
CREATED:20200113T112353Z
LAST-MODIFIED:20200113T113938Z
UID:5978-1579359600-1579366800@mdw.ac.at
SUMMARY:STUDIENKONZERT | Blockflöte (Inst. 18)
DESCRIPTION:  \nStudierende von Rahel Stoellger und Gäste\nProgramm\nJohann Jacob van Eyck (1590 – 1657): Doen daphne d’over de schoone maeght\nBarbara Faulend-Klauser \nMarco Uccellini (1603 – 1680): La Bergamasca\nBarbara Faulend-Klauser\, Patricia Nägele \n\nJohann Adolf Hasse (1699 – 1783): Cantate per flauto\nAllegro – Adagio – Allegro \nMonika Kami \n\nGeorg Philipp Telemann (1681 – 1767): Sonate in h-moll für zwei Blockflöten TWV 40:147\nAdagio – Vivace – Adagio – Presto \nBarbara Faulend-Klauser\, Elisa Ramberger (Klasse Prof. Carsten Eckert) \n\nGeorg Philipp Telemann aus der Sonate in f-moll\nTriste – Allegro \nTheresa Chobota (Klasse Bernhard Plaschitz\, Musikschule Mödling) \nMartina Glatz\, Cembalo \nGeorg Philipp Telemann Doppelkonzert in e-moll für Blockflöte\, Traversflöte und Streicher\nLargo – Allegro – Largo – Presto \nSara Glanzer\, Blockflöte\, Jasmin Vorhauser Traversflöte\, \nAngelika Moskal\, Verena Stöckl Violine\, Momoko Aritomi Bratsche \nMatthäus Pescoller Violoncello\, Eugène Michelangeli\, Cembalo \nPAUSE\nFrançois Couperin (1668 – 1733): aus Les nations : la Françoise\ngravement/gayement/gravement/gayement/gravement/vivement-Air \nJasmin Vorhauser Traversflöte\, Angelika Moskal Violine\, \nMatthäus Pescoller Violoncello\, Martin Riccabona Cembalo \n\nanonymus (um 1700) aus „The division flute“\nPauls Steeple \nA division on a ground by Mr. Finger \nNina Altenburger \n\nAntonio Vivaldi (1678 – 1741) aus dem Konzert C-Dur (arr. Bertho Driever)\nLargo – Allegro molto \nSören Sieg (*1966) aus der afrikanischen Suite Nr. 4\nkinyongo (Wehmut) \njamboree (das Freudenfest) \nBlockflötenquartett der Musikschule Mödling \nTeresa Chobota\, Isabell Rehberger\, Lena Stoellger\,  \nBernhard Plaschitz (Leitung) \n\nGeorg Philipp Telemann aus Pariser Quartette: Concerto primo in G-Dur\nGrave/Allegro/Grave /Allegro – Largo/Allegro/Largo – Allegro \nMaria Udwardi Traversflöte\, Angelika Moskal Violine\, \nOliver Felföldi Violoncello\, Matthäus Pescoller Violoncello continuo\, \nPibe Maria Talen Cembalo
URL:https://mdw.ac.at/altemusik/event/studienkonzert-blockflote-inst-18/
LOCATION:Alter Konzert Saal am Rennweg\, Rennweg 8\, Wien\, 1030\, Austria
CATEGORIES:Blockflöte,Öffentlich,Studienkonzert
ATTACH;FMTTYPE=image/jpeg:https://mdw.ac.at/altemusik/blog2/wp-content/uploads/2019/09/811px-Frans_Hals_-_Singing_Boy_with_Flute_-_Google_Art_Project.jpg
GEO:48.196667;16.380861
X-APPLE-STRUCTURED-LOCATION;VALUE=URI;X-ADDRESS=Alter Konzert Saal am Rennweg Rennweg 8 Wien 1030 Austria;X-APPLE-RADIUS=500;X-TITLE=Rennweg 8:geo:16.380861,48.196667
END:VEVENT
BEGIN:VEVENT
DTSTART;TZID=Europe/Vienna:20191203T183000
DTEND;TZID=Europe/Vienna:20191203T210000
DTSTAMP:20260423T195531
CREATED:20190708T175943Z
LAST-MODIFIED:20191202T123410Z
UID:604-1575397800-1575406800@mdw.ac.at
SUMMARY:Studienkonzert | Blockflöte (Inst. 18)
DESCRIPTION:Studierende von Rahel Stoellger (Inst. 18)\n  \nAngelo Berardi (1636 – 1694) \nCanzona sesta \nSara Glanzer \n  \nGiovanni Battista Fontana (1571 – 1630) \nSonata sesta \nPatricia Nägele \n  \nJohann Sebastian Bach (1685 – 1750) \nOrgeltriosonate BWV 525  \nAllegro – Adagio – Allegro \nChristina Jennewein \n  \nGiovanni Battista Fontana \nSonata seconda \nBarbara Faulend-Klauser \n  \n  \nPaolo Benedetto Bellinzani (1690 – 1757) \nSonata ottava \nAdagio – Allegro – Adagio – Allegro \nLaura Ragger \n  \nArcangelo Corelli (1653 – 1713) \nLa Follia \nVerena Grundner \n  \nFrancesco Mancini (1672 – 1737) \nSonate in e-moll \nAndante – Allegro – Largo – Allegro \nLea Neumeyer \n  \nJacques-Martin Hotteterre (1674 – 1763) \nSuite in B-Dur \nAllemande (le cascade de St. Cloud) – Sarabande (la Guimon) – Courante (L’indifferente) – Rondeau (le plaintif) – Minuet (Le mignon) – Gigue (l’italienne) \nMarlene Olbricht\, Marco Primultini \n  \nGeorg Philipp Telemann (1681 – 1767) \nFantasie Nr. 9 in G-Dur \nAffettuoso – Allegro – Grave – Vivace \nAntonia Weber \n  \nGeorg Philipp Telemann \nSonatine in c-moll \nLargo – Allegro – Dolce – Vivace \nBarbara Faulend-Klauser \n  \nam Cembalo: Eugène Michelangeli und Sonja Leipold
URL:https://mdw.ac.at/altemusik/event/studienkonzert-blockflote-2/
LOCATION:Alter Konzert Saal am Rennweg\, Rennweg 8\, Wien\, 1030\, Austria
CATEGORIES:Öffentlich
ATTACH;FMTTYPE=image/jpeg:https://mdw.ac.at/altemusik/blog2/wp-content/uploads/2019/07/811px-Frans_Hals_-_Singing_Boy_with_Flute_-_Google_Art_Project.jpg
GEO:48.196667;16.380861
X-APPLE-STRUCTURED-LOCATION;VALUE=URI;X-ADDRESS=Alter Konzert Saal am Rennweg Rennweg 8 Wien 1030 Austria;X-APPLE-RADIUS=500;X-TITLE=Rennweg 8:geo:16.380861,48.196667
END:VEVENT
BEGIN:VEVENT
DTSTART;TZID=Europe/Vienna:20191125T180000
DTEND;TZID=Europe/Vienna:20191125T200000
DTSTAMP:20260423T195531
CREATED:20190908T153819Z
LAST-MODIFIED:20191124T124959Z
UID:4651-1574704800-1574712000@mdw.ac.at
SUMMARY:Studienkonzert | Cembalo
DESCRIPTION:Studierende von\nWolfgang Glüxam\, Maja Mijatovic\, Johannes Bogner und Patrick Ayrton\n\n\n\n\n  \nJ. S. Bach (1685-1750) \naus Französische Suite Nr. 5 in G-Dur BWV 816\nAllemande – Courante – Sarabande – Gavotte – Bourée – Loure \nCaroline Atschreiter \n\n  \n\nJ. S. Bach (1685-1750) \naus Wohltemperierten Klavier\, Band 1 \nPräludium und Fuge in Fis-Dur \nJuan Manuel Uribe \n  \nL. Couperin (1626-1661) \nPrélude in g \nOktay Karimishad \n  \nJ.J. Froberger (1616-1667) \n\n\nPartita No.6 in G\, FbWV 606 „Auff die Mayerin“ (1649) \n\n\n\n\nPrima Partita – Seconda Partita – Terza Partita – Quarta Partita – Quinta Partita – Sesta Partita. Cromatica –\nCourante sopra Mayerin – Double – Sarabande sopra Mayerin \nSergio Gasparella \n  \n\n\n\n\nC. Ph. E. Bach (1714-1788) \n12 Variationen über die Folie d’Espagne\, H.263 \nSobin Jo \n  \n*********** \n  \nJ. S. Bach (1685-1750) \naus Englische Suite Nr. 4 in F-Dur BWV 809 (Weimar 1715-20) \nPrélude – Allemande – Courante – Sarabande – Menuett I- II – Gigue \nSonya Shapovalova \n  \nChristian Diendorfer (*1957) \nPsi Song (2010) \n\n\nStefanie Laimer \n  \nW. A. Mozart (1756-1791) \n\n\nSonate in F- Dur\, KV 332\nAdagio-Allegro assai\nHyewon Woo
URL:https://mdw.ac.at/altemusik/event/studienkonzert-cembalo-5/
LOCATION:Alter Konzert Saal am Rennweg\, Rennweg 8\, Wien\, 1030\, Austria
CATEGORIES:Öffentlich
ATTACH;FMTTYPE=image/jpeg:https://mdw.ac.at/altemusik/blog2/wp-content/uploads/2019/09/couchet.jpg
GEO:48.196667;16.380861
X-APPLE-STRUCTURED-LOCATION;VALUE=URI;X-ADDRESS=Alter Konzert Saal am Rennweg Rennweg 8 Wien 1030 Austria;X-APPLE-RADIUS=500;X-TITLE=Rennweg 8:geo:16.380861,48.196667
END:VEVENT
END:VCALENDAR