BEGIN:VCALENDAR
VERSION:2.0
PRODID:-//Early Music Department - ECPv6.15.17.1//NONSGML v1.0//EN
CALSCALE:GREGORIAN
METHOD:PUBLISH
X-ORIGINAL-URL:https://mdw.ac.at/altemusik
X-WR-CALDESC:Veranstaltungen für Early Music Department
REFRESH-INTERVAL;VALUE=DURATION:PT1H
X-Robots-Tag:noindex
X-PUBLISHED-TTL:PT1H
BEGIN:VTIMEZONE
TZID:Europe/Vienna
BEGIN:DAYLIGHT
TZOFFSETFROM:+0100
TZOFFSETTO:+0200
TZNAME:CEST
DTSTART:20230326T010000
END:DAYLIGHT
BEGIN:STANDARD
TZOFFSETFROM:+0200
TZOFFSETTO:+0100
TZNAME:CET
DTSTART:20231029T010000
END:STANDARD
BEGIN:DAYLIGHT
TZOFFSETFROM:+0100
TZOFFSETTO:+0200
TZNAME:CEST
DTSTART:20240331T010000
END:DAYLIGHT
BEGIN:STANDARD
TZOFFSETFROM:+0200
TZOFFSETTO:+0100
TZNAME:CET
DTSTART:20241027T010000
END:STANDARD
BEGIN:DAYLIGHT
TZOFFSETFROM:+0100
TZOFFSETTO:+0200
TZNAME:CEST
DTSTART:20250330T010000
END:DAYLIGHT
BEGIN:STANDARD
TZOFFSETFROM:+0200
TZOFFSETTO:+0100
TZNAME:CET
DTSTART:20251026T010000
END:STANDARD
BEGIN:DAYLIGHT
TZOFFSETFROM:+0100
TZOFFSETTO:+0200
TZNAME:CEST
DTSTART:20260329T010000
END:DAYLIGHT
BEGIN:STANDARD
TZOFFSETFROM:+0200
TZOFFSETTO:+0100
TZNAME:CET
DTSTART:20261025T010000
END:STANDARD
BEGIN:DAYLIGHT
TZOFFSETFROM:+0100
TZOFFSETTO:+0200
TZNAME:CEST
DTSTART:20270328T010000
END:DAYLIGHT
BEGIN:STANDARD
TZOFFSETFROM:+0200
TZOFFSETTO:+0100
TZNAME:CET
DTSTART:20271031T010000
END:STANDARD
END:VTIMEZONE
BEGIN:VEVENT
DTSTART;TZID=Europe/Vienna:20260127T143000
DTEND;TZID=Europe/Vienna:20260127T173000
DTSTAMP:20260424T084213
CREATED:20260107T105506Z
LAST-MODIFIED:20260126T181945Z
UID:18017-1769524200-1769535000@mdw.ac.at
SUMMARY:MASTERCLASS | Cembalo | Élisabeth JOYÉ
DESCRIPTION:ZEITPLAN: \n14:30-15:15h\nLouis Couperin\nPavanne en fa# mineur \nElias Huber – Cembalo \n  \n15:15-16:00h\nFrancois Couperin\nHuitiême Ordre\nSarabande – Gavotte – Gigue \nTade Theuretzbacher – Cembalo \n  \n16:00-16:45h\nJean-Henri d’Anglebert\naus Pièces de Clavecin\nSuite in d-Moll \nJuliana Zhao – Cembalo \n  \n16:45-17:30h\nGaspard le Roux\nSuite in d minor\nPrelude – Allemande – Courante – Sarabande – Menuet \nRui Cui – Cembalo
URL:https://mdw.ac.at/altemusik/event/masterclass-cembalo-elisabeth-joye-2/
LOCATION:Ensemble-Raum Seilerstätte (S1 A0320)\, Seilerstätte 26\, Wien\, 1010\, Austria
CATEGORIES:Joyé
ATTACH;FMTTYPE=image/jpeg:https://mdw.ac.at/altemusik/blog2/wp-content/uploads/2026/01/elisabeth-4-3.jpg
GEO:48.2042331;16.3737212
X-APPLE-STRUCTURED-LOCATION;VALUE=URI;X-ADDRESS=Ensemble-Raum Seilerstätte (S1 A0320) Seilerstätte 26 Wien 1010 Austria;X-APPLE-RADIUS=500;X-TITLE=Seilerstätte 26:geo:16.3737212,48.2042331
END:VEVENT
BEGIN:VEVENT
DTSTART;TZID=Europe/Vienna:20260127T090000
DTEND;TZID=Europe/Vienna:20260127T130000
DTSTAMP:20260424T084213
CREATED:20260107T105418Z
LAST-MODIFIED:20260126T181452Z
UID:18014-1769504400-1769518800@mdw.ac.at
SUMMARY:MASTERCLASS | Cembalo | Élisabeth JOYÉ
DESCRIPTION:ZEITPLAN: \n09:00-09:45h\nFrancois Couperin\naus III Livre\nSeizieme ordre en sol majeur \nMeeri Kraas – Cembalo \n  \n09:45-10:30h\nFrancois Couperin\naus Sixième Ordre in B-flat Major\nNo.2 „Les Langueurs Tendres“\nNo.4 „La Bersan“ \nRisa Shimizu – Cembalo \n  \n10:30-11:15h\nÉlisabeth Jacquet de La Guerre\naus Pièces de clavecin Livre 1\nSuite in a \nBenedikt Holter – Cembalo \n  \n11:30-12:15h\nJean-Henri d’Anglebert\naus Pièces de Clavecin\nSuite en sol mineur\nPrélude – Courante – Passacaille d’Armide de Mr. De Lully \nArthur Jeszenszky – Cembalo \n  \n12:15-13:00h\nJean-Henri d’Anglebert\naus Pièces de Clavecin\nSuite en sol mineur\nPrélude – Allemande – Gaillarde \nChun-Shih Lin – Cembalo
URL:https://mdw.ac.at/altemusik/event/masterclass-cembalo-elisabeth-joye/
LOCATION:Ensemble-Raum Seilerstätte (S1 A0320)\, Seilerstätte 26\, Wien\, 1010\, Austria
CATEGORIES:Joyé
ATTACH;FMTTYPE=image/jpeg:https://mdw.ac.at/altemusik/blog2/wp-content/uploads/2026/01/elisabeth-4-3.jpg
GEO:48.2042331;16.3737212
X-APPLE-STRUCTURED-LOCATION;VALUE=URI;X-ADDRESS=Ensemble-Raum Seilerstätte (S1 A0320) Seilerstätte 26 Wien 1010 Austria;X-APPLE-RADIUS=500;X-TITLE=Seilerstätte 26:geo:16.3737212,48.2042331
END:VEVENT
BEGIN:VEVENT
DTSTART;TZID=Europe/Vienna:20251127T143000
DTEND;TZID=Europe/Vienna:20251127T213000
DTSTAMP:20260424T084213
CREATED:20251122T121133Z
LAST-MODIFIED:20251124T095442Z
UID:17912-1764253800-1764279000@mdw.ac.at
SUMMARY:VORTRÄGE | Blockflötenbau Heute
DESCRIPTION:BLOCKFLÖTENBAU HEUTE\nVorträge\, Erfahrungsaustausch und Instrumentenausstellung 27. und 28. November \n\n27. November 2025 Ensembleraum A0320\, Seilerstätte 26\, 1010 Wien \n\n14.30 – 15.30 Vortrag 1 mit Erik Jahn (Blockflötenschmiede): Mensurlängen von Blockflöten – Auswirkung verschiedener Stimmungslängen auf Registerwechsel und Überblasverhalten\n15.45 – 16.45 Vortrag 2 mit Lorenzo Lio: „Bogenhauser Künstlerkapelle“ und ihre Originalinstrumentensammlung. Blockflötenbau im Allgemeinen.\n17.00 – 17.45 Vortrag 3 mit Erik Jahn (Blockflötenschmiede): Verschiedene Bohrungsprofile und Mensurcharakteristika. Im Anschluss Überblasübungen zum besseren Verständnis der verschiedenen Mensurlängen und Diskussion\n18.00 – 19.00 Vortrag 4 mit Monika Musch: Fred Morgan und sein Einfluss auf nachfolgende Generationen von Blockflötenbauern.\n19.15 – 20.45 Vortrag 5 mit Itai Weissman: Breath Translated: Harnessing the Creative Potential of Imperfections in Digitally Reconstructed Historical Woodwinds.\n20.45 – 21.30 Diskussionsrunde \nAnmeldung erforderlich an primultini@mdw.ac.at!
URL:https://mdw.ac.at/altemusik/event/vortraege-blockfloetenbau-heute/
LOCATION:Ensemble-Raum Seilerstätte (S1 A0320)\, Seilerstätte 26\, Wien\, 1010\, Austria
CATEGORIES:blockflötenbauheute,Öffentlich
ATTACH;FMTTYPE=image/jpeg:https://mdw.ac.at/altemusik/blog2/wp-content/uploads/2023/11/Blockfloeten_Syntagma-musicum-742x1024-1-e1701346364488.jpg
GEO:48.2042331;16.3737212
X-APPLE-STRUCTURED-LOCATION;VALUE=URI;X-ADDRESS=Ensemble-Raum Seilerstätte (S1 A0320) Seilerstätte 26 Wien 1010 Austria;X-APPLE-RADIUS=500;X-TITLE=Seilerstätte 26:geo:16.3737212,48.2042331
END:VEVENT
BEGIN:VEVENT
DTSTART;TZID=Europe/Vienna:20240420T100000
DTEND;TZID=Europe/Vienna:20240420T140000
DTSTAMP:20260424T084213
CREATED:20240412T080910Z
LAST-MODIFIED:20240412T080910Z
UID:15128-1713607200-1713621600@mdw.ac.at
SUMMARY:WORKSHOP | antiBLOCKade - Die Magie des Voicings von Blockflöten | Nikolaj RONIMUS (Kopenhagen)
DESCRIPTION:In einem Workshop für BlockflötistInnen und andere InteressentInnen wird der dänische Blockflötist\, Hochschuldozent und Blockflötenbauer NIKOLAJ RONIMUS eine öffentliche Werkstatt veranstalten\, in der er sein umfassendes Wissen über den zeitgenössischen Blockflötenbau in Beziehung zu der instrumentenbaulichen Geschichte der Blockflöte den Anwesenden auf seine faszinierende und motivierende Art und Weise profund und praktisch darlegen wird. Einzelne „schlummernde“ Instrumente von Teilnehmenden können dabei zu neuem Leben erweckt werden. Späne werden also fallen und viele Ideen über Klang und Voicing ausgetauscht. \nDer Eintritt ist auch für externe Teilnehmende gratis.
URL:https://mdw.ac.at/altemusik/event/workshop-antiblockade-die-magie-des-voicings-von-blockfloeten-nikolaj-ronimus-kopenhagen-3/
LOCATION:Ensemble-Raum Seilerstätte (S1 A0320)\, Seilerstätte 26\, Wien\, 1010\, Austria
ATTACH;FMTTYPE=image/jpeg:https://mdw.ac.at/altemusik/blog2/wp-content/uploads/2024/04/N.-Ronimus.jpg
GEO:48.2042331;16.3737212
X-APPLE-STRUCTURED-LOCATION;VALUE=URI;X-ADDRESS=Ensemble-Raum Seilerstätte (S1 A0320) Seilerstätte 26 Wien 1010 Austria;X-APPLE-RADIUS=500;X-TITLE=Seilerstätte 26:geo:16.3737212,48.2042331
END:VEVENT
BEGIN:VEVENT
DTSTART;TZID=Europe/Vienna:20240419T100000
DTEND;TZID=Europe/Vienna:20240419T180000
DTSTAMP:20260424T084213
CREATED:20240412T080342Z
LAST-MODIFIED:20240412T080806Z
UID:15107-1713520800-1713549600@mdw.ac.at
SUMMARY:WORKSHOP | antiBLOCKade - Die Magie des Voicings von Blockflöten | Nikolaj RONIMUS (Kopenhagen)
DESCRIPTION:In einem Workshop für BlockflötistInnen und andere InteressentInnen wird der dänische Blockflötist\, Hochschuldozent und Blockflötenbauer NIKOLAJ RONIMUS eine öffentliche Werkstatt veranstalten\, in der er sein umfassendes Wissen über den zeitgenössischen Blockflötenbau in Beziehung zu der instrumentenbaulichen Geschichte der Blockflöte den Anwesenden auf seine faszinierende und motivierende Art und Weise profund und praktisch darlegen wird. Einzelne „schlummernde“ Instrumente von Teilnehmenden können dabei zu neuem Leben erweckt werden. Späne werden also fallen und viele Ideen über Klang und Voicing ausgetauscht. \nDer Eintritt ist auch für externe Teilnehmende gratis.
URL:https://mdw.ac.at/altemusik/event/workshop-antiblockade-die-magie-des-voicings-von-blockfloeten-nikolaj-ronimus-kopenhagen-2/
LOCATION:Ensemble-Raum Seilerstätte (S1 A0320)\, Seilerstätte 26\, Wien\, 1010\, Austria
ATTACH;FMTTYPE=image/jpeg:https://mdw.ac.at/altemusik/blog2/wp-content/uploads/2024/04/N.-Ronimus.jpg
GEO:48.2042331;16.3737212
X-APPLE-STRUCTURED-LOCATION;VALUE=URI;X-ADDRESS=Ensemble-Raum Seilerstätte (S1 A0320) Seilerstätte 26 Wien 1010 Austria;X-APPLE-RADIUS=500;X-TITLE=Seilerstätte 26:geo:16.3737212,48.2042331
END:VEVENT
BEGIN:VEVENT
DTSTART;TZID=Europe/Vienna:20240418T160000
DTEND;TZID=Europe/Vienna:20240418T200000
DTSTAMP:20260424T084213
CREATED:20240412T075338Z
LAST-MODIFIED:20240412T080731Z
UID:15100-1713456000-1713470400@mdw.ac.at
SUMMARY:WORKSHOP | antiBLOCKade - Die Magie des Voicings von Blockflöten | Nikolaj RONIMUS (Kopenhagen)
DESCRIPTION:In einem Workshop für BlockflötistInnen und andere InteressentInnen wird der dänische Blockflötist\, Hochschuldozent und Blockflötenbauer NIKOLAJ RONIMUS eine öffentliche Werkstatt veranstalten\, in der er sein umfassendes Wissen über den zeitgenössischen Blockflötenbau in Beziehung zu der instrumentenbaulichen Geschichte der Blockflöte den Anwesenden auf seine faszinierende und motivierende Art und Weise profund und praktisch darlegen wird. Einzelne „schlummernde“ Instrumente von Teilnehmenden können dabei zu neuem Leben erweckt werden. Späne werden also fallen und viele Ideen über Klang und Voicing ausgetauscht. \nDer Eintritt ist auch für externe Teilnehmende gratis.
URL:https://mdw.ac.at/altemusik/event/workshop-antiblockade-die-magie-des-voicings-von-blockfloeten-nikolaj-ronimus-kopenhagen/
LOCATION:Ensemble-Raum Seilerstätte (S1 A0320)\, Seilerstätte 26\, Wien\, 1010\, Austria
ATTACH;FMTTYPE=image/jpeg:https://mdw.ac.at/altemusik/blog2/wp-content/uploads/2024/04/N.-Ronimus.jpg
GEO:48.2042331;16.3737212
X-APPLE-STRUCTURED-LOCATION;VALUE=URI;X-ADDRESS=Ensemble-Raum Seilerstätte (S1 A0320) Seilerstätte 26 Wien 1010 Austria;X-APPLE-RADIUS=500;X-TITLE=Seilerstätte 26:geo:16.3737212,48.2042331
END:VEVENT
END:VCALENDAR