BEGIN:VCALENDAR
VERSION:2.0
PRODID:-//Early Music Department - ECPv6.15.17.1//NONSGML v1.0//EN
CALSCALE:GREGORIAN
METHOD:PUBLISH
X-ORIGINAL-URL:https://mdw.ac.at/altemusik
X-WR-CALDESC:Veranstaltungen für Early Music Department
REFRESH-INTERVAL;VALUE=DURATION:PT1H
X-Robots-Tag:noindex
X-PUBLISHED-TTL:PT1H
BEGIN:VTIMEZONE
TZID:Europe/Vienna
BEGIN:DAYLIGHT
TZOFFSETFROM:+0100
TZOFFSETTO:+0200
TZNAME:CEST
DTSTART:20180325T010000
END:DAYLIGHT
BEGIN:STANDARD
TZOFFSETFROM:+0200
TZOFFSETTO:+0100
TZNAME:CET
DTSTART:20181028T010000
END:STANDARD
BEGIN:DAYLIGHT
TZOFFSETFROM:+0100
TZOFFSETTO:+0200
TZNAME:CEST
DTSTART:20190331T010000
END:DAYLIGHT
BEGIN:STANDARD
TZOFFSETFROM:+0200
TZOFFSETTO:+0100
TZNAME:CET
DTSTART:20191027T010000
END:STANDARD
BEGIN:DAYLIGHT
TZOFFSETFROM:+0100
TZOFFSETTO:+0200
TZNAME:CEST
DTSTART:20200329T010000
END:DAYLIGHT
BEGIN:STANDARD
TZOFFSETFROM:+0200
TZOFFSETTO:+0100
TZNAME:CET
DTSTART:20201025T010000
END:STANDARD
BEGIN:DAYLIGHT
TZOFFSETFROM:+0100
TZOFFSETTO:+0200
TZNAME:CEST
DTSTART:20210328T010000
END:DAYLIGHT
BEGIN:STANDARD
TZOFFSETFROM:+0200
TZOFFSETTO:+0100
TZNAME:CET
DTSTART:20211031T010000
END:STANDARD
END:VTIMEZONE
BEGIN:VEVENT
DTSTART;TZID=Europe/Vienna:20200615T150000
DTEND;TZID=Europe/Vienna:20200615T170000
DTSTAMP:20260424T012913
CREATED:20200119T161706Z
LAST-MODIFIED:20200422T113425Z
UID:6054-1592233200-1592240400@mdw.ac.at
SUMMARY:ABGESAGT! | STUDIENKONZERT | Alte Musik
DESCRIPTION:
URL:https://mdw.ac.at/altemusik/event/studienkonzert-alte-musik-14/
LOCATION:Fanny Hensel-Saal\, Anton-von-Webern-Platz 1\, Wien\, 1030\, Austria
CATEGORIES:Öffentlich,Studienkonzert
ATTACH;FMTTYPE=image/jpeg:https://mdw.ac.at/altemusik/blog2/wp-content/uploads/2019/08/baschenis-1.jpg
GEO:48.2024634;16.3846447
X-APPLE-STRUCTURED-LOCATION;VALUE=URI;X-ADDRESS=Fanny Hensel-Saal Anton-von-Webern-Platz 1 Wien 1030 Austria;X-APPLE-RADIUS=500;X-TITLE=Anton-von-Webern-Platz 1:geo:16.3846447,48.2024634
END:VEVENT
BEGIN:VEVENT
DTSTART;TZID=Europe/Vienna:20200613T110000
DTEND;TZID=Europe/Vienna:20200613T130000
DTSTAMP:20260424T012913
CREATED:20200119T161558Z
LAST-MODIFIED:20200422T113431Z
UID:6050-1592046000-1592053200@mdw.ac.at
SUMMARY:ABGESAGT! | STUDIENKONZERT | Alte Musik
DESCRIPTION:
URL:https://mdw.ac.at/altemusik/event/studienkonzert-alte-musik-13/
LOCATION:Fanny Hensel-Saal\, Anton-von-Webern-Platz 1\, Wien\, 1030\, Austria
CATEGORIES:Öffentlich,Studienkonzert
ATTACH;FMTTYPE=image/jpeg:https://mdw.ac.at/altemusik/blog2/wp-content/uploads/2019/08/baschenis-1.jpg
GEO:48.2024634;16.3846447
X-APPLE-STRUCTURED-LOCATION;VALUE=URI;X-ADDRESS=Fanny Hensel-Saal Anton-von-Webern-Platz 1 Wien 1030 Austria;X-APPLE-RADIUS=500;X-TITLE=Anton-von-Webern-Platz 1:geo:16.3846447,48.2024634
END:VEVENT
BEGIN:VEVENT
DTSTART;TZID=Europe/Vienna:20200612T190000
DTEND;TZID=Europe/Vienna:20200612T210000
DTSTAMP:20260424T012913
CREATED:20200119T161504Z
LAST-MODIFIED:20200422T113435Z
UID:6047-1591988400-1591995600@mdw.ac.at
SUMMARY:ABGESAGT! | STUDIENKONZERT | Alte Musik
DESCRIPTION:
URL:https://mdw.ac.at/altemusik/event/studienkonzert-alte-musik-12/
LOCATION:Fanny Hensel-Saal\, Anton-von-Webern-Platz 1\, Wien\, 1030\, Austria
CATEGORIES:Öffentlich,Studienkonzert
ATTACH;FMTTYPE=image/jpeg:https://mdw.ac.at/altemusik/blog2/wp-content/uploads/2019/08/baschenis-1.jpg
GEO:48.2024634;16.3846447
X-APPLE-STRUCTURED-LOCATION;VALUE=URI;X-ADDRESS=Fanny Hensel-Saal Anton-von-Webern-Platz 1 Wien 1030 Austria;X-APPLE-RADIUS=500;X-TITLE=Anton-von-Webern-Platz 1:geo:16.3846447,48.2024634
END:VEVENT
BEGIN:VEVENT
DTSTART;TZID=Europe/Vienna:20200425T150000
DTEND;TZID=Europe/Vienna:20200425T170000
DTSTAMP:20260424T012913
CREATED:20200119T161357Z
LAST-MODIFIED:20200422T113325Z
UID:6044-1587826800-1587834000@mdw.ac.at
SUMMARY:ABGESAGT! | STUDIENKONZERT | Alte Musik
DESCRIPTION:
URL:https://mdw.ac.at/altemusik/event/studienkonzert-alte-musik-11/
LOCATION:Fanny Hensel-Saal\, Anton-von-Webern-Platz 1\, Wien\, 1030\, Austria
CATEGORIES:Öffentlich,Studienkonzert
ATTACH;FMTTYPE=image/jpeg:https://mdw.ac.at/altemusik/blog2/wp-content/uploads/2019/08/baschenis-1.jpg
GEO:48.2024634;16.3846447
X-APPLE-STRUCTURED-LOCATION;VALUE=URI;X-ADDRESS=Fanny Hensel-Saal Anton-von-Webern-Platz 1 Wien 1030 Austria;X-APPLE-RADIUS=500;X-TITLE=Anton-von-Webern-Platz 1:geo:16.3846447,48.2024634
END:VEVENT
BEGIN:VEVENT
DTSTART;TZID=Europe/Vienna:20200425T110000
DTEND;TZID=Europe/Vienna:20200425T130000
DTSTAMP:20260424T012913
CREATED:20200119T161307Z
LAST-MODIFIED:20200422T113308Z
UID:6041-1587812400-1587819600@mdw.ac.at
SUMMARY:ABGESAGT! | STUDIENKONZERT | Alte Musik
DESCRIPTION:
URL:https://mdw.ac.at/altemusik/event/studienkonzert-alte-musik-10/
LOCATION:Fanny Hensel-Saal\, Anton-von-Webern-Platz 1\, Wien\, 1030\, Austria
CATEGORIES:Öffentlich
ATTACH;FMTTYPE=image/jpeg:https://mdw.ac.at/altemusik/blog2/wp-content/uploads/2019/08/baschenis-1.jpg
GEO:48.2024634;16.3846447
X-APPLE-STRUCTURED-LOCATION;VALUE=URI;X-ADDRESS=Fanny Hensel-Saal Anton-von-Webern-Platz 1 Wien 1030 Austria;X-APPLE-RADIUS=500;X-TITLE=Anton-von-Webern-Platz 1:geo:16.3846447,48.2024634
END:VEVENT
BEGIN:VEVENT
DTSTART;TZID=Europe/Vienna:20200424T190000
DTEND;TZID=Europe/Vienna:20200424T210000
DTSTAMP:20260424T012913
CREATED:20200119T161217Z
LAST-MODIFIED:20200422T113237Z
UID:6038-1587754800-1587762000@mdw.ac.at
SUMMARY:ABGESAGT! | STUDIENKONZERT | Alte Musik
DESCRIPTION:
URL:https://mdw.ac.at/altemusik/event/studienkonzert-alte-musik-9/
LOCATION:Fanny Hensel-Saal\, Anton-von-Webern-Platz 1\, Wien\, 1030\, Austria
CATEGORIES:Öffentlich
ATTACH;FMTTYPE=image/jpeg:https://mdw.ac.at/altemusik/blog2/wp-content/uploads/2019/08/baschenis.jpg
GEO:48.2024634;16.3846447
X-APPLE-STRUCTURED-LOCATION;VALUE=URI;X-ADDRESS=Fanny Hensel-Saal Anton-von-Webern-Platz 1 Wien 1030 Austria;X-APPLE-RADIUS=500;X-TITLE=Anton-von-Webern-Platz 1:geo:16.3846447,48.2024634
END:VEVENT
BEGIN:VEVENT
DTSTART;TZID=Europe/Vienna:20191209T180000
DTEND;TZID=Europe/Vienna:20191209T203000
DTSTAMP:20260424T012913
CREATED:20190719T092534Z
LAST-MODIFIED:20191205T135147Z
UID:3038-1575914400-1575923400@mdw.ac.at
SUMMARY:Studienkonzert | Blockflöte
DESCRIPTION:Studierende von Carsten Eckert\nIL DOLCIMELO\nCharles-Marie Widor (1844-1937)\naus der 5. Orgelsinfonie in f-Moll\, op. 42 Nr. 1\, Paris 1879:  \n_4. Toccata. Allegro \nStefan Tokar\, Blockflöte; Márton Borsányi\, Cembalo \n  \nGirolamo Frescobaldi (1583-1643)\naus „Il primo libro delle canzoni ad una\, due\, tre\, e quattro voci. Accomodate\, per sonare ogni sorte de stromenti“ Roma\, 1628:  \nCanzona terza „La Bernadetta“ per canto e basso \nJessica Tognetti\, Blockflöte; Márton Borsányi\, Cembalo \n  \nAurelio Virgiliano (ca. 1540-ca. 1600)\nAus „Il dolcimelo dove si contengono variati\, passaggi\, e diminutioni cosi per voce\, come per tutte sorte d’instrumenti musicali; con loro accordi\, e modi de sonare“\, ca. 1600: \nRicercata seconda per Flauto et ogni altró instrumento \nJulia Herzog\, Blockflöte \n  \nPierre Sandrin (ca. 1490-1561)\nChanson „Doulce Mémoire“  \nDiminutionen von Diego Ortiz  \nElisa Ramberger\, Blockflöte; Reinhard Führer\, Truhenorgel \n  \nPierre Danican-Philidor (1681-1731)\naus „Deuxième œuvre contenant trois\, deux\, une suite à deux flûtes traversières seules et trois\, deux\, une autre suite dessus et basse pour les hautbois\, flûtes\, violons\, etc.“ Paris\, 1717: \nNeuviéme Suitte en sol mineur\n_Lentement\n_Courante. Affecteusement\n_Rigaudon en Rondeau\n_Gigue\n_Fugue \nVictor Petrov\, Blockflöte; Reinhard Führer\, Cembalo \n  \nJohann Sebastian Bach (1685-1750)\nSonate g-Moll (original e-Moll) für Blockflöte und B. c.\, BWV 1034\n_Adagio ma non tanto\n_Allegro\n_Andante\n_Allegro \nSoheyun Cho\, Blockflöte; Reinhard Führer\, Cembalo \n  \nJacques Martin Hotteterre (1673-1763)\naus „Premier Livre de Pieces pour la flûte-traversier\, et autres Instruments“ Paris\, 1715: \nQuatrieme Suite en sol mineur \n_Prelude. Lentement\n_Allemande „La Fontainebleau“. Gravement\n_Air „Le fleuri“. Gayment\n_Gavotte„La Mitilde“. Tendrement\n_Branle de village „L’Auteüil“\n_Menuet „Le Beaulien“ _2e Menuet \nSusanne Knoch\, Blockflöte; Márton Borsányi\, Cembalo \n  \nWilliam Babell (1688-1723)\naus „XII Solos for a Violin or Hautboy with a Bass…“ London\, ca. 1725: Sonata I g minor for quart-flute and basso continuo\n_Adagio\n_Vivace\n_Adagio\n_Allegro  \n(Diminutionen von Magdalena Spielmann)  \nMagdalena Spielmann\, Blockflöte; Reinhard Führer\, Cembalo \n  \nJames Paisible (1656-1721)\naus „Charles Babel Collection“ ca. 1700: Sonata in g minore for two flutes  \n_Adagio\n_Vivace\n_Grave\n_Allegro \nMagdalena Spielmann\, Blockflöte; Lorina Vallaster\, Blockflöte \n  \nGeorg Philipp Telemann (1681-1767)\naus „Essercizii musici overo dodeci soli e dodeci trii a diversi stromenti“\, Hamburg\, 1739: \nSolo d-Moll für Blockflöte und Basso continuo\, TWV 41:d4\n_Affetuoso\n_Presto\n_Grave\n_Allegro \nYasaman Masshouri\, Blockflöte; Márton Borsányi\, Cembalo \n\nFrancesco Maria Veracini (1690-1768)\naus „Sonate a Violino solo e Basso… opera prima“ Dresden\, 1721: Sonata sesta en mi minore \n_Fantasia. Largo – Allegro assai – Largo\n_Alemanda. Larghetto\n_Pastorale. Adagio\n_Giga. Allegro \nLuca Anna Várhelyi\, Blockflöte; Márton Borsányi\, Cembalo \n  \nGiovanni Girolamo Kapsberger (ca. 1580-1651)\naus „Libro primo d’intavolatura di chitarone“ Venetia\, 1604:  \nToccata L’Arpeggiata \nVictor Petrov\, Blockflöte
URL:https://mdw.ac.at/altemusik/event/studienkonzert-blockflote/
LOCATION:Fanny Hensel-Saal\, Anton-von-Webern-Platz 1\, Wien\, 1030\, Austria
CATEGORIES:Öffentlich
ATTACH;FMTTYPE=image/jpeg:https://mdw.ac.at/altemusik/blog2/wp-content/uploads/2019/07/811px-Frans_Hals_-_Singing_Boy_with_Flute_-_Google_Art_Project.jpg
GEO:48.2024634;16.3846447
X-APPLE-STRUCTURED-LOCATION;VALUE=URI;X-ADDRESS=Fanny Hensel-Saal Anton-von-Webern-Platz 1 Wien 1030 Austria;X-APPLE-RADIUS=500;X-TITLE=Anton-von-Webern-Platz 1:geo:16.3846447,48.2024634
END:VEVENT
BEGIN:VEVENT
DTSTART;TZID=Europe/Vienna:20191206T183000
DTEND;TZID=Europe/Vienna:20191206T203000
DTSTAMP:20260424T012913
CREATED:20190719T092329Z
LAST-MODIFIED:20191129T083546Z
UID:3034-1575657000-1575664200@mdw.ac.at
SUMMARY:Studienkonzert | Traversflöte
DESCRIPTION:Studierende von Gertraud Wimmer\n  \nJoseph Bodin de Boismortier (1689-1755)\n  \nSonate no.3 aus “Sonates en trio pour trois flûtes traversières sans basse “ op.7 (Paris\, 1725) Gravement – Allemande – Lentement – Gavotte en Rondeau – Gayment \nNao Kitabatake\, Yifeng Zhu\, Nicole Henter\, Traversi \n  \nPremière Sonate aus “VI Sonates pour clavecin et une flûtes-traversière “op.91 (Paris\, 1741) Sicilienne-Gayement-Gracieusement-Gayement \nJasmin Vorhauser\, Traverso\nSofya Shapovalova\, Cembalo \n  \nPremière Sonate aus „Sonates a deux flûtes traversieres sans basse “op.7 (Paris\, 1724) Allemande (Gravement) – Gayment – Gavotte – Lentement – Legerement \nEvamaria Felder\, Daniel Ploderer\, Traversi \n  \nSonata no.5 aus “Sonates en trio pour trois flûtes traversières sans basse “op.7 (Paris\, 1725) Rondement – Gayement – Air (gracieusement) – Gayement \nJingwen Nie\, Traverso\nSofyia Shapovalova\, Cembalo \n  \nConcerto no.2 in a minor aus” 6 Concertos Pour 5 Flûtes-traversiéres ou autres instrumens\, sans baße. On peut aussy les joüer avec une Basse “op.15 (Paris\,1727) Allegro-Largo-Allegro \nDaniel Ploderer \, Ching-Yao Wang\, Jingwen Nie \,Jasmin Vorhauser\, Gertraud Wimmer  \n  \n:o: Pause :o: \n  \nSonata no.3 aus “Sonates en trio pour deux haubois\, flûtes-traversières ou violons avec la basse” op.12 (Paris\, 1730) Grave – Allemanda (Allegro) – Affettuoso – Giga  \nDaniel Ploderer\, Jingwen Nie\, Traversi\nSofya Shapovalova\, Cembalo \n  \nSuite no.1 aus „Six Suites de Pièces pour une flute traversière seule avec la basse” op. 35 (Paris\, 1731) Prelude – Allemande – Les Charites Rondeau – L’Emerveillée Gaiment – Gavotte – Menuet  \nDaniel Ploderer\, Traverso \n  \n“L’Automne”: Cantate de basse taille avec simphonie (Paris\, 1738) \n– Prélude\, Récitatif „Où suis je? de quel bruit retentisent les Airs?“\n– Air (Gayment) „Chantons\, dansons\, et qu’on nous verse a boire“\n– Récitatif „Mais profitant des beaux jours de l’Automne“\n– Air (Grasieucement) “ Coule\, coule dans nos veines“\n– Récitatif „Quel est donc de mes Sens l’aveuglement extreme?“\n– Air (Doucement) „Envain la plus fiere beauté“\n– Air (Gayment) „C’en est fait\, a Bachus\, je cede la victoire“ \nSreten Manojlovic\, Bariton\nChing-Yao Wang\, Traversflöte\nSobin Jo\, Cembalo
URL:https://mdw.ac.at/altemusik/event/studienkonzert-traversflote/
LOCATION:Fanny Hensel-Saal\, Anton-von-Webern-Platz 1\, Wien\, 1030\, Austria
CATEGORIES:Öffentlich
ATTACH;FMTTYPE=image/jpeg:https://mdw.ac.at/altemusik/blog2/wp-content/uploads/2019/07/Quantz_by_Gerhard.jpg
GEO:48.2024634;16.3846447
X-APPLE-STRUCTURED-LOCATION;VALUE=URI;X-ADDRESS=Fanny Hensel-Saal Anton-von-Webern-Platz 1 Wien 1030 Austria;X-APPLE-RADIUS=500;X-TITLE=Anton-von-Webern-Platz 1:geo:16.3846447,48.2024634
END:VEVENT
END:VCALENDAR