BEGIN:VCALENDAR
VERSION:2.0
PRODID:-//Early Music Department - ECPv6.15.17.1//NONSGML v1.0//EN
CALSCALE:GREGORIAN
METHOD:PUBLISH
X-ORIGINAL-URL:https://mdw.ac.at/altemusik
X-WR-CALDESC:Veranstaltungen für Early Music Department
REFRESH-INTERVAL;VALUE=DURATION:PT1H
X-Robots-Tag:noindex
X-PUBLISHED-TTL:PT1H
BEGIN:VTIMEZONE
TZID:Europe/Vienna
BEGIN:DAYLIGHT
TZOFFSETFROM:+0100
TZOFFSETTO:+0200
TZNAME:CEST
DTSTART:20240331T010000
END:DAYLIGHT
BEGIN:STANDARD
TZOFFSETFROM:+0200
TZOFFSETTO:+0100
TZNAME:CET
DTSTART:20241027T010000
END:STANDARD
BEGIN:DAYLIGHT
TZOFFSETFROM:+0100
TZOFFSETTO:+0200
TZNAME:CEST
DTSTART:20250330T010000
END:DAYLIGHT
BEGIN:STANDARD
TZOFFSETFROM:+0200
TZOFFSETTO:+0100
TZNAME:CET
DTSTART:20251026T010000
END:STANDARD
BEGIN:DAYLIGHT
TZOFFSETFROM:+0100
TZOFFSETTO:+0200
TZNAME:CEST
DTSTART:20260329T010000
END:DAYLIGHT
BEGIN:STANDARD
TZOFFSETFROM:+0200
TZOFFSETTO:+0100
TZNAME:CET
DTSTART:20261025T010000
END:STANDARD
END:VTIMEZONE
BEGIN:VEVENT
DTSTART;TZID=Europe/Vienna:20251128T100000
DTEND;TZID=Europe/Vienna:20251128T160000
DTSTAMP:20260424T124139
CREATED:20251122T120440Z
LAST-MODIFIED:20251124T095938Z
UID:17903-1764324000-1764345600@mdw.ac.at
SUMMARY:INSTRUMENTENAUSSTELLUNG | Blockflöte
DESCRIPTION:BLOCKFLÖTENBAU HEUTE \n28. November 2025 Gebäude M Erdgeschoss\, Anton-von-Webern Platz 1\, 1030 Wien \nLORENZO LIO (St. Gallen\, Schweiz)\nMONIKA MUSCH (Freiburg i. Brsg.\, Deutschland)\nITAI WEISSMAN (Amsterdam\, Niederlande)\nBERNHARD GIRARDI (Salzburg)\nBLOCKFLÖTENSCHMIEDE SOPHIE SCHMID & ERIK JAHN (Würzburg\, Deutschland)
URL:https://mdw.ac.at/altemusik/event/instrumentenausstellung-blockfloete/
LOCATION:„Glaskasten“ am mdw-Campus\, M Gebäude\, Anton-von-Webern-Platz 1\, Wien\, Wien\, 1030\, Austria
CATEGORIES:blockflötenbauheute,Öffentlich
ATTACH;FMTTYPE=image/jpeg:https://mdw.ac.at/altemusik/blog2/wp-content/uploads/2023/11/Blockfloeten_Syntagma-musicum-742x1024-1-e1701346364488.jpg
GEO:48.2022798;16.3853297
X-APPLE-STRUCTURED-LOCATION;VALUE=URI;X-ADDRESS=„Glaskasten“ am mdw-Campus M Gebäude Anton-von-Webern-Platz 1 Wien Wien 1030 Austria;X-APPLE-RADIUS=500;X-TITLE=Anton-von-Webern-Platz 1:geo:16.3853297,48.2022798
END:VEVENT
END:VCALENDAR