BEGIN:VCALENDAR
VERSION:2.0
PRODID:-//Early Music Department - ECPv6.15.17.1//NONSGML v1.0//EN
CALSCALE:GREGORIAN
METHOD:PUBLISH
X-ORIGINAL-URL:https://mdw.ac.at/altemusik
X-WR-CALDESC:Veranstaltungen für Early Music Department
REFRESH-INTERVAL;VALUE=DURATION:PT1H
X-Robots-Tag:noindex
X-PUBLISHED-TTL:PT1H
BEGIN:VTIMEZONE
TZID:Europe/Vienna
BEGIN:DAYLIGHT
TZOFFSETFROM:+0100
TZOFFSETTO:+0200
TZNAME:CEST
DTSTART:20180325T010000
END:DAYLIGHT
BEGIN:STANDARD
TZOFFSETFROM:+0200
TZOFFSETTO:+0100
TZNAME:CET
DTSTART:20181028T010000
END:STANDARD
BEGIN:DAYLIGHT
TZOFFSETFROM:+0100
TZOFFSETTO:+0200
TZNAME:CEST
DTSTART:20190331T010000
END:DAYLIGHT
BEGIN:STANDARD
TZOFFSETFROM:+0200
TZOFFSETTO:+0100
TZNAME:CET
DTSTART:20191027T010000
END:STANDARD
BEGIN:DAYLIGHT
TZOFFSETFROM:+0100
TZOFFSETTO:+0200
TZNAME:CEST
DTSTART:20200329T010000
END:DAYLIGHT
BEGIN:STANDARD
TZOFFSETFROM:+0200
TZOFFSETTO:+0100
TZNAME:CET
DTSTART:20201025T010000
END:STANDARD
BEGIN:DAYLIGHT
TZOFFSETFROM:+0100
TZOFFSETTO:+0200
TZNAME:CEST
DTSTART:20210328T010000
END:DAYLIGHT
BEGIN:STANDARD
TZOFFSETFROM:+0200
TZOFFSETTO:+0100
TZNAME:CET
DTSTART:20211031T010000
END:STANDARD
BEGIN:DAYLIGHT
TZOFFSETFROM:+0100
TZOFFSETTO:+0200
TZNAME:CEST
DTSTART:20220327T010000
END:DAYLIGHT
BEGIN:STANDARD
TZOFFSETFROM:+0200
TZOFFSETTO:+0100
TZNAME:CET
DTSTART:20221030T010000
END:STANDARD
BEGIN:DAYLIGHT
TZOFFSETFROM:+0100
TZOFFSETTO:+0200
TZNAME:CEST
DTSTART:20230326T010000
END:DAYLIGHT
BEGIN:STANDARD
TZOFFSETFROM:+0200
TZOFFSETTO:+0100
TZNAME:CET
DTSTART:20231029T010000
END:STANDARD
BEGIN:DAYLIGHT
TZOFFSETFROM:+0100
TZOFFSETTO:+0200
TZNAME:CEST
DTSTART:20240331T010000
END:DAYLIGHT
BEGIN:STANDARD
TZOFFSETFROM:+0200
TZOFFSETTO:+0100
TZNAME:CET
DTSTART:20241027T010000
END:STANDARD
BEGIN:DAYLIGHT
TZOFFSETFROM:+0100
TZOFFSETTO:+0200
TZNAME:CEST
DTSTART:20250330T010000
END:DAYLIGHT
BEGIN:STANDARD
TZOFFSETFROM:+0200
TZOFFSETTO:+0100
TZNAME:CET
DTSTART:20251026T010000
END:STANDARD
BEGIN:DAYLIGHT
TZOFFSETFROM:+0100
TZOFFSETTO:+0200
TZNAME:CEST
DTSTART:20260329T010000
END:DAYLIGHT
BEGIN:STANDARD
TZOFFSETFROM:+0200
TZOFFSETTO:+0100
TZNAME:CET
DTSTART:20261025T010000
END:STANDARD
END:VTIMEZONE
BEGIN:VEVENT
DTSTART;TZID=Europe/Vienna:20251021T150000
DTEND;TZID=Europe/Vienna:20251021T170000
DTSTAMP:20260424T011433
CREATED:20250922T084535Z
LAST-MODIFIED:20251013T115441Z
UID:17102-1761058800-1761066000@mdw.ac.at
SUMMARY:KONZERT | C. A. Badia - Il Martirio di Santa Susanna
DESCRIPTION:350 Jahre Kirche St. Ursula\nORATORIO | Das Martyrium der heiligen Susanna \nDas Ursulinenkloster in Wien\, von der Kaiserinwitwe Eleonora Gonzaga-Nevers (1628-1686) gegründet\, wird in den letzten Jahrzehnten des 17. Jahrhunderts zu einem bedeutenden Musikzentrum in Wien. \nDie Ursulinen\, sich der Erziehung und Bildung von Mädchen widmend\, setzen einen besonderen Schwerpunkt auf Musik und werden im Laufe der Zeit für die Qualität ihrer Aufführungen berühmt. \nDa die kaiserliche Familie auch häufig bei Festen des Ursulinenklosters anwesend war\, gibt es eine Reihe von Werken von Carlo Agostino Badia für diesen speziellen Aufführungsort im Herzens Wiens. Das „Oratorio di Santa Susanna“ wurde zum ersten Mal im Jahre 1707\, zum Fest der Heiligen Ursula am 21. Oktober\, aufgeführt. Nach mehr als 300 Jahren lässt das Institut für Alte Musik der mdw dieses barocke Juwel am Ort der Uraufführung wieder erklingen. \n  \nProgramm: \nCarlo Agostino BADIA (1672-1738): Il Martirio di Santa Susanna (1707)\nNach einem Libretto von Paolo Antonio DEL NEGRO (1666-1718) \n  \nPrima Parte\n–\nVortrag: Huub van der Linden\, Das italienische Oratorium um 1700 als Bühne für weibliche Handlungsfähigkeit: Italien und die Wiener Ursulinen\n–\nSeconda Parte \n  \n  \nMegumi Sakai\, Susanna\nShinyoung Kim\, Gabinio\nLucy Honor Witheley\, Massimino\nEmma Urriani\, Serena\nJonathan Nichtenberger\, Macedonio \nMDW BAROCKORCHESTER \nEugène Michelangeli\, Claviorganum und Leitung \n  \nKirche St. Ursula\, Eingang Johannesgasse 8 \nEintritt frei
URL:https://mdw.ac.at/altemusik/event/oratorio-di-st-ursula/
LOCATION:Kirche St. Ursula\, Johannesgasse 8\, WIen\, 1010\, Austria
CATEGORIES:mdw Barockorchester,Öffentlich,St. Ursula
ATTACH;FMTTYPE=image/jpeg:https://mdw.ac.at/altemusik/blog2/wp-content/uploads/2025/07/susanna-website-scaled-1.jpg
GEO:48.2042331;16.3737212
X-APPLE-STRUCTURED-LOCATION;VALUE=URI;X-ADDRESS=Kirche St. Ursula Johannesgasse 8 WIen 1010 Austria;X-APPLE-RADIUS=500;X-TITLE=Johannesgasse 8:geo:16.3737212,48.2042331
END:VEVENT
BEGIN:VEVENT
DTSTART;TZID=Europe/Vienna:20251015T173000
DTEND;TZID=Europe/Vienna:20251015T190000
DTSTAMP:20260424T011433
CREATED:20250925T092311Z
LAST-MODIFIED:20250925T095656Z
UID:17157-1760549400-1760554800@mdw.ac.at
SUMMARY:GOTTESDIENST | W. A. Mozart - Ursulinenmesse (Inst. 8)
DESCRIPTION:350 Jahre Kirche St. Ursula: Eröffnungsgottesdienst Gott in der Mitte\n  \nWir feiern das 350-jährige Bestehen der Kirche St. Ursula\, der Universitätskirche und einem kleinen Juwel im ersten Bezirk Wiens. Zu diesem besonderen Anlass laden wir zu zwei musikalischen Höhepunkten ein: Zur Aufführung der Ursulinenmesse von Wolfgang Amadeus Mozart sowie des Oratoriums Il Martirio di Santa Susanna des Wiener Hofkomponisten Carlo Agostino Badia. Mit diesen Festkonzerten möchten wir die lange Geschichte unserer Kirche würdigen und ihre Bedeutung als Ort der Spiritualität\, der Kultur und der Begegnung feiern. \nEine Kooperation des Institut für Orgel\, Orgelforschung und Kirchenmusik und des Institut für Alte Musik. \n  \nProgramm\nWolfgang Amadeus Mozart: Ursulinenmesse\, KV49 \nChor\, Soli und Orchester am Institut für Orgel\, Orgelforschung und Kirchenmusik der mdw\nLeitung: Studierende von Manuel Schuen und Sophia Khutsishvili\nZelebrant: Pater Günter Reitzi OP
URL:https://mdw.ac.at/altemusik/event/gottesdienst-ursulinenmesse-inst-8/
LOCATION:Kirche St. Ursula\, Johannesgasse 8\, WIen\, 1010\, Austria
CATEGORIES:Öffentlich,St. Ursula
ATTACH;FMTTYPE=image/jpeg:https://mdw.ac.at/altemusik/blog2/wp-content/uploads/2025/09/IMG_8045-scaled-e1758792483398.jpeg
GEO:48.2042331;16.3737212
X-APPLE-STRUCTURED-LOCATION;VALUE=URI;X-ADDRESS=Kirche St. Ursula Johannesgasse 8 WIen 1010 Austria;X-APPLE-RADIUS=500;X-TITLE=Johannesgasse 8:geo:16.3737212,48.2042331
END:VEVENT
BEGIN:VEVENT
DTSTART;TZID=Europe/Vienna:20250525T160000
DTEND;TZID=Europe/Vienna:20250525T173000
DTSTAMP:20260424T011433
CREATED:20250408T120712Z
LAST-MODIFIED:20250522T130941Z
UID:16662-1748188800-1748194200@mdw.ac.at
SUMMARY:MAIMUSIK | C.A. Badia – Il Martirio di Santa Susanna (1707)
DESCRIPTION:Das Martyrium der heiligen Susanna \nDas Ursulinenkloster in Wien\, von der Kaiserinwitwe Eleonora Gonzaga-Nevers (1628-1686) gegründet\, wird in den letzten Jahrzehnten des 17. Jahrhunderts zu einem bedeutenden Musikzentrum in Wien. \nDie Ursulinen\, sich der Erziehung und Bildung von Mädchen widmend\, setzen einen besonderen Schwerpunkt auf Musik und werden im Laufe der Zeit für die Qualität ihrer Aufführungen berühmt. \nDa die kaiserliche Familie auch häufig bei Festen des Ursulinenklosters anwesend war\, gibt es eine Reihe von Werken von Carlo Agostino Badia für diesen speziellen Aufführungsort im Herzens Wiens. Das „Oratorio di Santa Susanna“ wurde zum ersten Mal im Jahre 1707\, zum Fest der Heiligen Ursula am 21. Oktober\, aufgeführt. Nach mehr als 300 Jahren lässt das Institut für Alte Musik der mdw dieses barocke Juwel am Ort der Uraufführung wieder erklingen. \n  \nProgramm: \nCarlo Agostino BADIA (1672-1738): Il Martirio di Santa Susanna (1707)\nNach einem Libretto von Paolo Antonio DEL NEGRO (1666-1718) \n  \nMitwirkende: \nMegumi Sakai\, Susanna\nShinyoung Kim\, Gabinio\nLucy Honor Witheley\, Massimino\nLinda de Hooge\, Serena\nMaximilian Anger\, Macedonio \nMDW BAROCKORCHESTER\nJuan Pablo Parra Bedoya*\, Anna Pederielli\, Hiroyo Watanabe\, Jiaqi Xu\, Violino I\nManako Ito*\, Alexander Hinum\, Olesia Romaniv\, Violino II\nElisabeth Mair\, Olesia Romaniv\, Viola\nNikita Ruzhavinskii\, Jadwiga Roguska\, Violoncello\nKrištof Bálasz\, Violone\nDoHyeon Lee\, Cembalo\nAndre Almeida Ferreira\, Kamil Aniol\, Liuto \nEugène Michelangeli\, Claviorganum & Leitung \nKirche St. Ursula\, Eingang Johannesgasse 8 \nEintritt frei
URL:https://mdw.ac.at/altemusik/event/maimusik-c-a-badia-oratorio-di-santa-susanna-1707/
LOCATION:Kirche St. Ursula\, Johannesgasse 8\, WIen\, 1010\, Austria
CATEGORIES:MaiMusik 2025,mdw Barockorchester,Öffentlich
ATTACH;FMTTYPE=image/jpeg:https://mdw.ac.at/altemusik/blog2/wp-content/uploads/2025/04/susanna-website-scaled.jpg
GEO:48.2042331;16.3737212
X-APPLE-STRUCTURED-LOCATION;VALUE=URI;X-ADDRESS=Kirche St. Ursula Johannesgasse 8 WIen 1010 Austria;X-APPLE-RADIUS=500;X-TITLE=Johannesgasse 8:geo:16.3737212,48.2042331
END:VEVENT
BEGIN:VEVENT
DTSTART;TZID=Europe/Vienna:20241128T193000
DTEND;TZID=Europe/Vienna:20241128T203000
DTSTAMP:20260424T011433
CREATED:20240909T150601Z
LAST-MODIFIED:20241009T141221Z
UID:15813-1732822200-1732825800@mdw.ac.at
SUMMARY:KONZERT | Rappresentazioni sacre
DESCRIPTION:Itinerari dell’oratorio italiano nella Vienna fra Sei e Settecento\nEine Reise durch das italienische Oratorium im Wien des 17. und 18. Jahrhunderts\n  \n\n\n\nIm Rahmen der internationalen Konferenz „Die Tradition des italienischen Oratoriums im Wien des 17. und 18. Jahrhunderts“ an der Österreichischen Akademie der Wissenschaften präsentiert das Institut für Alte Musik der mdw eine Arien-Auswahl aus Wiener Oratorien dieser Zeit. \nEs spielen und singen Studierende des Instituts für Alte Musik und Gäste. \nMegumi SAKAI\, Elina VILUMA-HELLING\, Sopran\nHonor WHITELEY\, Alt\nSebastian TASCHNER\, Tenor\nMaximilian SCHNABEL\, Bass \nmdw Barockorchester \nEugène MICHELANGELI\, Claviorganum & Leitung \n  \nEintritt frei! \n  \nEine Zusammenarbeit mit der Österreichischen Akademie der Wissenschaften.
URL:https://mdw.ac.at/altemusik/event/konzert-componimenti-sacri/
LOCATION:Kirche St. Ursula\, Johannesgasse 8\, WIen\, 1010\, Austria
CATEGORIES:Konzert,mdw Barockorchester,Öffentlich,rappresentazioni
ATTACH;FMTTYPE=image/jpeg:https://mdw.ac.at/altemusik/blog2/wp-content/uploads/2024/02/Wien-Museum-Online-Sammlung-105765_20-scaled-e1708521574445.jpg
GEO:48.2042331;16.3737212
X-APPLE-STRUCTURED-LOCATION;VALUE=URI;X-ADDRESS=Kirche St. Ursula Johannesgasse 8 WIen 1010 Austria;X-APPLE-RADIUS=500;X-TITLE=Johannesgasse 8:geo:16.3737212,48.2042331
END:VEVENT
BEGIN:VEVENT
DTSTART;TZID=Europe/Vienna:20240607T220000
DTEND;TZID=Europe/Vienna:20240607T233000
DTSTAMP:20260424T011433
CREATED:20240426T133855Z
LAST-MODIFIED:20240426T134131Z
UID:15253-1717797600-1717803000@mdw.ac.at
SUMMARY:LANGE NACHT DER KIRCHEN | Blumenmesse
DESCRIPTION:Werke aus „Fiori Musicali“ und Auszüge aus der „Missa sopra la Monica“ von Girolamo Frescobaldi –\nVokalpolyphonie\, Gregorianischer Choral und Contrapunto alla Mente. \nStudierende der Orgelklasse von Jeremy Joseph\nCappella XXV unter Leitung von Iason Marmaras \nwww.langenachtderkirchen.at \n 
URL:https://mdw.ac.at/altemusik/event/lange-nacht-der-kirchen-blumenmesse/
LOCATION:Kirche St. Ursula\, Johannesgasse 8\, WIen\, 1010\, Austria
CATEGORIES:Konzert,Öffentlich
ATTACH;FMTTYPE=image/jpeg:https://mdw.ac.at/altemusik/blog2/wp-content/uploads/2024/04/45289-26-scaled.jpg
GEO:48.2042331;16.3737212
X-APPLE-STRUCTURED-LOCATION;VALUE=URI;X-ADDRESS=Kirche St. Ursula Johannesgasse 8 WIen 1010 Austria;X-APPLE-RADIUS=500;X-TITLE=Johannesgasse 8:geo:16.3737212,48.2042331
END:VEVENT
BEGIN:VEVENT
DTSTART;TZID=Europe/Vienna:20240505T160000
DTEND;TZID=Europe/Vienna:20240505T170000
DTSTAMP:20260424T011433
CREATED:20240319T223157Z
LAST-MODIFIED:20240425T180900Z
UID:15040-1714924800-1714928400@mdw.ac.at
SUMMARY:MAIMUSIK | C.A. Badia – Oratorio di Santa Teresa (1708)
DESCRIPTION:Die erste Wieder-Aufführung des barocken Juwels nach über 300 Jahren am Ort seiner Entstehung\nDas Ursulinenkloster in Wien\, von der Kaiserinwitwe Eleonora Gonzaga-Nevers (1628-1686) gegründet\, wird in den letzten Jahrzehnten des 17. Jahrhunderts zu einem bedeutenden Musikzentrum in Wien. \nDie Ursulinen\, sich der Erziehung und Bildung von Mädchen widmend\, setzen einen besonderen Schwerpunkt auf Musik und werden im Laufe der Zeit für die Qualität ihrer Aufführungen berühmt. \nDer jährliche Besuch des Kaisers am Tag der Heiligen Ursula (21. Oktober) bildet einen Höhepunkt dieser musikalischen Aktivitäten mit der Aufführung eines Oratoriums vor der Kaiserlichen Familie. Bei diesem Anlass wird 1708 das »Oratorio di Santa Teresa« mit Musik des Hofcompositeurs Carlo Agostino Badia (1672-1738) aufgeführt. Nach mehr als 300 Jahren lässt das Institut für Alte Musik der mdw dieses barocke Juwel am Ort der Uraufführung wieder erklingen. \nEinführungsvortrag am Do 2.5. um 19 Uhr im Rahmen der Vortragsreihe Conversazioni des Instituts für Alte Musik. \n  \nProgramm: \nCarlo Agostino BADIA (1672-1738): Oratorio di Santa Teresa (1708)\nNach einem Libretto von Pietro Andrea BERNARDONI (1672-1714) \n  \nBesetzung: \nSanta Teresa\, Megumi Sakai\nSancio\, Aliki Siousti\nLa Beatissima Vergine\, Lucy Honor Whiteley\nAlonso\, Clemens Seewald \n  \nmdw Barockorchester – mit Gästen der KUG (Graz) und MUK (Wien) \nSängerinnen und Sänger des Instituts für Alte Musik und anderer Institute \nEugène Michelangeli\, Claviorganum und Leitung \n  \nKirche St. Ursula\, Eingang Johannesgasse 8 \nEintritt frei
URL:https://mdw.ac.at/altemusik/event/maimusik-c-a-badia-oratorio-di-santa-teresa-1708/
LOCATION:Kirche St. Ursula\, Johannesgasse 8\, WIen\, 1010\, Austria
CATEGORIES:MaiMusik 2024,mdw Barockorchester,Öffentlich
ATTACH;FMTTYPE=image/jpeg:https://mdw.ac.at/altemusik/blog2/wp-content/uploads/2024/03/Santa-Teresa-©Francois-Gerard-4-3.jpg
GEO:48.2042331;16.3737212
X-APPLE-STRUCTURED-LOCATION;VALUE=URI;X-ADDRESS=Kirche St. Ursula Johannesgasse 8 WIen 1010 Austria;X-APPLE-RADIUS=500;X-TITLE=Johannesgasse 8:geo:16.3737212,48.2042331
END:VEVENT
BEGIN:VEVENT
DTSTART;TZID=Europe/Vienna:20221220T190000
DTEND;TZID=Europe/Vienna:20221220T203000
DTSTAMP:20260424T011433
CREATED:20220929T124614Z
LAST-MODIFIED:20221220T114841Z
UID:12288-1671562800-1671568200@mdw.ac.at
SUMMARY:STUDIENKONZERT | »Per Natale« – Weihnachtskonzert mit Musik des 17. Jahrhunderts
DESCRIPTION:Zum Ende der Adventszeit präsentieren Studierende der mdw deutsche und italienische Musik des 17. Jahrhunderts auf historischen Instrumenten. Mit Streichern\, Trompeten\, Posaunen\, Cembalo und historischer Orgel feiern wir den ausklingenden Advent und das herannahende Weihnachtsfest!\n\n\nEs spielen Studierende des Instituts für Alte Musik und des Instituts für Orgel\, Orgelforschung und Kirchenmusik. \n\n  \n  \nGirolamo Fantini\n(* 1600 in Spoleto; † 1675 in Florenz) \nDuett No. I aus Modo per imparare a sonare di tromba (Florenz 1638) \nJulian Ritsch\, Raphael Pouget\, Fabian Pichler\, Stefan Reinthaler\, Barocktrompete \n  \nJohann Jakob Froberger\n(* 1616 in Stuttgart; † 1667 auf Schloss Héricourt/Montbéliard) \nFantasia I sopra Ut Re Mi Fa Sol La\, FbWV 201 (Livre de 1649) \nJan Kopřiva\, Orgel \n  \nDaniel Speer\n(* 1636 in Breslau; † 1707 in Göppingen) \nSonata XVII à quattro Tromboni aus REcens FAbricatus LAbor\, oder Neu-gebachene Taffel-Schnitz (1685) \nHubert Trockenbacher\, Lukas Ludescher\, Ondřej Pavluš\, Jonathan Helm\, Posaune\nJohannes Weiss\, Orgel \n  \nGiovanni Battista Fontana\n(* 1589 in Brescia; † 1630 in Padua) \nSonata Prima aus Sonate a 1 2. 3. per il violino\, o cornetto\, fagotto\, chitarone\, violoncino o simile altro istromento (Venedig 1641) \nAnna Perl\, Violine\nArthur Jeszenszky\, Cembalo \n  \nDieterich Buxtehude\n(* um 1637 wahrscheinlich in Helsingborg;\n† 1707 in Lübeck)          \nPassacaglia in d-Moll\, BuxWV 160 \nKatharina Zauner\, Orgel \n  \nMatthias Weckmann\n(* um 1616 in Niederdorla; † 1674 in Hamburg) \nDialogus »Gegrüßet seist Du\, Holdselige« (1664) \nMascha Pysmenna\, Sopran\nBálint Németh\, Tenor\nFerdinand Slezák\, Anna Perl\, Violine\nSara Glanzer\, Viktoria Kremsl\, Blockflöte\nMihajlo Durđević\, Barockgitarre\nCharlène Bertholet\, Orgel\nJohannes Weiss\, Cembalo \n  \nDario Castello\n(* 1602 in Venedig; † 1631 ebenda)                      \nSonata Prima à Sopran solo\, aus Sonate concertate in stil moderno\, libro secondo (Venedig 1629) \nVeronica Böhm\, Violine\nJohannes Weiss\, Cembalo \n  \nHeinrich Ignaz Franz Biber\n(* 1644 in Wartenberg/Böhmen; † 1704 in Salzburg) \nSonata Nr. XII à 8\, aus Sonatae tam aris quam aulis servientes (Salzburg 1676) \nRaphael Pouget\, Julian Ritsch\, Barocktrompete\nYuewen Pan\, Ferdinand Slezák\, Violine\nTobias Treitner\, Magdalena Rychetsky\,\nWai Hei Chung\, Viola\nLorenz Haller\, Violoncello\nJohannes Weiss\, Orgel \n  \nMichelangelo Rossi\n(* 1601/2 in Genua; † 1656 in Rom) \nSettima Toccata\, aus Toccata e Correnti d‘Intavolatura d‘Organo e Cembalo (Rom 1657) \nGoetz Bienert\, Orgel \n  \nMarco Uccellini\n(* 1603 oder 1610 in Forlimpopoli bei Forlì;\n† 1680 ebenda)  \nSonata IX\, aus Sonate over Canzoni\, op. 5\n(Venedig 1649) \nFerdinand Slezák\, Violine\nJohannes Weiss\, Orgel \n  \nCarl Philipp Emanuel Bach\n(* 1714 in Weimar; † 1788 in Hamburg)            \nMarcia – »für die Arche«\, Wq 188\, aus einem Manuskript der Bibliothek des Conservatoire Royal de Musique Brüssel (nach 1767) \nRaphael Pouget\, Julian Ritsch\, Fabian Pichler\, Stefan Reinthaler\, Barocktrompete \n  \nHeinrich Schütz\n(* 1585 in Köstritz; † 1672 in Dresden)              \n»Es ging ein Sämann aus zu säen«\, SWV 408\, aus Symphoniae sacrae III (Dresden 1650) \n  \nFavorit-Chor: \nTabea Mitterbauer\, Sopran\nEmma Urriani\, Alt\nBálint Németh\, Tenor\nJunqian Chen\, Bass \nVeronica Böhm\, Yuewen Pan\, Violine\nFilippo Fraghí\, Bass-Dulzian\nJohannes Weiss\, Cembalo \n  \nComplementum: \nMascha Pysmenna\, Sopran\nSara Glanzer\, Alt\nEugène Michelangeli\, Iason Marmaras\, Tenor \nPhilipp Fink\, Zink\nHubert Trockenbacher\, Ondřej Pavluš\,\nJonathan Helm\, Posaune\nCharlène Bertholet\, Orgel
URL:https://mdw.ac.at/altemusik/event/studienkonzert-per-natale-weihnachtskonzert-mit-musik-des-17-jahrhunderts/
LOCATION:Kirche St. Ursula\, Johannesgasse 8\, WIen\, 1010\, Austria
CATEGORIES:Konzert,Öffentlich,Studienkonzert
ATTACH;FMTTYPE=image/jpeg:https://mdw.ac.at/altemusik/blog2/wp-content/uploads/2022/09/webacc.jpg
GEO:48.2042331;16.3737212
X-APPLE-STRUCTURED-LOCATION;VALUE=URI;X-ADDRESS=Kirche St. Ursula Johannesgasse 8 WIen 1010 Austria;X-APPLE-RADIUS=500;X-TITLE=Johannesgasse 8:geo:16.3737212,48.2042331
END:VEVENT
BEGIN:VEVENT
DTSTART;TZID=Europe/Vienna:20220502T190000
DTEND;TZID=Europe/Vienna:20220502T203000
DTSTAMP:20260424T011433
CREATED:20220331T095711Z
LAST-MODIFIED:20220428T125640Z
UID:11487-1651518000-1651523400@mdw.ac.at
SUMMARY:CARPE IMPRO 12 | Konzert | Die Gedächtniskunst: Gesang des Mittelalters und der Renaissance
DESCRIPTION:Das Institut für Orgel\, Orgelforschung und Kirchenmusik\, das Institut für Alte Musik und das Institut für Musik- und Bewegungspädagogik/Rhythmik sowie Musikphysiologie der mdw laden ein zum jährlichen Improvisations-Event CARPE IMPRO 12 – Improvisieren im Renaissance-Stil (Chanter sur le livre). \n  \nKonzert \nDie Gedächtniskunst: Gesang des Mittelalters und der Renaissance\nVokalensemble COCLICO (Frankreich)
URL:https://mdw.ac.at/altemusik/event/carpe-impro-12-konzert-die-gedachtniskunst-gesang-des-mittelalters-und-der-renaissance/
LOCATION:Kirche St. Ursula\, Johannesgasse 8\, WIen\, 1010\, Austria
CATEGORIES:Carpe Impro,Öffentlich
ATTACH;FMTTYPE=image/jpeg:https://mdw.ac.at/altemusik/blog2/wp-content/uploads/2022/03/22_Carpe-Impro_va_kalender.jpg
GEO:48.2042331;16.3737212
X-APPLE-STRUCTURED-LOCATION;VALUE=URI;X-ADDRESS=Kirche St. Ursula Johannesgasse 8 WIen 1010 Austria;X-APPLE-RADIUS=500;X-TITLE=Johannesgasse 8:geo:16.3737212,48.2042331
END:VEVENT
BEGIN:VEVENT
DTSTART;TZID=Europe/Vienna:20220425T090000
DTEND;TZID=Europe/Vienna:20220425T120000
DTSTAMP:20260424T011433
CREATED:20220331T095356Z
LAST-MODIFIED:20220331T095356Z
UID:11484-1650877200-1650888000@mdw.ac.at
SUMMARY:CARPE IMPRO 12 | Workshops: Einführung
DESCRIPTION:Das Institut für Orgel\, Orgelforschung und Kirchenmusik\, das Institut für Alte Musik und das Institut für Musik- und Bewegungspädagogik/Rhythmik sowie Musikphysiologie der mdw laden ein zum jährlichen Improvisations-Event CARPE IMPRO 12 – Improvisieren im Renaissance-Stil (Chanter sur le livre). \nWorkshops mit Gastdozent Barnabé JANIN\, Konservatorium Lyon (CNSMD)
URL:https://mdw.ac.at/altemusik/event/carpe-impro-12-workshops-einfuhrung/
LOCATION:Kirche St. Ursula\, Johannesgasse 8\, WIen\, 1010\, Austria
CATEGORIES:Carpe Impro
ATTACH;FMTTYPE=image/jpeg:https://mdw.ac.at/altemusik/blog2/wp-content/uploads/2022/03/22_Carpe-Impro_va_kalender.jpg
GEO:48.2042331;16.3737212
X-APPLE-STRUCTURED-LOCATION;VALUE=URI;X-ADDRESS=Kirche St. Ursula Johannesgasse 8 WIen 1010 Austria;X-APPLE-RADIUS=500;X-TITLE=Johannesgasse 8:geo:16.3737212,48.2042331
END:VEVENT
BEGIN:VEVENT
DTSTART;TZID=Europe/Vienna:20210610T190000
DTEND;TZID=Europe/Vienna:20210610T203000
DTSTAMP:20260424T011433
CREATED:20210601T135304Z
LAST-MODIFIED:20210601T135433Z
UID:9823-1623351600-1623357000@mdw.ac.at
SUMMARY:ÖFFENTLICHE MASTERPRÜFUNG Inst. 8 | Juliane KATHARY\, Kyunghee Sophie LEE
DESCRIPTION:Öffentliche Masterprüfung Kirchenmusik\, Chorleitung und Ensembleleitung (Inst. 8)\nOnline Veranstaltung – Anmeldung erforderlich unter ritter@mdw.ac.at \n  \nJohann Sebastian BACH (1685 – 1750)\nIch hatte viel Bekümmernis BWV 21 \n  \nNicolaus BRUHNS (1665 – 1697)\nMuss nicht der Mensch auf dieser Erden \n  \nMomoko Nakajima\, Sopran\nMegan Kahts\, Alt\nBernd Fröhlich\, Tenor\nMarcell Krokovay\, Bass \nChor und Orchester der Studienrichtung Kirchenmusik \nChristian David Karl\, Orgelpositiv \nJuliane Kathary\, Kyunghee Sophie Lee\, Leitung
URL:https://mdw.ac.at/altemusik/event/offentliche-masterprufung-inst-8-juliane-kathary-kyunghee-sophie-lee/
LOCATION:Kirche St. Ursula\, Johannesgasse 8\, WIen\, 1010\, Austria
CATEGORIES:Öffentlich
ATTACH;FMTTYPE=image/jpeg:https://mdw.ac.at/altemusik/blog2/wp-content/uploads/2021/06/Ursulinenkirche.jpg
GEO:48.2042331;16.3737212
X-APPLE-STRUCTURED-LOCATION;VALUE=URI;X-ADDRESS=Kirche St. Ursula Johannesgasse 8 WIen 1010 Austria;X-APPLE-RADIUS=500;X-TITLE=Johannesgasse 8:geo:16.3737212,48.2042331
END:VEVENT
BEGIN:VEVENT
DTSTART;TZID=Europe/Vienna:20200512T190000
DTEND;TZID=Europe/Vienna:20200512T210000
DTSTAMP:20260424T011433
CREATED:20200119T162617Z
LAST-MODIFIED:20200422T113552Z
UID:6060-1589310000-1589317200@mdw.ac.at
SUMMARY:ABGESAGT! | KONZERT | »La Grande Bellezza« – Alte Musik in Sankt Ursula
DESCRIPTION:Die Entwicklung der Musik im 17. Jahrhundert ist eine höchst spannungsvolle Reise. Ausgehend von der italienischen Renaissance entstehen Kompositionen\, die sich bald grundlegend vom „alten Stil“ abheben werden.\nDas\, was wir heute „Barock“ nennen\, entsteht und nimmt Form an: Die Instrumentalmusik verselbständigt sich und löst sich von der Vokalmusik. Die Vokalmusik selbst löst sich von bisher geltendem Regelwerk und der verzierte Solo-Gesang etabliert sich mehr und mehr.\nDas Konzert ist zugleich auch ein geographischer Streifzug\, von Norditalien über Süddeutschland und Böhmen nach Wien. zu hören sein wird vor allem eher selten aufgeführte Musik\, allesamt großartige Raritäten aus europäischen Musiksammlungen. Ein herrlicher Ausflug ins Unbekannte! \nVokal- und Instrumentalmusik von C. Monteverdi (1567 – 1643)\, P. Quagliati (um 1555 – 1628)\, G.A. Rigatti (um 1613 – 1648)\, D. Castello (1602 – 1631)\, J.C. Kerll (1627 – 1693)\, A. Caldara (1670 – 1737) und anderen\, auf historischen Instrumenten gespielt.\nMit Studierenden der Aufführungspraxis-Klasse Johannes Weiss und der Orgelklasse Prof. Pier Damiano Peretti.
URL:https://mdw.ac.at/altemusik/event/konzert-alte-musik/
LOCATION:Kirche St. Ursula\, Johannesgasse 8\, WIen\, 1010\, Austria
CATEGORIES:Öffentlich
ATTACH;FMTTYPE=image/jpeg:https://mdw.ac.at/altemusik/blog2/wp-content/uploads/2020/01/st.ursula_seilerstaette_c_daniel_willinger_orig.jpg
GEO:48.2042331;16.3737212
X-APPLE-STRUCTURED-LOCATION;VALUE=URI;X-ADDRESS=Kirche St. Ursula Johannesgasse 8 WIen 1010 Austria;X-APPLE-RADIUS=500;X-TITLE=Johannesgasse 8:geo:16.3737212,48.2042331
END:VEVENT
BEGIN:VEVENT
DTSTART;TZID=Europe/Vienna:20191106T193000
DTEND;TZID=Europe/Vienna:20191106T213000
DTSTAMP:20260424T011433
CREATED:20190815T102133Z
LAST-MODIFIED:20191101T174330Z
UID:3825-1573068600-1573075800@mdw.ac.at
SUMMARY:Cantare nel Gravicembalo | KONZERT | Kursteilnehmer_innen
DESCRIPTION:
URL:https://mdw.ac.at/altemusik/event/cantare-nel-gravicembalo-konzert-kursteilnehmer_innen/
LOCATION:Kirche St. Ursula\, Johannesgasse 8\, WIen\, 1010\, Austria
CATEGORIES:Öffentlich
ATTACH;FMTTYPE=image/jpeg:https://mdw.ac.at/altemusik/blog2/wp-content/uploads/2019/08/cantare.jpeg
GEO:48.2042331;16.3737212
X-APPLE-STRUCTURED-LOCATION;VALUE=URI;X-ADDRESS=Kirche St. Ursula Johannesgasse 8 WIen 1010 Austria;X-APPLE-RADIUS=500;X-TITLE=Johannesgasse 8:geo:16.3737212,48.2042331
END:VEVENT
BEGIN:VEVENT
DTSTART;TZID=Europe/Vienna:20191105T193000
DTEND;TZID=Europe/Vienna:20191105T213000
DTSTAMP:20260424T011433
CREATED:20190815T101732Z
LAST-MODIFIED:20191105T181904Z
UID:3817-1572982200-1572989400@mdw.ac.at
SUMMARY:Cantare nel Gravicembalo | KONZERT | Elam Rotem /Jacob Lawrence
DESCRIPTION:„Misericordiae Domini“ – Werke von F. Anerio\, Carlo G.\, Cl. Monteverdi\, O. Durante\, E. de’ Cavalieri u.a.\nElam Rotem (Basel) /Jacob Lawrence (Basel)
URL:https://mdw.ac.at/altemusik/event/cantare-nel-gravicembalo-konzert-elam-rotem-jacob-lawrence/
LOCATION:Kirche St. Ursula\, Johannesgasse 8\, WIen\, 1010\, Austria
CATEGORIES:Öffentlich
ATTACH;FMTTYPE=image/jpeg:https://mdw.ac.at/altemusik/blog2/wp-content/uploads/2019/08/cantare.jpeg
GEO:48.2042331;16.3737212
X-APPLE-STRUCTURED-LOCATION;VALUE=URI;X-ADDRESS=Kirche St. Ursula Johannesgasse 8 WIen 1010 Austria;X-APPLE-RADIUS=500;X-TITLE=Johannesgasse 8:geo:16.3737212,48.2042331
END:VEVENT
END:VCALENDAR