BEGIN:VCALENDAR
VERSION:2.0
PRODID:-//Early Music Department - ECPv6.15.17.1//NONSGML v1.0//EN
CALSCALE:GREGORIAN
METHOD:PUBLISH
X-WR-CALNAME:Early Music Department
X-ORIGINAL-URL:https://mdw.ac.at/altemusik
X-WR-CALDESC:Veranstaltungen für Early Music Department
REFRESH-INTERVAL;VALUE=DURATION:PT1H
X-Robots-Tag:noindex
X-PUBLISHED-TTL:PT1H
BEGIN:VTIMEZONE
TZID:Europe/Vienna
BEGIN:DAYLIGHT
TZOFFSETFROM:+0100
TZOFFSETTO:+0200
TZNAME:CEST
DTSTART:20250330T010000
END:DAYLIGHT
BEGIN:STANDARD
TZOFFSETFROM:+0200
TZOFFSETTO:+0100
TZNAME:CET
DTSTART:20251026T010000
END:STANDARD
BEGIN:DAYLIGHT
TZOFFSETFROM:+0100
TZOFFSETTO:+0200
TZNAME:CEST
DTSTART:20260329T010000
END:DAYLIGHT
BEGIN:STANDARD
TZOFFSETFROM:+0200
TZOFFSETTO:+0100
TZNAME:CET
DTSTART:20261025T010000
END:STANDARD
BEGIN:DAYLIGHT
TZOFFSETFROM:+0100
TZOFFSETTO:+0200
TZNAME:CEST
DTSTART:20270328T010000
END:DAYLIGHT
BEGIN:STANDARD
TZOFFSETFROM:+0200
TZOFFSETTO:+0100
TZNAME:CET
DTSTART:20271031T010000
END:STANDARD
END:VTIMEZONE
BEGIN:VEVENT
DTSTART;TZID=Europe/Vienna:20260509T160000
DTEND;TZID=Europe/Vienna:20260509T170000
DTSTAMP:20260423T154748
CREATED:20260409T081046Z
LAST-MODIFIED:20260415T134418Z
UID:19106-1778342400-1778346000@mdw.ac.at
SUMMARY:MAIMUSIK | Aufforderung zum Tanze!
DESCRIPTION:Aufforderung zum Tanze\nAnlässlich des 200. Todestages von Carl Maria von Weber wird ein ganzes Konzert seinen bedeutendsten und außergewöhnlichsten Werken gewidmet. \n  \nProgramm: \nCarl Maria von Weber (* 1786 in Eutin; † 1826 in London)\nSonate für Klavier und Violine\, op.10 (b). Nr. 2\nCarattere espagnuolo. Moderato – Adagio – Air Polonais. Rondo Allegro\nAnna Pederielli\, Violine\nJuliana Zhao\, Hammerflügel\n\nMichael haydn (* 1737 in Rohrau; † 1806 in Salzburg)\nKlavierstück in Es-Dur\, MH 468\nStefano Coco\, Hammerflügel\n\nCarl Maria von Weber\naus Der Freischütz\, op. 77\n„Einst träumte meiner sel’gen Base“\nMegumi Sakai\, Sopran\nRisa Shimizu\, Hammerflügel\n\nAufforderung zum Tanze\, op.65\nYinqi Wang\, Hammerklavier\n\nTrio für Flöte\, Violoncello und Klavier\, op.63\nAllegro moderato – Scherzo. Allegro vivace – Schäfers Klage. Andante espressivo – Finale. Allegro\nDaniel Wolf\, Klappenflöte\nLisa Braun\, Violoncello\nBenedikt Holter\, Hammerflügel
URL:https://mdw.ac.at/altemusik/event/maimusik-aufforderung-zum-tanze/
LOCATION:Konzertsaal FAL\, Anton-von-Webern-Platz 1\, Wien\, 1030\, Austria
CATEGORIES:MaiMusik 2026,Öffentlich
ATTACH;FMTTYPE=image/jpeg:https://mdw.ac.at/altemusik/blog2/wp-content/uploads/2026/04/3_Weber_43.jpg
GEO:48.2024634;16.3846447
X-APPLE-STRUCTURED-LOCATION;VALUE=URI;X-ADDRESS=Konzertsaal FAL Anton-von-Webern-Platz 1 Wien 1030 Austria;X-APPLE-RADIUS=500;X-TITLE=Anton-von-Webern-Platz 1:geo:16.3846447,48.2024634
END:VEVENT
END:VCALENDAR